BEGIN:VCALENDAR
VERSION:2.0
PRODID:-//jEvents 2.0 for Joomla//EN
CALSCALE:GREGORIAN
METHOD:PUBLISH
BEGIN:VTIMEZONE
TZID:Europe/Prague
BEGIN:STANDARD
DTSTART:20230323T090000
RDATE:20230326T030000
TZOFFSETFROM:+0200
TZOFFSETTO:+0100
TZNAME:Europe/Prague CET
END:STANDARD
BEGIN:STANDARD
DTSTART:20231029T020000
RDATE:20240331T030000
TZOFFSETFROM:+0200
TZOFFSETTO:+0100
TZNAME:Europe/Prague CET
END:STANDARD
BEGIN:STANDARD
DTSTART:20241027T020000
RDATE:20250330T030000
TZOFFSETFROM:+0200
TZOFFSETTO:+0100
TZNAME:Europe/Prague CET
END:STANDARD
BEGIN:STANDARD
DTSTART:20251026T020000
RDATE:20260329T030000
TZOFFSETFROM:+0200
TZOFFSETTO:+0100
TZNAME:Europe/Prague CET
END:STANDARD
BEGIN:STANDARD
DTSTART:20261025T020000
RDATE:20270328T030000
TZOFFSETFROM:+0200
TZOFFSETTO:+0100
TZNAME:Europe/Prague CET
END:STANDARD
BEGIN:STANDARD
DTSTART:20271031T020000
RDATE:20280326T030000
TZOFFSETFROM:+0200
TZOFFSETTO:+0100
TZNAME:Europe/Prague CET
END:STANDARD
BEGIN:STANDARD
DTSTART:20281029T020000
RDATE:20290325T030000
TZOFFSETFROM:+0200
TZOFFSETTO:+0100
TZNAME:Europe/Prague CET
END:STANDARD
BEGIN:STANDARD
DTSTART:20291028T020000
RDATE:20300331T030000
TZOFFSETFROM:+0200
TZOFFSETTO:+0100
TZNAME:Europe/Prague CET
END:STANDARD
BEGIN:STANDARD
DTSTART:20301027T020000
RDATE:20310330T030000
TZOFFSETFROM:+0200
TZOFFSETTO:+0100
TZNAME:Europe/Prague CET
END:STANDARD
BEGIN:STANDARD
DTSTART:20311026T020000
RDATE:20320328T030000
TZOFFSETFROM:+0200
TZOFFSETTO:+0100
TZNAME:Europe/Prague CET
END:STANDARD
BEGIN:DAYLIGHT
DTSTART:20230326T030000
RDATE:20231029T020000
TZOFFSETFROM:+0100
TZOFFSETTO:+0200
TZNAME:Europe/Prague CEST
END:DAYLIGHT
BEGIN:DAYLIGHT
DTSTART:20240331T030000
RDATE:20241027T020000
TZOFFSETFROM:+0100
TZOFFSETTO:+0200
TZNAME:Europe/Prague CEST
END:DAYLIGHT
BEGIN:DAYLIGHT
DTSTART:20250330T030000
RDATE:20251026T020000
TZOFFSETFROM:+0100
TZOFFSETTO:+0200
TZNAME:Europe/Prague CEST
END:DAYLIGHT
BEGIN:DAYLIGHT
DTSTART:20260329T030000
RDATE:20261025T020000
TZOFFSETFROM:+0100
TZOFFSETTO:+0200
TZNAME:Europe/Prague CEST
END:DAYLIGHT
BEGIN:DAYLIGHT
DTSTART:20270328T030000
RDATE:20271031T020000
TZOFFSETFROM:+0100
TZOFFSETTO:+0200
TZNAME:Europe/Prague CEST
END:DAYLIGHT
BEGIN:DAYLIGHT
DTSTART:20280326T030000
RDATE:20281029T020000
TZOFFSETFROM:+0100
TZOFFSETTO:+0200
TZNAME:Europe/Prague CEST
END:DAYLIGHT
BEGIN:DAYLIGHT
DTSTART:20290325T030000
RDATE:20291028T020000
TZOFFSETFROM:+0100
TZOFFSETTO:+0200
TZNAME:Europe/Prague CEST
END:DAYLIGHT
BEGIN:DAYLIGHT
DTSTART:20300331T030000
RDATE:20301027T020000
TZOFFSETFROM:+0100
TZOFFSETTO:+0200
TZNAME:Europe/Prague CEST
END:DAYLIGHT
BEGIN:DAYLIGHT
DTSTART:20310330T030000
RDATE:20311026T020000
TZOFFSETFROM:+0100
TZOFFSETTO:+0200
TZNAME:Europe/Prague CEST
END:DAYLIGHT
END:VTIMEZONE
BEGIN:VEVENT
UID:6a4086c126aaca6a67dee156d48fbb3b
CATEGORIES:Burzy
CREATED:20240321T142757
SUMMARY:Entomologická burza České Budějovice
LOCATION:České Budějovice\, Česká republika
DESCRIPTION:Společenský sál Borek u Českých Budějovic, Pražská 20. Entomologická burza 
 (The Insect´s exhibition - Die Insektenbörse) České Budějovice.\nInformace 
 na mob.: +420 720 685 088, pí Jaroslava Hančová, e-mail:  (mailto:HancovaJa
 rka@email.cz) (mailto:hancovajarka@email.cz)Tato e-mailová adresa je chráně
 na před spamboty. Pro její zobrazení musíte mít povolen Javascript. \nFaceb
 ook: https://m.facebook.com/ENTOCB (https://m.facebook.com/ENTOCB)\n
X-ALT-DESC;FMTTYPE=text/html:<p><strong>Společenský sál Borek u Českých Budějovic, </strong>Pražská 20. 
 Entomologická burza (The Insect´s exhibition - Die Insektenbörse) České Bud
 ějovice.</p><p>Informace na mob.: <strong>+420 720 685 088</strong>, pí Jar
 oslava Hančová, e-mail:&nbsp;<a href="mailto:HancovaJarka@email.cz"></a><a 
 href="mailto:hancovajarka@email.cz"></a><joomla-hidden-mail  is-link="" is-
 email="1" first="aGFuY292YWphcmth" last="ZW1haWwuY3o=" text="aGFuY292YWphcm
 thQGVtYWlsLmN6" base="" >Tato e-mailová adresa je chráněna před spamboty. P
 ro její zobrazení musíte mít povolen Javascript.</joomla-hidden-mail>&nbsp;
 </p><p>Facebook: <a href="https://m.facebook.com/ENTOCB">https://m.facebook
 .com/ENTOCB</a></p>
CONTACT:Jaroslava Hančová, mobil: +420 720 685 088, e-mail: Tato e-mailová adresa je chráněna před spamboty. Pro její zobrazení musíte mít povolen Javascript. 
DTSTAMP:20260419T222016
DTSTART;TZID=Europe/Prague:20240323T090000
DTEND;TZID=Europe/Prague:20240323T130000
SEQUENCE:0
TRANSP:OPAQUE
END:VEVENT
END:VCALENDAR