BEGIN:VCALENDAR
VERSION:2.0
PRODID:-//jEvents 2.0 for Joomla//EN
CALSCALE:GREGORIAN
METHOD:PUBLISH
BEGIN:VTIMEZONE
TZID:Europe/Prague
BEGIN:STANDARD
DTSTART:20241205T080000
RDATE:20250330T030000
TZOFFSETFROM:+0200
TZOFFSETTO:+0100
TZNAME:Europe/Prague CET
END:STANDARD
BEGIN:STANDARD
DTSTART:20251026T020000
RDATE:20260329T030000
TZOFFSETFROM:+0200
TZOFFSETTO:+0100
TZNAME:Europe/Prague CET
END:STANDARD
BEGIN:STANDARD
DTSTART:20261025T020000
RDATE:20270328T030000
TZOFFSETFROM:+0200
TZOFFSETTO:+0100
TZNAME:Europe/Prague CET
END:STANDARD
BEGIN:STANDARD
DTSTART:20271031T020000
RDATE:20280326T030000
TZOFFSETFROM:+0200
TZOFFSETTO:+0100
TZNAME:Europe/Prague CET
END:STANDARD
BEGIN:STANDARD
DTSTART:20281029T020000
RDATE:20290325T030000
TZOFFSETFROM:+0200
TZOFFSETTO:+0100
TZNAME:Europe/Prague CET
END:STANDARD
BEGIN:STANDARD
DTSTART:20291028T020000
RDATE:20300331T030000
TZOFFSETFROM:+0200
TZOFFSETTO:+0100
TZNAME:Europe/Prague CET
END:STANDARD
BEGIN:STANDARD
DTSTART:20301027T020000
RDATE:20310330T030000
TZOFFSETFROM:+0200
TZOFFSETTO:+0100
TZNAME:Europe/Prague CET
END:STANDARD
BEGIN:STANDARD
DTSTART:20311026T020000
RDATE:20320328T030000
TZOFFSETFROM:+0200
TZOFFSETTO:+0100
TZNAME:Europe/Prague CET
END:STANDARD
BEGIN:DAYLIGHT
DTSTART:20250330T030000
RDATE:20251026T020000
TZOFFSETFROM:+0100
TZOFFSETTO:+0200
TZNAME:Europe/Prague CEST
END:DAYLIGHT
BEGIN:DAYLIGHT
DTSTART:20260329T030000
RDATE:20261025T020000
TZOFFSETFROM:+0100
TZOFFSETTO:+0200
TZNAME:Europe/Prague CEST
END:DAYLIGHT
BEGIN:DAYLIGHT
DTSTART:20270328T030000
RDATE:20271031T020000
TZOFFSETFROM:+0100
TZOFFSETTO:+0200
TZNAME:Europe/Prague CEST
END:DAYLIGHT
BEGIN:DAYLIGHT
DTSTART:20280326T030000
RDATE:20281029T020000
TZOFFSETFROM:+0100
TZOFFSETTO:+0200
TZNAME:Europe/Prague CEST
END:DAYLIGHT
BEGIN:DAYLIGHT
DTSTART:20290325T030000
RDATE:20291028T020000
TZOFFSETFROM:+0100
TZOFFSETTO:+0200
TZNAME:Europe/Prague CEST
END:DAYLIGHT
BEGIN:DAYLIGHT
DTSTART:20300331T030000
RDATE:20301027T020000
TZOFFSETFROM:+0100
TZOFFSETTO:+0200
TZNAME:Europe/Prague CEST
END:DAYLIGHT
BEGIN:DAYLIGHT
DTSTART:20310330T030000
RDATE:20311026T020000
TZOFFSETFROM:+0100
TZOFFSETTO:+0200
TZNAME:Europe/Prague CEST
END:DAYLIGHT
END:VTIMEZONE
BEGIN:VEVENT
UID:7230d25b3d7741fe9932ef0490beabc8
CATEGORIES:Burzy, Výstavy
CREATED:20250122T155025
SUMMARY:Mezinárodní setkání sběratelů a chovatelů brouků, motýlů a ostatních skupin hmyzu Bratislava
LOCATION:Bratislava\, SK
DESCRIPTION:Areál Slovenské akademie věd na Patrónke, Dúbravská cesta, Bratislava od 8 
 -12 hod.\nMezinárodní setkání sběratelů a chovatelů brouků, motýlů a ostatn
 ích skupin hmyzu. Samozřejmě nákup, prodej odborné literatury a entomologic
 kých potřeb.\nInformace na mob.: 00421 907 274 379, Ing. Karol Hlavenka, e-
 mail:  (mailto:rpspma@stonline.sk)Tato e-mailová adresa je chráněna před sp
 amboty. Pro její zobrazení musíte mít povolen Javascript.\n
X-ALT-DESC;FMTTYPE=text/html:<p>Areál <strong>Slovenské akademie věd </strong><strong>na Patrónke</stron
 g>, Dúbravská cesta, Bratislava od 8 -12 hod.</p><p>Mezinárodní setkání sbě
 ratelů a chovatelů brouků, motýlů a ostatních skupin hmyzu. Samozřejmě náku
 p, prodej odborné literatury a entomologických potřeb.</p><p>Informace na&n
 bsp;mob.: <strong>00421 907 274 379</strong>, Ing. Karol Hlavenka, e-mail: 
 <a href="mailto:rpspma@stonline.sk"></a><joomla-hidden-mail  is-link="" is-
 email="1" first="cnBzcG1h" last="c3RvbmxpbmUuc2s=" text="cnBzcG1hQHN0b25saW
 5lLnNr" base="" >Tato e-mailová adresa je chráněna před spamboty. Pro její 
 zobrazení musíte mít povolen Javascript.</joomla-hidden-mail></p>
CONTACT:Ing. Karol Hlavenka, mobil: +421 907 274 379, e-mail: Tato e-mailová adresa je chráněna před spamboty. Pro její zobrazení musíte mít povolen Javascript.
DTSTAMP:20260419T221951
DTSTART;TZID=Europe/Prague:20251206T080000
DTEND;TZID=Europe/Prague:20251206T120000
SEQUENCE:0
TRANSP:OPAQUE
END:VEVENT
END:VCALENDAR