BEGIN:VCALENDAR
VERSION:2.0
PRODID:-//jEvents 2.0 for Joomla//EN
CALSCALE:GREGORIAN
METHOD:PUBLISH
BEGIN:VTIMEZONE
TZID:Europe/Prague
BEGIN:STANDARD
DTSTART:20241031T120000
RDATE:20250330T030000
TZOFFSETFROM:+0200
TZOFFSETTO:+0100
TZNAME:Europe/Prague CET
END:STANDARD
BEGIN:STANDARD
DTSTART:20251026T020000
RDATE:20260329T030000
TZOFFSETFROM:+0200
TZOFFSETTO:+0100
TZNAME:Europe/Prague CET
END:STANDARD
BEGIN:STANDARD
DTSTART:20261025T020000
RDATE:20270328T030000
TZOFFSETFROM:+0200
TZOFFSETTO:+0100
TZNAME:Europe/Prague CET
END:STANDARD
BEGIN:STANDARD
DTSTART:20271031T020000
RDATE:20280326T030000
TZOFFSETFROM:+0200
TZOFFSETTO:+0100
TZNAME:Europe/Prague CET
END:STANDARD
BEGIN:STANDARD
DTSTART:20281029T020000
RDATE:20290325T030000
TZOFFSETFROM:+0200
TZOFFSETTO:+0100
TZNAME:Europe/Prague CET
END:STANDARD
BEGIN:STANDARD
DTSTART:20291028T020000
RDATE:20300331T030000
TZOFFSETFROM:+0200
TZOFFSETTO:+0100
TZNAME:Europe/Prague CET
END:STANDARD
BEGIN:STANDARD
DTSTART:20301027T020000
RDATE:20310330T030000
TZOFFSETFROM:+0200
TZOFFSETTO:+0100
TZNAME:Europe/Prague CET
END:STANDARD
BEGIN:STANDARD
DTSTART:20311026T020000
RDATE:20320328T030000
TZOFFSETFROM:+0200
TZOFFSETTO:+0100
TZNAME:Europe/Prague CET
END:STANDARD
BEGIN:DAYLIGHT
DTSTART:20250330T030000
RDATE:20251026T020000
TZOFFSETFROM:+0100
TZOFFSETTO:+0200
TZNAME:Europe/Prague CEST
END:DAYLIGHT
BEGIN:DAYLIGHT
DTSTART:20260329T030000
RDATE:20261025T020000
TZOFFSETFROM:+0100
TZOFFSETTO:+0200
TZNAME:Europe/Prague CEST
END:DAYLIGHT
BEGIN:DAYLIGHT
DTSTART:20270328T030000
RDATE:20271031T020000
TZOFFSETFROM:+0100
TZOFFSETTO:+0200
TZNAME:Europe/Prague CEST
END:DAYLIGHT
BEGIN:DAYLIGHT
DTSTART:20280326T030000
RDATE:20281029T020000
TZOFFSETFROM:+0100
TZOFFSETTO:+0200
TZNAME:Europe/Prague CEST
END:DAYLIGHT
BEGIN:DAYLIGHT
DTSTART:20290325T030000
RDATE:20291028T020000
TZOFFSETFROM:+0100
TZOFFSETTO:+0200
TZNAME:Europe/Prague CEST
END:DAYLIGHT
BEGIN:DAYLIGHT
DTSTART:20300331T030000
RDATE:20301027T020000
TZOFFSETFROM:+0100
TZOFFSETTO:+0200
TZNAME:Europe/Prague CEST
END:DAYLIGHT
BEGIN:DAYLIGHT
DTSTART:20310330T030000
RDATE:20311026T020000
TZOFFSETFROM:+0100
TZOFFSETTO:+0200
TZNAME:Europe/Prague CEST
END:DAYLIGHT
END:VTIMEZONE
BEGIN:VEVENT
UID:bf10517ee99d4c7555684cf77231460b
CATEGORIES:Burzy, Přednášky
CREATED:20250122T160030
SUMMARY:Mezinárodní výměna hmyzu ve Frankfurtu nad Mohanem
LOCATION:Frankfurt am Main\, DE
DESCRIPTION:Internationale Insektentauschbörse Frankfurt\n1.11.2025 12:00 - 18:00 - 2.1
 1.2025 09:00 - 14:00\nTitusforum des Nordwestzentrums (Walter-Möller-Platz 
 2, 60439 Frankfurt am Main)\nParkplätze befinden sich im dieser Einkaufspas
 sage, zum Wiederfinden des Autos die Nummer und Farbe des Parkplatzes merke
 n\nWeitere Infos (z. B. Börsenordnung) gibt es hier: Entomologischer Verein
  Apollo e. V. | Insektenbörse (apollo-frankfurt.de) (http://www.apollo-fran
 kfurt.de/de/events/index.html)\n
X-ALT-DESC;FMTTYPE=text/html:<p>Internationale Insektentauschbörse Frankfurt</p><p>1.11.2025 12:00 - 18:
 00 - 2.11.2025 09:00 - 14:00</p><p>Titusforum des Nordwestzentrums (Walter-
 Möller-Platz 2, 60439 Frankfurt am Main)</p><p>Parkplätze befinden sich im 
 dieser Einkaufspassage, zum Wiederfinden des Autos die Nummer und Farbe des
  Parkplatzes merken</p><p>Weitere Infos (z. B. Börsenordnung) gibt es hier:
  <a href="http://www.apollo-frankfurt.de/de/events/index.html" target="_bla
 nk" rel="nofollow noopener noreferrer ugc" class="externalURL">Entomologisc
 her Verein Apollo e. V. | Insektenbörse (apollo-frankfurt.de)</a></p>
CONTACT:https://www.apollo-frankfurt.de/
DTSTAMP:20260419T222258
DTSTART;TZID=Europe/Prague:20251101T120000
DTEND;TZID=Europe/Prague:20251102T140000
SEQUENCE:0
TRANSP:OPAQUE
END:VEVENT
END:VCALENDAR