BEGIN:VCALENDAR
VERSION:2.0
PRODID:-//jEvents 2.0 for Joomla//EN
CALSCALE:GREGORIAN
METHOD:PUBLISH
BEGIN:VTIMEZONE
TZID:Europe/Prague
BEGIN:STANDARD
DTSTART:20241027T020000
RDATE:20250330T030000
TZOFFSETFROM:+0200
TZOFFSETTO:+0100
TZNAME:Europe/Prague CET
END:STANDARD
BEGIN:STANDARD
DTSTART:20251026T020000
RDATE:20260329T030000
TZOFFSETFROM:+0200
TZOFFSETTO:+0100
TZNAME:Europe/Prague CET
END:STANDARD
BEGIN:STANDARD
DTSTART:20261025T020000
RDATE:20270328T030000
TZOFFSETFROM:+0200
TZOFFSETTO:+0100
TZNAME:Europe/Prague CET
END:STANDARD
BEGIN:STANDARD
DTSTART:20271031T020000
RDATE:20280326T030000
TZOFFSETFROM:+0200
TZOFFSETTO:+0100
TZNAME:Europe/Prague CET
END:STANDARD
BEGIN:STANDARD
DTSTART:20281029T020000
RDATE:20290325T030000
TZOFFSETFROM:+0200
TZOFFSETTO:+0100
TZNAME:Europe/Prague CET
END:STANDARD
BEGIN:STANDARD
DTSTART:20291028T020000
RDATE:20300331T030000
TZOFFSETFROM:+0200
TZOFFSETTO:+0100
TZNAME:Europe/Prague CET
END:STANDARD
BEGIN:STANDARD
DTSTART:20301027T020000
RDATE:20310330T030000
TZOFFSETFROM:+0200
TZOFFSETTO:+0100
TZNAME:Europe/Prague CET
END:STANDARD
BEGIN:STANDARD
DTSTART:20311026T020000
RDATE:20320328T030000
TZOFFSETFROM:+0200
TZOFFSETTO:+0100
TZNAME:Europe/Prague CET
END:STANDARD
BEGIN:DAYLIGHT
DTSTART:20240913T083000
RDATE:20241027T020000
TZOFFSETFROM:+0100
TZOFFSETTO:+0200
TZNAME:Europe/Prague CEST
END:DAYLIGHT
BEGIN:DAYLIGHT
DTSTART:20250330T030000
RDATE:20251026T020000
TZOFFSETFROM:+0100
TZOFFSETTO:+0200
TZNAME:Europe/Prague CEST
END:DAYLIGHT
BEGIN:DAYLIGHT
DTSTART:20260329T030000
RDATE:20261025T020000
TZOFFSETFROM:+0100
TZOFFSETTO:+0200
TZNAME:Europe/Prague CEST
END:DAYLIGHT
BEGIN:DAYLIGHT
DTSTART:20270328T030000
RDATE:20271031T020000
TZOFFSETFROM:+0100
TZOFFSETTO:+0200
TZNAME:Europe/Prague CEST
END:DAYLIGHT
BEGIN:DAYLIGHT
DTSTART:20280326T030000
RDATE:20281029T020000
TZOFFSETFROM:+0100
TZOFFSETTO:+0200
TZNAME:Europe/Prague CEST
END:DAYLIGHT
BEGIN:DAYLIGHT
DTSTART:20290325T030000
RDATE:20291028T020000
TZOFFSETFROM:+0100
TZOFFSETTO:+0200
TZNAME:Europe/Prague CEST
END:DAYLIGHT
BEGIN:DAYLIGHT
DTSTART:20300331T030000
RDATE:20301027T020000
TZOFFSETFROM:+0100
TZOFFSETTO:+0200
TZNAME:Europe/Prague CEST
END:DAYLIGHT
BEGIN:DAYLIGHT
DTSTART:20310330T030000
RDATE:20311026T020000
TZOFFSETFROM:+0100
TZOFFSETTO:+0200
TZNAME:Europe/Prague CEST
END:DAYLIGHT
END:VTIMEZONE
BEGIN:VEVENT
UID:b34563f6c1db33b2da8bc3eb5726b2c7
CATEGORIES:Burzy
CREATED:20250122T160340
SUMMARY:Entomologická burza Weiden
LOCATION:Weiden\, DE
DESCRIPTION:Mehrzweckhalle, Plößberger Str. 45, 92685 Floß\nHabe die schöne, große, hel
 le Mehrzweckhalle in Floß wieder gemietet. Da wir auf Grund der niedrigen T
 ischmiete voriges Jahr Minus gemacht haben, wurde im Verein beschlossen, di
 e Tischmiete auf 20 € pro laufender Tischmeter anzuheben.\nIch war voriges 
 Jahr voll ausgebucht und konnte wenige unangemeldete Gäste noch auf zusätzl
 ichen Tischen unterbringen.\nDie Tischzahl ist jedoch nahezu ausgeschöpft u
 nd ich bitte um rechtzeitige Anmeldung.\nDie Stellplätze für Ausrüstungs- u
 nd Kästenhändler sind bereits besetzt und es werden keine weiteren derartig
 en Händler zugelassen.\nWeitere Mitteilungen erfolgen im Laufe des Anmeldej
 ahres.\n
X-ALT-DESC;FMTTYPE=text/html:<p>Mehrzweckhalle, Plößberger Str. 45, 92685 Floß</p><div class="section ht
 mlContent"><p>Habe die schöne, große, helle Mehrzweckhalle in Floß wieder g
 emietet. Da wir auf Grund der niedrigen Tischmiete voriges Jahr Minus gemac
 ht haben, wurde im Verein beschlossen, die Tischmiete auf 20 € pro laufende
 r Tischmeter anzuheben.</p><p>Ich war voriges Jahr voll ausgebucht und konn
 te wenige unangemeldete Gäste noch auf zusätzlichen Tischen unterbringen.</
 p><p>Die Tischzahl ist jedoch nahezu ausgeschöpft und ich bitte um rechtzei
 tige Anmeldung.</p><p>Die Stellplätze für Ausrüstungs- und Kästenhändler si
 nd bereits besetzt und es werden keine weiteren derartigen Händler zugelass
 en.</p><p>Weitere Mitteilungen erfolgen im Laufe des Anmeldejahres.</p></di
 v>
DTSTAMP:20260419T223155
DTSTART;TZID=Europe/Prague:20250914T083000
DTEND;TZID=Europe/Prague:20250914T120000
SEQUENCE:0
TRANSP:OPAQUE
END:VEVENT
END:VCALENDAR