BEGIN:VCALENDAR
VERSION:2.0
PRODID:-//jEvents 2.0 for Joomla//EN
CALSCALE:GREGORIAN
METHOD:PUBLISH
BEGIN:VTIMEZONE
TZID:Europe/Prague
BEGIN:STANDARD
DTSTART:20251204T090000
RDATE:20260329T030000
TZOFFSETFROM:+0200
TZOFFSETTO:+0100
TZNAME:Europe/Prague CET
END:STANDARD
BEGIN:STANDARD
DTSTART:20261025T020000
RDATE:20270328T030000
TZOFFSETFROM:+0200
TZOFFSETTO:+0100
TZNAME:Europe/Prague CET
END:STANDARD
BEGIN:STANDARD
DTSTART:20271031T020000
RDATE:20280326T030000
TZOFFSETFROM:+0200
TZOFFSETTO:+0100
TZNAME:Europe/Prague CET
END:STANDARD
BEGIN:STANDARD
DTSTART:20281029T020000
RDATE:20290325T030000
TZOFFSETFROM:+0200
TZOFFSETTO:+0100
TZNAME:Europe/Prague CET
END:STANDARD
BEGIN:STANDARD
DTSTART:20291028T020000
RDATE:20300331T030000
TZOFFSETFROM:+0200
TZOFFSETTO:+0100
TZNAME:Europe/Prague CET
END:STANDARD
BEGIN:STANDARD
DTSTART:20301027T020000
RDATE:20310330T030000
TZOFFSETFROM:+0200
TZOFFSETTO:+0100
TZNAME:Europe/Prague CET
END:STANDARD
BEGIN:STANDARD
DTSTART:20311026T020000
RDATE:20320328T030000
TZOFFSETFROM:+0200
TZOFFSETTO:+0100
TZNAME:Europe/Prague CET
END:STANDARD
BEGIN:DAYLIGHT
DTSTART:20260329T030000
RDATE:20261025T020000
TZOFFSETFROM:+0100
TZOFFSETTO:+0200
TZNAME:Europe/Prague CEST
END:DAYLIGHT
BEGIN:DAYLIGHT
DTSTART:20270328T030000
RDATE:20271031T020000
TZOFFSETFROM:+0100
TZOFFSETTO:+0200
TZNAME:Europe/Prague CEST
END:DAYLIGHT
BEGIN:DAYLIGHT
DTSTART:20280326T030000
RDATE:20281029T020000
TZOFFSETFROM:+0100
TZOFFSETTO:+0200
TZNAME:Europe/Prague CEST
END:DAYLIGHT
BEGIN:DAYLIGHT
DTSTART:20290325T030000
RDATE:20291028T020000
TZOFFSETFROM:+0100
TZOFFSETTO:+0200
TZNAME:Europe/Prague CEST
END:DAYLIGHT
BEGIN:DAYLIGHT
DTSTART:20300331T030000
RDATE:20301027T020000
TZOFFSETFROM:+0100
TZOFFSETTO:+0200
TZNAME:Europe/Prague CEST
END:DAYLIGHT
BEGIN:DAYLIGHT
DTSTART:20310330T030000
RDATE:20311026T020000
TZOFFSETFROM:+0100
TZOFFSETTO:+0200
TZNAME:Europe/Prague CEST
END:DAYLIGHT
END:VTIMEZONE
BEGIN:VEVENT
UID:29db768230a5e282668377fa8cf340e8
CATEGORIES:Burzy, Výstavy
CREATED:20251220T115112
SUMMARY:Terrabazar Praha
LOCATION:Praha\, Česká republika
DESCRIPTION:TERRABAZAR  (http://terrabazar.cz)http://terrabazar.cz (http://terrabazar.c
 z) je nejstarší výstavní a prodejní burza terarijních zvířat a exotického p
 tactva v Praze založená Teraristickou společností Praha a Klubem přátel exo
 tického ptactva, která se koná pravidelně jednou za měsíc.\n\nNajdete nás: 
 První jazyková základní škola, Horáčkova 1100, Praha 4, 140 00 u metra Pank
 rác. Vstup pro veřejnost je od 9:00 do 12:00.\nKontakty:\nLenka Kubíčková -
  hlavní kontakt +420 721 444 354\nMarek Pešek - vedlejší kontakt +420 607 9
 02 589\nIng. Miroslav Orlík +420 606 379 809\nE-mail: Tato e-mailová adresa
  je chráněna před spamboty. Pro její zobrazení musíte mít povolen Javascrip
 t.\nTerarijní zvířata \nTerarijní zvířata přímo od chovatelů: želvy, hady, 
 ještěry, chameleony, gekony, pagekony, pavouky, brouky, morčata, králíky, m
 yši, křečky, potkany, žáby, ježky, exotické ptactvo, atd.\nAkvarijní a tera
 rijní rostlinky\nAkvarijní a terarijní rostlinky přímo od pěstitelů zaručuj
 ící maximální kvalitu a široký výběr.\nKrmiva\nVelký výběr různých druhů kr
 miv: suché (samozřejmě i zrní pro exotické ptactvo), mražené i živé krmení 
 (cvrčci, sarančata, larvy, myšata, hlodavci), vitamínové přípravky.\nTerári
 a a akvária\nVybavená i nevybavená terária a akvária. Možnost objednat lepe
 ní akvária a terária na míru a odvozem zdarma po Praze.\nVybavení terárií, 
 akvárií a voliér\nVybavení terárií, akvárií voliér, vlastní terária (prostá
  i dekorativní s vybavením), specializované lampy a zářivky, topná tělesa, 
 inkubátory, substráty, dekorativní větve a kůry...\nKeramika\nVelký výběr r
 učně vyráběných mističek, korýtek, příbytků a skrýší do terárií a akvárií.\
 nLiteratura\nČeské a zahraniční specializované knihy a časopisy.\nOdborná k
 onzultace zdarma\nOdborná konzultace zdarma přímo u teraristů, chovatelů ex
 otického ptactva a pěstitelů s mnohaletou zkušeností.\nVeterinární poradna 
 zdarma od veterinářů na terarijní zvířata a exotické ptactvo MVDr. Barbora 
 Demková a MVDr. Michal Sloboda, Ph.D\nMobilní veterinární ordinace na parko
 višti před vstupem (MVDr. Michal Sloboda, Ph.D)\nLegislativní a chovatelská
  poradna (zkušení teraristé z řad Teraristické společnosti Praha)\nObčerstv
 ení \nMožnost klidného posezení a občerstvení přímo v prostorách akce\n
X-ALT-DESC;FMTTYPE=text/html:<p>TERRABAZAR <a href="http://terrabazar.cz"></a><a href="http://terrabazar
 .cz">http://terrabazar.cz</a> je nejstarší výstavní a prodejní burza terari
 jních zvířat a exotického ptactva v Praze založená Teraristickou společnost
 í Praha a Klubem přátel exotického ptactva, která se koná pravidelně jednou
  za měsíc.<br /><br />Najdete nás: První jazyková základní škola, Horáčkova
  1100, Praha 4, 140 00 u metra Pankrác. Vstup pro veřejnost je od 9:00 do 1
 2:00.</p><p><strong>Kontakty:</strong></p><p>Lenka Kubíčková - hlavní konta
 kt +420 721 444 354<br />Marek Pešek - vedlejší kontakt +420 607 902 589<br
  />Ing. Miroslav Orlík +420 606 379 809<br />E-mail: <joomla-hidden-mail  i
 s-link="" is-email="1" first="dGVycmFiYXphcg==" last="dGVycmFiYXphci5jeg=="
  text="dGVycmFiYXphckB0ZXJyYWJhemFyLmN6" base="" >Tato e-mailová adresa je 
 chráněna před spamboty. Pro její zobrazení musíte mít povolen Javascript.</
 joomla-hidden-mail></p><p><strong>Terarijní zvířata</strong> <br />Terarijn
 í zvířata přímo od chovatelů: želvy, hady, ještěry, chameleony, gekony, pag
 ekony, pavouky, brouky, morčata, králíky, myši, křečky, potkany, žáby, ježk
 y, exotické ptactvo, atd.<br /><strong>Akvarijní a terarijní rostlinky</str
 ong><br />Akvarijní a terarijní rostlinky přímo od pěstitelů zaručující max
 imální kvalitu a široký výběr.<br /><strong>Krmiva</strong><br />Velký výbě
 r různých druhů krmiv: suché (samozřejmě i zrní pro exotické ptactvo), mraž
 ené i živé krmení (cvrčci, sarančata, larvy, myšata, hlodavci), vitamínové 
 přípravky.<br /><strong>Terária a akvária</strong><br />Vybavená i nevybave
 ná terária a akvária. Možnost objednat lepení akvária a terária na míru a o
 dvozem zdarma po Praze.<br /><strong>Vybavení terárií, akvárií a voliér</st
 rong><br />Vybavení terárií, akvárií voliér, vlastní terária (prostá i deko
 rativní s vybavením), specializované lampy a zářivky, topná tělesa, inkubát
 ory, substráty, dekorativní větve a kůry...<br /><strong>Keramika</strong><
 br />Velký výběr ručně vyráběných mističek, korýtek, příbytků a skrýší do t
 erárií a akvárií.<br /><strong>Literatura</strong><br />České a zahraniční 
 specializované knihy a časopisy.<br /><strong>Odborná konzultace zdarma</st
 rong><br />Odborná konzultace zdarma přímo u teraristů, chovatelů exotickéh
 o ptactva a pěstitelů s mnohaletou zkušeností.<br />Veterinární poradna zda
 rma od veterinářů na terarijní zvířata a exotické ptactvo MVDr. Barbora Dem
 ková a MVDr. Michal Sloboda, Ph.D<br />Mobilní veterinární ordinace na park
 ovišti před vstupem (MVDr. Michal Sloboda, Ph.D)<br />Legislativní a chovat
 elská poradna (zkušení teraristé z řad Teraristické společnosti Praha)<br /
 ><strong>Občerstvení</strong> <br />Možnost klidného posezení a občerstvení
  přímo v prostorách akce</p>
CONTACT:Lenka Kubíčková, mobil: +420 721 444 354, e-mail: Tato e-mailová adresa je chráněna před spamboty. Pro její zobrazení musíte mít povolen Javascript.
DTSTAMP:20260419T203900
DTSTART;TZID=Europe/Prague:20261205T090000
DTEND;TZID=Europe/Prague:20261205T120000
SEQUENCE:0
TRANSP:OPAQUE
END:VEVENT
END:VCALENDAR