BEGIN:VCALENDAR
VERSION:2.0
PRODID:-//jEvents 2.0 for Joomla//EN
CALSCALE:GREGORIAN
METHOD:PUBLISH
BEGIN:VTIMEZONE
TZID:Europe/Prague
BEGIN:STANDARD
DTSTART:20250109T080000
RDATE:20250330T030000
TZOFFSETFROM:+0200
TZOFFSETTO:+0100
TZNAME:Europe/Prague CET
END:STANDARD
BEGIN:STANDARD
DTSTART:20251026T020000
RDATE:20260329T030000
TZOFFSETFROM:+0200
TZOFFSETTO:+0100
TZNAME:Europe/Prague CET
END:STANDARD
BEGIN:STANDARD
DTSTART:20261025T020000
RDATE:20270328T030000
TZOFFSETFROM:+0200
TZOFFSETTO:+0100
TZNAME:Europe/Prague CET
END:STANDARD
BEGIN:STANDARD
DTSTART:20271031T020000
RDATE:20280326T030000
TZOFFSETFROM:+0200
TZOFFSETTO:+0100
TZNAME:Europe/Prague CET
END:STANDARD
BEGIN:STANDARD
DTSTART:20281029T020000
RDATE:20290325T030000
TZOFFSETFROM:+0200
TZOFFSETTO:+0100
TZNAME:Europe/Prague CET
END:STANDARD
BEGIN:STANDARD
DTSTART:20291028T020000
RDATE:20300331T030000
TZOFFSETFROM:+0200
TZOFFSETTO:+0100
TZNAME:Europe/Prague CET
END:STANDARD
BEGIN:STANDARD
DTSTART:20301027T020000
RDATE:20310330T030000
TZOFFSETFROM:+0200
TZOFFSETTO:+0100
TZNAME:Europe/Prague CET
END:STANDARD
BEGIN:STANDARD
DTSTART:20311026T020000
RDATE:20320328T030000
TZOFFSETFROM:+0200
TZOFFSETTO:+0100
TZNAME:Europe/Prague CET
END:STANDARD
BEGIN:DAYLIGHT
DTSTART:20250330T030000
RDATE:20251026T020000
TZOFFSETFROM:+0100
TZOFFSETTO:+0200
TZNAME:Europe/Prague CEST
END:DAYLIGHT
BEGIN:DAYLIGHT
DTSTART:20260329T030000
RDATE:20261025T020000
TZOFFSETFROM:+0100
TZOFFSETTO:+0200
TZNAME:Europe/Prague CEST
END:DAYLIGHT
BEGIN:DAYLIGHT
DTSTART:20270328T030000
RDATE:20271031T020000
TZOFFSETFROM:+0100
TZOFFSETTO:+0200
TZNAME:Europe/Prague CEST
END:DAYLIGHT
BEGIN:DAYLIGHT
DTSTART:20280326T030000
RDATE:20281029T020000
TZOFFSETFROM:+0100
TZOFFSETTO:+0200
TZNAME:Europe/Prague CEST
END:DAYLIGHT
BEGIN:DAYLIGHT
DTSTART:20290325T030000
RDATE:20291028T020000
TZOFFSETFROM:+0100
TZOFFSETTO:+0200
TZNAME:Europe/Prague CEST
END:DAYLIGHT
BEGIN:DAYLIGHT
DTSTART:20300331T030000
RDATE:20301027T020000
TZOFFSETFROM:+0100
TZOFFSETTO:+0200
TZNAME:Europe/Prague CEST
END:DAYLIGHT
BEGIN:DAYLIGHT
DTSTART:20310330T030000
RDATE:20311026T020000
TZOFFSETFROM:+0100
TZOFFSETTO:+0200
TZNAME:Europe/Prague CEST
END:DAYLIGHT
END:VTIMEZONE
BEGIN:VEVENT
UID:20c5e609ca80513c505e67ef1092a186
CATEGORIES:Burzy, Výstavy
CREATED:20251220T115620
SUMMARY:Entomologická burza Pardubice
LOCATION:Pardubice\, Česká republika
DESCRIPTION:VÝSTAVA MOTÝLŮ, BROUKŮ A OSTATNÍCH SKUPIN HMYZU\nABC-KLUB\nŠTOLBOVA 2665, P
 ARDUBICE\n8°°-14°°\nMEZINÁRODNÍ SETKÁNÍ SBĚRATELŮ A CHOVATELŮ, NÁKUP, PRODE
 J, VÝMĚNA, ODBORNÁ LITERATURA A ENTOMOLOGICKÉ POTŘEBY\nVSTUPNÉ 100 KČ, DĚTI
  DO 15 LET V DOPROVODU RODIČŮ ZDARMA\nINFORMACE:\nMILOSLAV KALABZA\n+730 50
 2 847\n+728 752 442\nTato e-mailová adresa je chráněna před spamboty. Pro j
 ejí zobrazení musíte mít povolen Javascript.\n
X-ALT-DESC;FMTTYPE=text/html:<p>VÝSTAVA MOTÝLŮ,&nbsp;BROUKŮ A&nbsp;OSTATNÍCH SKUPIN&nbsp;HMYZU</p><p>ABC
 -KLUB<br />ŠTOLBOVA 2665, PARDUBICE<br />8°°-14°°</p><p>MEZINÁRODNÍ SETKÁNÍ
  SBĚRATELŮ A CHOVATELŮ, NÁKUP, PRODEJ,&nbsp;VÝMĚNA, ODBORNÁ LITERATURA A EN
 TOMOLOGICKÉ POTŘEBY</p><p>VSTUPNÉ 100 KČ, DĚTI DO 15 LET V DOPROVODU RODIČŮ
  ZDARMA</p><p>INFORMACE:<br />MILOSLAV KALABZA<br />+730 502 847<br />+728 
 752 442<br /><joomla-hidden-mail  is-link="" is-email="1" first="bWlsYS5rYW
 xhYnph" last="ZW1haWwuY3o=" text="bWlsYS5rYWxhYnphQGVtYWlsLmN6" base="" >Ta
 to e-mailová adresa je chráněna před spamboty. Pro její zobrazení musíte mí
 t povolen Javascript.</joomla-hidden-mail></p>
CONTACT:Miloslav Kalabza, mobil:+420 730 502 847, e-mail: Tato e-mailová adresa je chráněna před spamboty. Pro její zobrazení musíte mít povolen Javascript.
DTSTAMP:20260419T185322
DTSTART;TZID=Europe/Prague:20260110T080000
DTEND;TZID=Europe/Prague:20260110T140000
SEQUENCE:0
TRANSP:OPAQUE
END:VEVENT
END:VCALENDAR