BEGIN:VCALENDAR
VERSION:2.0
PRODID:-//jEvents 2.0 for Joomla//EN
CALSCALE:GREGORIAN
METHOD:PUBLISH
BEGIN:VTIMEZONE
TZID:Europe/Prague
BEGIN:STANDARD
DTSTART:20250130T080000
RDATE:20250330T030000
TZOFFSETFROM:+0200
TZOFFSETTO:+0100
TZNAME:Europe/Prague CET
END:STANDARD
BEGIN:STANDARD
DTSTART:20251026T020000
RDATE:20260329T030000
TZOFFSETFROM:+0200
TZOFFSETTO:+0100
TZNAME:Europe/Prague CET
END:STANDARD
BEGIN:STANDARD
DTSTART:20261025T020000
RDATE:20270328T030000
TZOFFSETFROM:+0200
TZOFFSETTO:+0100
TZNAME:Europe/Prague CET
END:STANDARD
BEGIN:STANDARD
DTSTART:20271031T020000
RDATE:20280326T030000
TZOFFSETFROM:+0200
TZOFFSETTO:+0100
TZNAME:Europe/Prague CET
END:STANDARD
BEGIN:STANDARD
DTSTART:20281029T020000
RDATE:20290325T030000
TZOFFSETFROM:+0200
TZOFFSETTO:+0100
TZNAME:Europe/Prague CET
END:STANDARD
BEGIN:STANDARD
DTSTART:20291028T020000
RDATE:20300331T030000
TZOFFSETFROM:+0200
TZOFFSETTO:+0100
TZNAME:Europe/Prague CET
END:STANDARD
BEGIN:STANDARD
DTSTART:20301027T020000
RDATE:20310330T030000
TZOFFSETFROM:+0200
TZOFFSETTO:+0100
TZNAME:Europe/Prague CET
END:STANDARD
BEGIN:STANDARD
DTSTART:20311026T020000
RDATE:20320328T030000
TZOFFSETFROM:+0200
TZOFFSETTO:+0100
TZNAME:Europe/Prague CET
END:STANDARD
BEGIN:DAYLIGHT
DTSTART:20250330T030000
RDATE:20251026T020000
TZOFFSETFROM:+0100
TZOFFSETTO:+0200
TZNAME:Europe/Prague CEST
END:DAYLIGHT
BEGIN:DAYLIGHT
DTSTART:20260329T030000
RDATE:20261025T020000
TZOFFSETFROM:+0100
TZOFFSETTO:+0200
TZNAME:Europe/Prague CEST
END:DAYLIGHT
BEGIN:DAYLIGHT
DTSTART:20270328T030000
RDATE:20271031T020000
TZOFFSETFROM:+0100
TZOFFSETTO:+0200
TZNAME:Europe/Prague CEST
END:DAYLIGHT
BEGIN:DAYLIGHT
DTSTART:20280326T030000
RDATE:20281029T020000
TZOFFSETFROM:+0100
TZOFFSETTO:+0200
TZNAME:Europe/Prague CEST
END:DAYLIGHT
BEGIN:DAYLIGHT
DTSTART:20290325T030000
RDATE:20291028T020000
TZOFFSETFROM:+0100
TZOFFSETTO:+0200
TZNAME:Europe/Prague CEST
END:DAYLIGHT
BEGIN:DAYLIGHT
DTSTART:20300331T030000
RDATE:20301027T020000
TZOFFSETFROM:+0100
TZOFFSETTO:+0200
TZNAME:Europe/Prague CEST
END:DAYLIGHT
BEGIN:DAYLIGHT
DTSTART:20310330T030000
RDATE:20311026T020000
TZOFFSETFROM:+0100
TZOFFSETTO:+0200
TZNAME:Europe/Prague CEST
END:DAYLIGHT
END:VTIMEZONE
BEGIN:VEVENT
UID:cf6e5f0391f0f1ab1275b5640c35cc4f
CATEGORIES:Burzy, Výstavy
CREATED:20251220T120844
SUMMARY:Mezinárodní entomologický výměnný den a výstava Kroměříž
LOCATION:Kroměříž\, Česká republika
DESCRIPTION:Výstaviště Kroměříž, K Výstavišti 4069/8, Hala B. \nNa programu bude výměna
 , prodej a koupě brouků, motýlů, strašilek, pavouků a ostatních bezobratlýc
 h živočichů. Nebude chybět ani odborná literatura včetně entomologických po
 třeb. Gurmáni se mohou těšit na bohatou nabídku hmyzích a jiných specialit.
  Pro děti máme připraveny lízátka s překvapením.\nCeník\nzákladní vstupné 9
 0,- Kč\nděti do 150 cm ZDARMA\nZTP/P ZDRAMA i s doprovodem\nInformace na mo
 b.: +420 604 670 861, Ing. Dan Čagánek,e-mail: Tato e-mailová adresa je chr
 áněna před spamboty. Pro její zobrazení musíte mít povolen Javascript.,    
 www.hobbyvystaviste.cz (https://www.hobbyvystaviste.cz/)\n
X-ALT-DESC;FMTTYPE=text/html:<p><strong>Výstaviště Kroměříž, </strong><strong>K Výstavišti 4069/8, Hala 
 B.</strong>&nbsp;</p><p>Na programu bude výměna, prodej a koupě brouků, mot
 ýlů, strašilek, pavouků a ostatních bezobratlých živočichů. Nebude chybět a
 ni odborná literatura včetně entomologických potřeb. Gurmáni se mohou těšit
  na bohatou nabídku hmyzích a jiných specialit. Pro děti máme připraveny lí
 zátka s překvapením.</p><p>Ceník<br />základní vstupné 90,- Kč<br />děti do
  150 cm ZDARMA<br />ZTP/P ZDRAMA i s doprovodem</p><p>Informace na mob.:&nb
 sp;<strong>+420 604 670 861</strong>, Ing.&nbsp;Dan Čagánek,e-mail: <joomla
 -hidden-mail  is-link="" is-email="1" first="ZGFuLmNhZ2FuZWs=" last="dGlzY2
 FsaS5jeg==" text="ZGFuLmNhZ2FuZWtAdGlzY2FsaS5jeg==" base="" >Tato e-mailová
  adresa je chráněna před spamboty. Pro její zobrazení musíte mít povolen Ja
 vascript.</joomla-hidden-mail>,&nbsp; &nbsp;&nbsp;<a href="https://www.hobb
 yvystaviste.cz/">www.hobbyvystaviste.cz</a></p>
CONTACT:Ing. Dan Čagánek, mobil: +420 604 670 861, e-mail: Tato e-mailová adresa je chráněna před spamboty. Pro její zobrazení musíte mít povolen Javascript.
DTSTAMP:20260419T185534
DTSTART;TZID=Europe/Prague:20260131T080000
DTEND;TZID=Europe/Prague:20260131T130000
SEQUENCE:0
TRANSP:OPAQUE
END:VEVENT
END:VCALENDAR