BEGIN:VCALENDAR
VERSION:2.0
PRODID:-//jEvents 2.0 for Joomla//EN
CALSCALE:GREGORIAN
METHOD:PUBLISH
BEGIN:VTIMEZONE
TZID:Europe/Prague
BEGIN:STANDARD
DTSTART:20231029T020000
RDATE:20240331T030000
TZOFFSETFROM:+0200
TZOFFSETTO:+0100
TZNAME:Europe/Prague CET
END:STANDARD
BEGIN:STANDARD
DTSTART:20241027T020000
RDATE:20250330T030000
TZOFFSETFROM:+0200
TZOFFSETTO:+0100
TZNAME:Europe/Prague CET
END:STANDARD
BEGIN:STANDARD
DTSTART:20251026T020000
RDATE:20260329T030000
TZOFFSETFROM:+0200
TZOFFSETTO:+0100
TZNAME:Europe/Prague CET
END:STANDARD
BEGIN:STANDARD
DTSTART:20261025T020000
RDATE:20270328T030000
TZOFFSETFROM:+0200
TZOFFSETTO:+0100
TZNAME:Europe/Prague CET
END:STANDARD
BEGIN:STANDARD
DTSTART:20271031T020000
RDATE:20280326T030000
TZOFFSETFROM:+0200
TZOFFSETTO:+0100
TZNAME:Europe/Prague CET
END:STANDARD
BEGIN:STANDARD
DTSTART:20281029T020000
RDATE:20290325T030000
TZOFFSETFROM:+0200
TZOFFSETTO:+0100
TZNAME:Europe/Prague CET
END:STANDARD
BEGIN:STANDARD
DTSTART:20291028T020000
RDATE:20300331T030000
TZOFFSETFROM:+0200
TZOFFSETTO:+0100
TZNAME:Europe/Prague CET
END:STANDARD
BEGIN:STANDARD
DTSTART:20301027T020000
RDATE:20310330T030000
TZOFFSETFROM:+0200
TZOFFSETTO:+0100
TZNAME:Europe/Prague CET
END:STANDARD
BEGIN:STANDARD
DTSTART:20311026T020000
RDATE:20320328T030000
TZOFFSETFROM:+0200
TZOFFSETTO:+0100
TZNAME:Europe/Prague CET
END:STANDARD
BEGIN:DAYLIGHT
DTSTART:20231019T080000
RDATE:20231029T020000
TZOFFSETFROM:+0100
TZOFFSETTO:+0200
TZNAME:Europe/Prague CEST
END:DAYLIGHT
BEGIN:DAYLIGHT
DTSTART:20240331T030000
RDATE:20241027T020000
TZOFFSETFROM:+0100
TZOFFSETTO:+0200
TZNAME:Europe/Prague CEST
END:DAYLIGHT
BEGIN:DAYLIGHT
DTSTART:20250330T030000
RDATE:20251026T020000
TZOFFSETFROM:+0100
TZOFFSETTO:+0200
TZNAME:Europe/Prague CEST
END:DAYLIGHT
BEGIN:DAYLIGHT
DTSTART:20260329T030000
RDATE:20261025T020000
TZOFFSETFROM:+0100
TZOFFSETTO:+0200
TZNAME:Europe/Prague CEST
END:DAYLIGHT
BEGIN:DAYLIGHT
DTSTART:20270328T030000
RDATE:20271031T020000
TZOFFSETFROM:+0100
TZOFFSETTO:+0200
TZNAME:Europe/Prague CEST
END:DAYLIGHT
BEGIN:DAYLIGHT
DTSTART:20280326T030000
RDATE:20281029T020000
TZOFFSETFROM:+0100
TZOFFSETTO:+0200
TZNAME:Europe/Prague CEST
END:DAYLIGHT
BEGIN:DAYLIGHT
DTSTART:20290325T030000
RDATE:20291028T020000
TZOFFSETFROM:+0100
TZOFFSETTO:+0200
TZNAME:Europe/Prague CEST
END:DAYLIGHT
BEGIN:DAYLIGHT
DTSTART:20300331T030000
RDATE:20301027T020000
TZOFFSETFROM:+0100
TZOFFSETTO:+0200
TZNAME:Europe/Prague CEST
END:DAYLIGHT
BEGIN:DAYLIGHT
DTSTART:20310330T030000
RDATE:20311026T020000
TZOFFSETFROM:+0100
TZOFFSETTO:+0200
TZNAME:Europe/Prague CEST
END:DAYLIGHT
END:VTIMEZONE
BEGIN:VEVENT
UID:3041b029fb4438b0726f419c1e7fdaf7
CATEGORIES:Burzy, Výstavy
CREATED:20240321T145836
SUMMARY:Mezinárodní entomologický výměnný den a výstava Kroměříž
LOCATION:Kroměříž\, Česká republika
DESCRIPTION:<p><strong>Výstaviště Kroměříž, </strong><strong>K Výstavišti 4069/8, Hala 
 B.</strong>&nbsp;</p><p>Mezinárodní setkání sběratelů a chovatelů brouků, m
 otýlů a ostatních skupin hmyzu. Součástí je nákup, prodej entomologických p
 otřeb, odborné literatury a ochutnávka hmyzu.</p><p>Informace na mob.:&nbsp
 ;<strong>+420 604 670 861</strong>,Ing.&nbsp;Dan Čagánek,e-mail:&nbsp;<a hr
 ef="mailto:dan.caganek@tiscali.cz"></a><a href="mailto:dan.caganek@tiscali.
 cz"></a><joomla-hidden-mail  is-link="" is-email="1" first="ZGFuLmNhZ2FuZWs
 =" last="dGlzY2FsaS5jeg==" text="ZGFuLmNhZ2FuZWtAdGlzY2FsaS5jeg==" base="" 
 >Tato e-mailová adresa je chráněna před spamboty. Pro její zobrazení musíte
  mít povolen Javascript.</joomla-hidden-mail>,&nbsp; &nbsp;&nbsp;<a href="h
 ttps://www.hobbyvystaviste.cz/">www.hobbyvystaviste.cz</a>,&nbsp; &nbsp;<a 
 href="http://www.entosphinx.cz/img/cms/20210809_entomo%20MHD_FHD%202.jpg">p
 ozvánka</a></p>
CONTACT:ng. Dan Čagánek, mobil: +420 604 670 861, e-mail: Tato e-mailová adresa je chráněna před spamboty. Pro její zobrazení musíte mít povolen Javascript.
DTSTAMP:20260420T002752
DTSTART;TZID=Europe/Prague:20241019T080000
DTEND;TZID=Europe/Prague:20241019T130000
SEQUENCE:0
TRANSP:OPAQUE
END:VEVENT
END:VCALENDAR