BEGIN:VCALENDAR
VERSION:2.0
PRODID:-//jEvents 2.0 for Joomla//EN
CALSCALE:GREGORIAN
METHOD:PUBLISH
BEGIN:VTIMEZONE
TZID:Europe/Prague
BEGIN:STANDARD
DTSTART:20251026T020000
RDATE:20260329T030000
TZOFFSETFROM:+0200
TZOFFSETTO:+0100
TZNAME:Europe/Prague CET
END:STANDARD
BEGIN:STANDARD
DTSTART:20261025T020000
RDATE:20270328T030000
TZOFFSETFROM:+0200
TZOFFSETTO:+0100
TZNAME:Europe/Prague CET
END:STANDARD
BEGIN:STANDARD
DTSTART:20271031T020000
RDATE:20280326T030000
TZOFFSETFROM:+0200
TZOFFSETTO:+0100
TZNAME:Europe/Prague CET
END:STANDARD
BEGIN:STANDARD
DTSTART:20281029T020000
RDATE:20290325T030000
TZOFFSETFROM:+0200
TZOFFSETTO:+0100
TZNAME:Europe/Prague CET
END:STANDARD
BEGIN:STANDARD
DTSTART:20291028T020000
RDATE:20300331T030000
TZOFFSETFROM:+0200
TZOFFSETTO:+0100
TZNAME:Europe/Prague CET
END:STANDARD
BEGIN:STANDARD
DTSTART:20301027T020000
RDATE:20310330T030000
TZOFFSETFROM:+0200
TZOFFSETTO:+0100
TZNAME:Europe/Prague CET
END:STANDARD
BEGIN:STANDARD
DTSTART:20311026T020000
RDATE:20320328T030000
TZOFFSETFROM:+0200
TZOFFSETTO:+0100
TZNAME:Europe/Prague CET
END:STANDARD
BEGIN:DAYLIGHT
DTSTART:20251002T090000
RDATE:20251026T020000
TZOFFSETFROM:+0100
TZOFFSETTO:+0200
TZNAME:Europe/Prague CEST
END:DAYLIGHT
BEGIN:DAYLIGHT
DTSTART:20260329T030000
RDATE:20261025T020000
TZOFFSETFROM:+0100
TZOFFSETTO:+0200
TZNAME:Europe/Prague CEST
END:DAYLIGHT
BEGIN:DAYLIGHT
DTSTART:20270328T030000
RDATE:20271031T020000
TZOFFSETFROM:+0100
TZOFFSETTO:+0200
TZNAME:Europe/Prague CEST
END:DAYLIGHT
BEGIN:DAYLIGHT
DTSTART:20280326T030000
RDATE:20281029T020000
TZOFFSETFROM:+0100
TZOFFSETTO:+0200
TZNAME:Europe/Prague CEST
END:DAYLIGHT
BEGIN:DAYLIGHT
DTSTART:20290325T030000
RDATE:20291028T020000
TZOFFSETFROM:+0100
TZOFFSETTO:+0200
TZNAME:Europe/Prague CEST
END:DAYLIGHT
BEGIN:DAYLIGHT
DTSTART:20300331T030000
RDATE:20301027T020000
TZOFFSETFROM:+0100
TZOFFSETTO:+0200
TZNAME:Europe/Prague CEST
END:DAYLIGHT
BEGIN:DAYLIGHT
DTSTART:20310330T030000
RDATE:20311026T020000
TZOFFSETFROM:+0100
TZOFFSETTO:+0200
TZNAME:Europe/Prague CEST
END:DAYLIGHT
END:VTIMEZONE
BEGIN:VEVENT
UID:ffe63d4afa7590b6842f5f500c62c882
CATEGORIES:Burzy
CREATED:20260128T214805
SUMMARY:Mezinárodní setkání sběratelů a chovatelů brouků, motýlů a ostatních skupin hmyzu Praha
LOCATION:Praha\, Česká republika
DESCRIPTION:Konferenční Centrum CITY, Na Strži 65/1702, 140 00 Praha 4\n\n - 3. 10. 202
 6 09.00 -17.30 hod.\n - 4. 10. 2026 08.00 - 12.30 hod.Mezinárodní setkání s
 běratelů a chovatelů brouků, motýlů a ostatních skupin hmyzu. Součástí je n
 ákup, prodej entomologických potřeb a odborné literatury.\nInformace: Tato 
 e-mailová adresa je chráněna před spamboty. Pro její zobrazení musíte mít p
 ovolen Javascript.\n
X-ALT-DESC;FMTTYPE=text/html:<p>Konferenční Centrum CITY, Na Strži 65/1702, 140 00 Praha 4</p><ul><li>3.
  10. 2026 09.00 -17.30 hod.</li><li>4. 10. 2026 08.00 - 12.30 hod.</li></ul
 ><p>Mezinárodní setkání sběratelů a chovatelů brouků, motýlů a ostatních sk
 upin hmyzu. Součástí je nákup, prodej entomologických potřeb a odborné lite
 ratury.</p><p>Informace:&nbsp;<joomla-hidden-mail  is-link="" is-email="1" 
 first="ZW50b3RlcmEucHJhaGE=" last="Z21haWwuY29t" text="ZW50b3RlcmEucHJhaGFA
 Z21haWwuY29t" base="" >Tato e-mailová adresa je chráněna před spamboty. Pro
  její zobrazení musíte mít povolen Javascript.</joomla-hidden-mail></p>
CONTACT:Tato e-mailová adresa je chráněna před spamboty. Pro její zobrazení musíte mít povolen Javascript.
DTSTAMP:20260420T003132
DTSTART;TZID=Europe/Prague:20261003T090000
DTEND;TZID=Europe/Prague:20261004T123000
SEQUENCE:0
TRANSP:OPAQUE
END:VEVENT
END:VCALENDAR