BEGIN:VCALENDAR
VERSION:2.0
PRODID:-//jEvents 2.0 for Joomla//EN
CALSCALE:GREGORIAN
METHOD:PUBLISH
BEGIN:VTIMEZONE
TZID:Europe/Prague
BEGIN:STANDARD
DTSTART:20251026T020000
RDATE:20260329T030000
TZOFFSETFROM:+0200
TZOFFSETTO:+0100
TZNAME:Europe/Prague CET
END:STANDARD
BEGIN:STANDARD
DTSTART:20261025T020000
RDATE:20270328T030000
TZOFFSETFROM:+0200
TZOFFSETTO:+0100
TZNAME:Europe/Prague CET
END:STANDARD
BEGIN:STANDARD
DTSTART:20271031T020000
RDATE:20280326T030000
TZOFFSETFROM:+0200
TZOFFSETTO:+0100
TZNAME:Europe/Prague CET
END:STANDARD
BEGIN:STANDARD
DTSTART:20281029T020000
RDATE:20290325T030000
TZOFFSETFROM:+0200
TZOFFSETTO:+0100
TZNAME:Europe/Prague CET
END:STANDARD
BEGIN:STANDARD
DTSTART:20291028T020000
RDATE:20300331T030000
TZOFFSETFROM:+0200
TZOFFSETTO:+0100
TZNAME:Europe/Prague CET
END:STANDARD
BEGIN:STANDARD
DTSTART:20301027T020000
RDATE:20310330T030000
TZOFFSETFROM:+0200
TZOFFSETTO:+0100
TZNAME:Europe/Prague CET
END:STANDARD
BEGIN:STANDARD
DTSTART:20311026T020000
RDATE:20320328T030000
TZOFFSETFROM:+0200
TZOFFSETTO:+0100
TZNAME:Europe/Prague CET
END:STANDARD
BEGIN:DAYLIGHT
DTSTART:20250911T090000
RDATE:20251026T020000
TZOFFSETFROM:+0100
TZOFFSETTO:+0200
TZNAME:Europe/Prague CEST
END:DAYLIGHT
BEGIN:DAYLIGHT
DTSTART:20260329T030000
RDATE:20261025T020000
TZOFFSETFROM:+0100
TZOFFSETTO:+0200
TZNAME:Europe/Prague CEST
END:DAYLIGHT
BEGIN:DAYLIGHT
DTSTART:20270328T030000
RDATE:20271031T020000
TZOFFSETFROM:+0100
TZOFFSETTO:+0200
TZNAME:Europe/Prague CEST
END:DAYLIGHT
BEGIN:DAYLIGHT
DTSTART:20280326T030000
RDATE:20281029T020000
TZOFFSETFROM:+0100
TZOFFSETTO:+0200
TZNAME:Europe/Prague CEST
END:DAYLIGHT
BEGIN:DAYLIGHT
DTSTART:20290325T030000
RDATE:20291028T020000
TZOFFSETFROM:+0100
TZOFFSETTO:+0200
TZNAME:Europe/Prague CEST
END:DAYLIGHT
BEGIN:DAYLIGHT
DTSTART:20300331T030000
RDATE:20301027T020000
TZOFFSETFROM:+0100
TZOFFSETTO:+0200
TZNAME:Europe/Prague CEST
END:DAYLIGHT
BEGIN:DAYLIGHT
DTSTART:20310330T030000
RDATE:20311026T020000
TZOFFSETFROM:+0100
TZOFFSETTO:+0200
TZNAME:Europe/Prague CEST
END:DAYLIGHT
END:VTIMEZONE
BEGIN:VEVENT
UID:a829c0313ba3c07a8a7f4fe38f88ea25
CATEGORIES:Burzy
CREATED:20260128T220845
SUMMARY:Entomologický výměnný a prodejní den s výstavou bezobratlých živočichů v Brně
LOCATION:Brno\, Česká republika
DESCRIPTION:sál Dělnického domu v Brně, na ulici Jamborova č. 65, zastávka tram.č.9, bu
 s 55,58,78. \nSoučástí akce bude prodej entomologického materiálu, potřeb a
  literatury i ukázky prací Entomologických kroužků E.K.J.CH., Ing. Jiřího C
 hromého. \nInformace: Ing. Jiří Chromý, mobil: +420 730 807 770,E-mail:  (m
 ailto:jurachromy@seznam.cz) (mailto:jurachromy@seznam.cz)Tato e-mailová adr
 esa je chráněna před spamboty. Pro její zobrazení musíte mít povolen Javasc
 ript. \n
X-ALT-DESC;FMTTYPE=text/html:<p><strong>sál Dělnického domu v Brně, </strong>na ulici Jamborova č. 65, z
 astávka tram.č.9, bus 55,58,78<strong>. </strong></p><p>Součástí akce bude 
 prodej entomologického materiálu, potřeb a literatury i ukázky prací Entomo
 logických kroužků E.K.J.CH., Ing. Jiřího Chromého.&nbsp;</p><p>Informace: I
 ng. Jiří Chromý, mobil: +420 730 807 770,E-mail:&nbsp;<a href="mailto:jurac
 hromy@seznam.cz"></a><a href="mailto:jurachromy@seznam.cz"></a><joomla-hidd
 en-mail  is-link="" is-email="1" first="anVyYWNocm9teQ==" last="c2V6bmFtLmN
 6" text="anVyYWNocm9teUBzZXpuYW0uY3o=" base="" >Tato e-mailová adresa je ch
 ráněna před spamboty. Pro její zobrazení musíte mít povolen Javascript.</jo
 omla-hidden-mail>&nbsp;</p>
CONTACT:Ing. Jiří Chromý, mobil: +420 730 807 770, e-mail: Tato e-mailová adresa je chráněna před spamboty. Pro její zobrazení musíte mít povolen Javascript.
DTSTAMP:20260420T003133
DTSTART;TZID=Europe/Prague:20260912T090000
DTEND;TZID=Europe/Prague:20260912T130000
SEQUENCE:0
TRANSP:OPAQUE
END:VEVENT
END:VCALENDAR