BEGIN:VCALENDAR
VERSION:2.0
PRODID:-//jEvents 2.0 for Joomla//EN
CALSCALE:GREGORIAN
METHOD:PUBLISH
BEGIN:VTIMEZONE
TZID:Europe/Prague
BEGIN:STANDARD
DTSTART:20251026T020000
RDATE:20260329T030000
TZOFFSETFROM:+0200
TZOFFSETTO:+0100
TZNAME:Europe/Prague CET
END:STANDARD
BEGIN:STANDARD
DTSTART:20261025T020000
RDATE:20270328T030000
TZOFFSETFROM:+0200
TZOFFSETTO:+0100
TZNAME:Europe/Prague CET
END:STANDARD
BEGIN:STANDARD
DTSTART:20271031T020000
RDATE:20280326T030000
TZOFFSETFROM:+0200
TZOFFSETTO:+0100
TZNAME:Europe/Prague CET
END:STANDARD
BEGIN:STANDARD
DTSTART:20281029T020000
RDATE:20290325T030000
TZOFFSETFROM:+0200
TZOFFSETTO:+0100
TZNAME:Europe/Prague CET
END:STANDARD
BEGIN:STANDARD
DTSTART:20291028T020000
RDATE:20300331T030000
TZOFFSETFROM:+0200
TZOFFSETTO:+0100
TZNAME:Europe/Prague CET
END:STANDARD
BEGIN:STANDARD
DTSTART:20301027T020000
RDATE:20310330T030000
TZOFFSETFROM:+0200
TZOFFSETTO:+0100
TZNAME:Europe/Prague CET
END:STANDARD
BEGIN:STANDARD
DTSTART:20311026T020000
RDATE:20320328T030000
TZOFFSETFROM:+0200
TZOFFSETTO:+0100
TZNAME:Europe/Prague CET
END:STANDARD
BEGIN:DAYLIGHT
DTSTART:20251016T080000
RDATE:20251026T020000
TZOFFSETFROM:+0100
TZOFFSETTO:+0200
TZNAME:Europe/Prague CEST
END:DAYLIGHT
BEGIN:DAYLIGHT
DTSTART:20260329T030000
RDATE:20261025T020000
TZOFFSETFROM:+0100
TZOFFSETTO:+0200
TZNAME:Europe/Prague CEST
END:DAYLIGHT
BEGIN:DAYLIGHT
DTSTART:20270328T030000
RDATE:20271031T020000
TZOFFSETFROM:+0100
TZOFFSETTO:+0200
TZNAME:Europe/Prague CEST
END:DAYLIGHT
BEGIN:DAYLIGHT
DTSTART:20280326T030000
RDATE:20281029T020000
TZOFFSETFROM:+0100
TZOFFSETTO:+0200
TZNAME:Europe/Prague CEST
END:DAYLIGHT
BEGIN:DAYLIGHT
DTSTART:20290325T030000
RDATE:20291028T020000
TZOFFSETFROM:+0100
TZOFFSETTO:+0200
TZNAME:Europe/Prague CEST
END:DAYLIGHT
BEGIN:DAYLIGHT
DTSTART:20300331T030000
RDATE:20301027T020000
TZOFFSETFROM:+0100
TZOFFSETTO:+0200
TZNAME:Europe/Prague CEST
END:DAYLIGHT
BEGIN:DAYLIGHT
DTSTART:20310330T030000
RDATE:20311026T020000
TZOFFSETFROM:+0100
TZOFFSETTO:+0200
TZNAME:Europe/Prague CEST
END:DAYLIGHT
END:VTIMEZONE
BEGIN:VEVENT
UID:4fba6b8c6a04d2949a7ae5fe35c3539a
CATEGORIES:Burzy
CREATED:20260128T221634
SUMMARY:Výměnný den ČSE Praha
LOCATION:Praha\, Česká republika
DESCRIPTION:výměnný den pořádá ČSE - Kulturní dům Barikádníků, Saratovská 20, Praha 10.
  Burza je setkáním sběratelů a chovatelů brouků, motýlů a ostatních skupin 
 hmyzu. Nákup, prodej, výměna a také prodej odborné literatury a entomol. po
 třeb.\nInformace na mob.: +420 602 556 557, p.Jakub Rolčík, e-mail: Tato e-
 mailová adresa je chráněna před spamboty. Pro její zobrazení musíte mít pov
 olen Javascript.\n
X-ALT-DESC;FMTTYPE=text/html:<p>výměnný den pořádá ČSE - <strong>Kulturní dům Barikádníků,</strong> Sara
 tovská 20, Praha 10. Burza je setkáním sběratelů a chovatelů brouků, motýlů
  a ostatních skupin hmyzu. Nákup, prodej, výměna a také prodej odborné lite
 ratury a entomol. potřeb.</p><p>Informace na mob.: +420 602 556 557, p.Jaku
 b Rolčík, e-mail: <joomla-hidden-mail  is-link="" is-email="1" first="amFrd
 WI=" last="Y2xlcmlkYWUuY3o=" text="amFrdWJAY2xlcmlkYWUuY3o=" base="" >Tato 
 e-mailová adresa je chráněna před spamboty. Pro její zobrazení musíte mít p
 ovolen Javascript.</joomla-hidden-mail></p>
CONTACT:Jakub Rolčík, mobil: +420 602 556 557, e-mail: Tato e-mailová adresa je chráněna před spamboty. Pro její zobrazení musíte mít povolen Javascript.
DTSTAMP:20260420T003133
DTSTART;TZID=Europe/Prague:20261017T080000
DTEND;TZID=Europe/Prague:20261017T120000
SEQUENCE:0
TRANSP:OPAQUE
END:VEVENT
END:VCALENDAR