BEGIN:VCALENDAR
VERSION:2.0
PRODID:-//jEvents 2.0 for Joomla//EN
CALSCALE:GREGORIAN
METHOD:PUBLISH
BEGIN:VTIMEZONE
TZID:Europe/Prague
BEGIN:STANDARD
DTSTART:20251026T020000
RDATE:20260329T030000
TZOFFSETFROM:+0200
TZOFFSETTO:+0100
TZNAME:Europe/Prague CET
END:STANDARD
BEGIN:STANDARD
DTSTART:20261025T020000
RDATE:20270328T030000
TZOFFSETFROM:+0200
TZOFFSETTO:+0100
TZNAME:Europe/Prague CET
END:STANDARD
BEGIN:STANDARD
DTSTART:20271031T020000
RDATE:20280326T030000
TZOFFSETFROM:+0200
TZOFFSETTO:+0100
TZNAME:Europe/Prague CET
END:STANDARD
BEGIN:STANDARD
DTSTART:20281029T020000
RDATE:20290325T030000
TZOFFSETFROM:+0200
TZOFFSETTO:+0100
TZNAME:Europe/Prague CET
END:STANDARD
BEGIN:STANDARD
DTSTART:20291028T020000
RDATE:20300331T030000
TZOFFSETFROM:+0200
TZOFFSETTO:+0100
TZNAME:Europe/Prague CET
END:STANDARD
BEGIN:STANDARD
DTSTART:20301027T020000
RDATE:20310330T030000
TZOFFSETFROM:+0200
TZOFFSETTO:+0100
TZNAME:Europe/Prague CET
END:STANDARD
BEGIN:STANDARD
DTSTART:20311026T020000
RDATE:20320328T030000
TZOFFSETFROM:+0200
TZOFFSETTO:+0100
TZNAME:Europe/Prague CET
END:STANDARD
BEGIN:DAYLIGHT
DTSTART:20251024T083000
RDATE:20251026T020000
TZOFFSETFROM:+0100
TZOFFSETTO:+0200
TZNAME:Europe/Prague CEST
END:DAYLIGHT
BEGIN:DAYLIGHT
DTSTART:20260329T030000
RDATE:20261025T020000
TZOFFSETFROM:+0100
TZOFFSETTO:+0200
TZNAME:Europe/Prague CEST
END:DAYLIGHT
BEGIN:DAYLIGHT
DTSTART:20270328T030000
RDATE:20271031T020000
TZOFFSETFROM:+0100
TZOFFSETTO:+0200
TZNAME:Europe/Prague CEST
END:DAYLIGHT
BEGIN:DAYLIGHT
DTSTART:20280326T030000
RDATE:20281029T020000
TZOFFSETFROM:+0100
TZOFFSETTO:+0200
TZNAME:Europe/Prague CEST
END:DAYLIGHT
BEGIN:DAYLIGHT
DTSTART:20290325T030000
RDATE:20291028T020000
TZOFFSETFROM:+0100
TZOFFSETTO:+0200
TZNAME:Europe/Prague CEST
END:DAYLIGHT
BEGIN:DAYLIGHT
DTSTART:20300331T030000
RDATE:20301027T020000
TZOFFSETFROM:+0100
TZOFFSETTO:+0200
TZNAME:Europe/Prague CEST
END:DAYLIGHT
BEGIN:DAYLIGHT
DTSTART:20310330T030000
RDATE:20311026T020000
TZOFFSETFROM:+0100
TZOFFSETTO:+0200
TZNAME:Europe/Prague CEST
END:DAYLIGHT
END:VTIMEZONE
BEGIN:VEVENT
UID:3d217f94ef63ee8c02540d0cbe8a3ebc
CATEGORIES:Burzy
CREATED:20260128T222147
SUMMARY:Entomologická burza Mnichov
LOCATION:Mnichov\, DE
DESCRIPTION:62. mnichovská burza hmyzu München\nim Kolpinghaus St. Theresia, Hanebergst
 raße 8, 80637 München (T +4989126050).\nEinritt 5,- Euro.\nAnmeldung per Ma
 il an  (mailto:stefan.loeflath@t-online.de) (mailto:stefan.loeflath@t-onlin
 e.de)Tato e-mailová adresa je chráněna před spamboty. Pro její zobrazení mu
 síte mít povolen Javascript.\nBitte beachten:\n\n - Die aktuell von der Bay
 erischen Landesregierung erlassenen Gesetzte und evtl. Verordnungen zur Pan
 demie werden vom Veranstalter umgesetzt und sind zu beachten!\n - Aufbauten
  über 80 cm sind aus feuerpolizeilichen Gründen nur an Wandplätzen gestatte
 t\n - Die derzeit gültigen Fassungen des Bundesnaturschutzgesetzes und die 
 Bestimmungen des Washingtoner Artenschutzabkommens sind strikt zu beachten!
 \n - Es dürfen nur Insekten ausgestellt werden! Keine Krebse, Schnecken und
  Muscheln sowie lebende Spinnen und Skorpione!Zuwiderhandlungen gehen mit a
 llen Folgen zu Lasten des jeweiligen Ausstellers.\nAnmeldungen bitte per Ma
 il an  (mailto:stefan.loeflath@t-online.de) (mailto:stefan.loeflath@t-onlin
 e.de)Tato e-mailová adresa je chráněna před spamboty. Pro její zobrazení mu
 síte mít povolen Javascript.\nPlatzreservierungen an Unbekannte erfolgen nu
 r, wenn die Standmiete vorab per Überweisung bezahlt wurde.\n
X-ALT-DESC;FMTTYPE=text/html:<p>62. mnichovská burza hmyzu München</p><p>im Kolpinghaus St. Theresia, Ha
 nebergstraße 8, 80637 München (T +4989126050).</p><p>Einritt 5,- Euro.</p><
 p>Anmeldung per Mail an <a href="mailto:stefan.loeflath@t-online.de"></a><a
  href="mailto:stefan.loeflath@t-online.de"></a><joomla-hidden-mail  is-link
 ="" is-email="1" first="c3RlZmFuLmxvZWZsYXRo" last="dC1vbmxpbmUuZGU=" text=
 "c3RlZmFuLmxvZWZsYXRoQHQtb25saW5lLmRl" base="" >Tato e-mailová adresa je ch
 ráněna před spamboty. Pro její zobrazení musíte mít povolen Javascript.</jo
 omla-hidden-mail></p><p>Bitte beachten:</p><ul><li>Die aktuell von der Baye
 rischen Landesregierung erlassenen Gesetzte und evtl. Verordnungen zur Pand
 emie werden vom Veranstalter umgesetzt und sind zu beachten!</li><li>Aufbau
 ten über 80 cm sind aus feuerpolizeilichen Gründen nur an Wandplätzen gesta
 ttet</li><li>Die derzeit gültigen Fassungen des Bundesnaturschutzgesetzes u
 nd die Bestimmungen des Washingtoner Artenschutzabkommens sind strikt zu be
 achten!</li><li>Es dürfen nur Insekten ausgestellt werden! Keine Krebse, Sc
 hnecken und Muscheln sowie lebende Spinnen und Skorpione!</li></ul><p>Zuwid
 erhandlungen gehen mit allen Folgen zu Lasten des jeweiligen Ausstellers.</
 p><p>Anmeldungen bitte per Mail an <a href="mailto:stefan.loeflath@t-online
 .de"></a><a href="mailto:stefan.loeflath@t-online.de"></a><joomla-hidden-ma
 il  is-link="" is-email="1" first="c3RlZmFuLmxvZWZsYXRo" last="dC1vbmxpbmUu
 ZGU=" text="c3RlZmFuLmxvZWZsYXRoQHQtb25saW5lLmRl" base="" >Tato e-mailová a
 dresa je chráněna před spamboty. Pro její zobrazení musíte mít povolen Java
 script.</joomla-hidden-mail></p><p>Platzreservierungen an Unbekannte erfolg
 en nur, wenn die Standmiete vorab per Überweisung bezahlt wurde.</p>
CONTACT:E-mail: Tato e-mailová adresa je chráněna před spamboty. Pro její zobrazení musíte mít povolen Javascript.
DTSTAMP:20260420T003133
DTSTART;TZID=Europe/Prague:20261025T073000
DTEND;TZID=Europe/Prague:20261025T130000
SEQUENCE:0
TRANSP:OPAQUE
END:VEVENT
END:VCALENDAR