BEGIN:VCALENDAR
VERSION:2.0
PRODID:-//jEvents 2.0 for Joomla//EN
CALSCALE:GREGORIAN
METHOD:PUBLISH
BEGIN:VTIMEZONE
TZID:Europe/Prague
BEGIN:STANDARD
DTSTART:20251212T080000
RDATE:20260329T030000
TZOFFSETFROM:+0200
TZOFFSETTO:+0100
TZNAME:Europe/Prague CET
END:STANDARD
BEGIN:STANDARD
DTSTART:20261025T020000
RDATE:20270328T030000
TZOFFSETFROM:+0200
TZOFFSETTO:+0100
TZNAME:Europe/Prague CET
END:STANDARD
BEGIN:STANDARD
DTSTART:20271031T020000
RDATE:20280326T030000
TZOFFSETFROM:+0200
TZOFFSETTO:+0100
TZNAME:Europe/Prague CET
END:STANDARD
BEGIN:STANDARD
DTSTART:20281029T020000
RDATE:20290325T030000
TZOFFSETFROM:+0200
TZOFFSETTO:+0100
TZNAME:Europe/Prague CET
END:STANDARD
BEGIN:STANDARD
DTSTART:20291028T020000
RDATE:20300331T030000
TZOFFSETFROM:+0200
TZOFFSETTO:+0100
TZNAME:Europe/Prague CET
END:STANDARD
BEGIN:STANDARD
DTSTART:20301027T020000
RDATE:20310330T030000
TZOFFSETFROM:+0200
TZOFFSETTO:+0100
TZNAME:Europe/Prague CET
END:STANDARD
BEGIN:STANDARD
DTSTART:20311026T020000
RDATE:20320328T030000
TZOFFSETFROM:+0200
TZOFFSETTO:+0100
TZNAME:Europe/Prague CET
END:STANDARD
BEGIN:DAYLIGHT
DTSTART:20260329T030000
RDATE:20261025T020000
TZOFFSETFROM:+0100
TZOFFSETTO:+0200
TZNAME:Europe/Prague CEST
END:DAYLIGHT
BEGIN:DAYLIGHT
DTSTART:20270328T030000
RDATE:20271031T020000
TZOFFSETFROM:+0100
TZOFFSETTO:+0200
TZNAME:Europe/Prague CEST
END:DAYLIGHT
BEGIN:DAYLIGHT
DTSTART:20280326T030000
RDATE:20281029T020000
TZOFFSETFROM:+0100
TZOFFSETTO:+0200
TZNAME:Europe/Prague CEST
END:DAYLIGHT
BEGIN:DAYLIGHT
DTSTART:20290325T030000
RDATE:20291028T020000
TZOFFSETFROM:+0100
TZOFFSETTO:+0200
TZNAME:Europe/Prague CEST
END:DAYLIGHT
BEGIN:DAYLIGHT
DTSTART:20300331T030000
RDATE:20301027T020000
TZOFFSETFROM:+0100
TZOFFSETTO:+0200
TZNAME:Europe/Prague CEST
END:DAYLIGHT
BEGIN:DAYLIGHT
DTSTART:20310330T030000
RDATE:20311026T020000
TZOFFSETFROM:+0100
TZOFFSETTO:+0200
TZNAME:Europe/Prague CEST
END:DAYLIGHT
END:VTIMEZONE
BEGIN:VEVENT
UID:934d2b9ba373d9f552d8520608444439
CATEGORIES:Burzy
CREATED:20260128T223438
SUMMARY:Entomologická burza Bohumín
LOCATION:Bohumín\, Česká republika
DESCRIPTION:<p>Entomologická burza u hranic Bohumín.</p><p>Sokolovna Bohumín Záblatí, 7
 35 52 Bohumín</p><p>Jedná se o setkání sběratelů a chovatelů brouků, motýlů
  a ostatních skupin hmyzu. Nákup, prodej, výměna a také prodej odborné lite
 ratury a entomol. potřeb.</p><p>Informace na mob.: +420 731 134 527,p. Jan 
 Krnáč, www.insectpins.cz, e-mail: <a href="mailto:halwire@centrum.cz"></a><
 a href="mailto:halwire@centrum.cz"></a><joomla-hidden-mail  is-link="" is-e
 mail="1" first="aGFsd2lyZQ==" last="Y2VudHJ1bS5jeg==" text="aGFsd2lyZUBjZW5
 0cnVtLmN6" base="" >Tato e-mailová adresa je chráněna před spamboty. Pro je
 jí zobrazení musíte mít povolen Javascript.</joomla-hidden-mail></p>
CONTACT:Jan Krnáč, mobil: +420 731 134 527, e-mail: Tato e-mailová adresa je chráněna před spamboty. Pro její zobrazení musíte mít povolen Javascript.
DTSTAMP:20260420T004439
DTSTART;TZID=Europe/Prague:20261213T080000
DTEND;TZID=Europe/Prague:20261213T120000
SEQUENCE:0
TRANSP:OPAQUE
END:VEVENT
END:VCALENDAR