BEGIN:VCALENDAR
VERSION:2.0
PRODID:-//jEvents 2.0 for Joomla//EN
CALSCALE:GREGORIAN
METHOD:PUBLISH
BEGIN:VTIMEZONE
TZID:Europe/Prague
BEGIN:STANDARD
DTSTART:20231029T020000
RDATE:20240331T030000
TZOFFSETFROM:+0200
TZOFFSETTO:+0100
TZNAME:Europe/Prague CET
END:STANDARD
BEGIN:STANDARD
DTSTART:20241027T020000
RDATE:20250330T030000
TZOFFSETFROM:+0200
TZOFFSETTO:+0100
TZNAME:Europe/Prague CET
END:STANDARD
BEGIN:STANDARD
DTSTART:20251026T020000
RDATE:20260329T030000
TZOFFSETFROM:+0200
TZOFFSETTO:+0100
TZNAME:Europe/Prague CET
END:STANDARD
BEGIN:STANDARD
DTSTART:20261025T020000
RDATE:20270328T030000
TZOFFSETFROM:+0200
TZOFFSETTO:+0100
TZNAME:Europe/Prague CET
END:STANDARD
BEGIN:STANDARD
DTSTART:20271031T020000
RDATE:20280326T030000
TZOFFSETFROM:+0200
TZOFFSETTO:+0100
TZNAME:Europe/Prague CET
END:STANDARD
BEGIN:STANDARD
DTSTART:20281029T020000
RDATE:20290325T030000
TZOFFSETFROM:+0200
TZOFFSETTO:+0100
TZNAME:Europe/Prague CET
END:STANDARD
BEGIN:STANDARD
DTSTART:20291028T020000
RDATE:20300331T030000
TZOFFSETFROM:+0200
TZOFFSETTO:+0100
TZNAME:Europe/Prague CET
END:STANDARD
BEGIN:STANDARD
DTSTART:20301027T020000
RDATE:20310330T030000
TZOFFSETFROM:+0200
TZOFFSETTO:+0100
TZNAME:Europe/Prague CET
END:STANDARD
BEGIN:STANDARD
DTSTART:20311026T020000
RDATE:20320328T030000
TZOFFSETFROM:+0200
TZOFFSETTO:+0100
TZNAME:Europe/Prague CET
END:STANDARD
BEGIN:DAYLIGHT
DTSTART:20230727T083000
RDATE:20231029T020000
TZOFFSETFROM:+0100
TZOFFSETTO:+0200
TZNAME:Europe/Prague CEST
END:DAYLIGHT
BEGIN:DAYLIGHT
DTSTART:20240331T030000
RDATE:20241027T020000
TZOFFSETFROM:+0100
TZOFFSETTO:+0200
TZNAME:Europe/Prague CEST
END:DAYLIGHT
BEGIN:DAYLIGHT
DTSTART:20250330T030000
RDATE:20251026T020000
TZOFFSETFROM:+0100
TZOFFSETTO:+0200
TZNAME:Europe/Prague CEST
END:DAYLIGHT
BEGIN:DAYLIGHT
DTSTART:20260329T030000
RDATE:20261025T020000
TZOFFSETFROM:+0100
TZOFFSETTO:+0200
TZNAME:Europe/Prague CEST
END:DAYLIGHT
BEGIN:DAYLIGHT
DTSTART:20270328T030000
RDATE:20271031T020000
TZOFFSETFROM:+0100
TZOFFSETTO:+0200
TZNAME:Europe/Prague CEST
END:DAYLIGHT
BEGIN:DAYLIGHT
DTSTART:20280326T030000
RDATE:20281029T020000
TZOFFSETFROM:+0100
TZOFFSETTO:+0200
TZNAME:Europe/Prague CEST
END:DAYLIGHT
BEGIN:DAYLIGHT
DTSTART:20290325T030000
RDATE:20291028T020000
TZOFFSETFROM:+0100
TZOFFSETTO:+0200
TZNAME:Europe/Prague CEST
END:DAYLIGHT
BEGIN:DAYLIGHT
DTSTART:20300331T030000
RDATE:20301027T020000
TZOFFSETFROM:+0100
TZOFFSETTO:+0200
TZNAME:Europe/Prague CEST
END:DAYLIGHT
BEGIN:DAYLIGHT
DTSTART:20310330T030000
RDATE:20311026T020000
TZOFFSETFROM:+0100
TZOFFSETTO:+0200
TZNAME:Europe/Prague CEST
END:DAYLIGHT
END:VTIMEZONE
BEGIN:VEVENT
UID:7e1a3247fc1f2134b10859643e115aea
CATEGORIES:Burzy
CREATED:20240321T152023
SUMMARY:Terrabazar Praha
LOCATION:Praha\, Česká republika
DESCRIPTION:<p>TERRABAZAR <a href="http://terrabazar.cz"></a><a href="http://terrabazar
 .cz">http://terrabazar.cz</a> je nejstarší výstavní a prodejní burza terari
 jních zvířat a exotického ptactva v Praze založená Teraristickou společnost
 í Praha a Klubem přátel exotického ptactva, která se koná pravidelně jednou
  za měsíc.<br /><br />Najdete nás: První jazyková základní škola, Horáčkova
  1100, Praha 4, 140 00 u metra Pankrác. Vstup pro veřejnost je od 8:30 do 1
 2:00.<br /><br />Co uvidíte a můžete zakoupit na TERRABAZARU: •Terarijní zv
 ířata přímo od chovatelů: želvy, hady, ještěry, chameleony, gekony, exotick
 é ptactvo, pavouky, brouky, morčata, králíky, myši, žáby, ježky, atd. •Exot
 ické ptactvo přímo od chovatelů •Akvarijní a terarijní rostlinky přímo od p
 ěstitelů •Velký výběr různých druhů krmiv: suché (zrní pro exotické ptactvo
 ), mražené i živé krmení (cvrčci, sarančata, larvy, myšata, hlodavci), vita
 mínové přípravky •Literatura: české a zahraniční specializované knihy a čas
 opisy •Vybavená i nevybavená terária a akvária. Možnost objednat lepení akv
 ária a terária na míru a odvozem zdarma o Praze. •Vybavení terárií a voliér
 : vlastní terária (prostá i dekorativní s vybavením), specializované lampy 
 a zářivky, topná tělesa, inkubátory, substráty, dekorativní větve a kůry...
  •Odborná konzultace zdarma přímo u teraristů, chovatelů exotického ptactva
  a pěstitelů s mnohaletou zkušeností •Exkluzivní možnost nakoupit za levněj
 ší ceny než u koncových obchodníků na téměř 1000 m² obchodní plochy •Veteri
 nární poradna zdarma od odborníka na terarijní zvířata a exotické ptactvo M
 VDr. Sebastian Franco •Legislativní a chovatelská poradna (zkušení terarist
 i z řad Teraristické společnosti Praha a Klubu přátel exotického ptactva) •
 Záchranná stanice pro exotické ptactvo Společnost Laguna.</p>
CONTACT:Lenka Kubíčková, mobil: +420 721 444 354, e-mail: Tato e-mailová adresa je chráněna před spamboty. Pro její zobrazení musíte mít povolen Javascript.
DTSTAMP:20260420T002527
DTSTART;TZID=Europe/Prague:20240727T083000
DTEND;TZID=Europe/Prague:20240727T120000
SEQUENCE:0
TRANSP:OPAQUE
END:VEVENT
END:VCALENDAR