BEGIN:VCALENDAR
VERSION:2.0
PRODID:-//jEvents 2.0 for Joomla//EN
CALSCALE:GREGORIAN
METHOD:PUBLISH
BEGIN:VTIMEZONE
TZID:Europe/Prague
BEGIN:STANDARD
DTSTART:20230120T090000
RDATE:20230326T030000
TZOFFSETFROM:+0200
TZOFFSETTO:+0100
TZNAME:Europe/Prague CET
END:STANDARD
BEGIN:STANDARD
DTSTART:20231029T020000
RDATE:20240331T030000
TZOFFSETFROM:+0200
TZOFFSETTO:+0100
TZNAME:Europe/Prague CET
END:STANDARD
BEGIN:STANDARD
DTSTART:20241027T020000
RDATE:20250330T030000
TZOFFSETFROM:+0200
TZOFFSETTO:+0100
TZNAME:Europe/Prague CET
END:STANDARD
BEGIN:STANDARD
DTSTART:20251026T020000
RDATE:20260329T030000
TZOFFSETFROM:+0200
TZOFFSETTO:+0100
TZNAME:Europe/Prague CET
END:STANDARD
BEGIN:STANDARD
DTSTART:20261025T020000
RDATE:20270328T030000
TZOFFSETFROM:+0200
TZOFFSETTO:+0100
TZNAME:Europe/Prague CET
END:STANDARD
BEGIN:STANDARD
DTSTART:20271031T020000
RDATE:20280326T030000
TZOFFSETFROM:+0200
TZOFFSETTO:+0100
TZNAME:Europe/Prague CET
END:STANDARD
BEGIN:STANDARD
DTSTART:20281029T020000
RDATE:20290325T030000
TZOFFSETFROM:+0200
TZOFFSETTO:+0100
TZNAME:Europe/Prague CET
END:STANDARD
BEGIN:STANDARD
DTSTART:20291028T020000
RDATE:20300331T030000
TZOFFSETFROM:+0200
TZOFFSETTO:+0100
TZNAME:Europe/Prague CET
END:STANDARD
BEGIN:STANDARD
DTSTART:20301027T020000
RDATE:20310330T030000
TZOFFSETFROM:+0200
TZOFFSETTO:+0100
TZNAME:Europe/Prague CET
END:STANDARD
BEGIN:STANDARD
DTSTART:20311026T020000
RDATE:20320328T030000
TZOFFSETFROM:+0200
TZOFFSETTO:+0100
TZNAME:Europe/Prague CET
END:STANDARD
BEGIN:DAYLIGHT
DTSTART:20230326T030000
RDATE:20231029T020000
TZOFFSETFROM:+0100
TZOFFSETTO:+0200
TZNAME:Europe/Prague CEST
END:DAYLIGHT
BEGIN:DAYLIGHT
DTSTART:20240331T030000
RDATE:20241027T020000
TZOFFSETFROM:+0100
TZOFFSETTO:+0200
TZNAME:Europe/Prague CEST
END:DAYLIGHT
BEGIN:DAYLIGHT
DTSTART:20250330T030000
RDATE:20251026T020000
TZOFFSETFROM:+0100
TZOFFSETTO:+0200
TZNAME:Europe/Prague CEST
END:DAYLIGHT
BEGIN:DAYLIGHT
DTSTART:20260329T030000
RDATE:20261025T020000
TZOFFSETFROM:+0100
TZOFFSETTO:+0200
TZNAME:Europe/Prague CEST
END:DAYLIGHT
BEGIN:DAYLIGHT
DTSTART:20270328T030000
RDATE:20271031T020000
TZOFFSETFROM:+0100
TZOFFSETTO:+0200
TZNAME:Europe/Prague CEST
END:DAYLIGHT
BEGIN:DAYLIGHT
DTSTART:20280326T030000
RDATE:20281029T020000
TZOFFSETFROM:+0100
TZOFFSETTO:+0200
TZNAME:Europe/Prague CEST
END:DAYLIGHT
BEGIN:DAYLIGHT
DTSTART:20290325T030000
RDATE:20291028T020000
TZOFFSETFROM:+0100
TZOFFSETTO:+0200
TZNAME:Europe/Prague CEST
END:DAYLIGHT
BEGIN:DAYLIGHT
DTSTART:20300331T030000
RDATE:20301027T020000
TZOFFSETFROM:+0100
TZOFFSETTO:+0200
TZNAME:Europe/Prague CEST
END:DAYLIGHT
BEGIN:DAYLIGHT
DTSTART:20310330T030000
RDATE:20311026T020000
TZOFFSETFROM:+0100
TZOFFSETTO:+0200
TZNAME:Europe/Prague CEST
END:DAYLIGHT
END:VTIMEZONE
BEGIN:VEVENT
UID:9b04c14c2f9d7a12a47527dfd75cf25b
CATEGORIES:Burzy
CREATED:20240321T155441
SUMMARY:Entomologická burza ingoldstadt
LOCATION:Ingoldstadt\, Německo
DESCRIPTION:Ingolstädter Insektenbörse\nim Veranstaltungssaal der Sportgaststätte Maili
 ng-Feldkirchen, Am Himmelreich 15, 85055 Ingolstadt\n(Der Veranstaltungsort
  befindet sich in Nähe der Autobahn A9, zu erreichen über die Bundesstraße 
 B16a.)\nParkplätze stehen in ausreichender Anzahl direkt am Veranstaltungso
 rt zur Verfügung.\nDarüber hinaus bietet das Restaurant und Café "Genussvol
 l" eine willkommene Gelegenheit, um sich bei einem Imbiss oder auch Mittage
 ssen in gemütlicher Atmosphäre austauschen zu können.\nDie Gebühr für Ausst
 eller beträgt 10,- € pro laufendem Meter Tischfläche.\nDa der Platz begrenz
 t ist, möchten wir Euch um baldige und verbindliche Anmeldung bitten.\nBitt
 e sendet Euren Reservierungswunsch per Mail an  (mailto:Dr.A-Haller@t-onlin
 e.de) (mailto:Dr.A-Haller@t-online.de)Tato e-mailová adresa je chráněna pře
 d spamboty. Pro její zobrazení musíte mít povolen Javascript.\n
X-ALT-DESC;FMTTYPE=text/html:<p><strong>Ingolstädter Insektenbörse</strong></p><p>im Veranstaltungssaal 
 der <strong>Sportgaststätte Mailing-Feldkirchen, Am Himmelreich 15, 85055 I
 ngolstadt</strong></p><p>(Der Veranstaltungsort befindet sich in Nähe der A
 utobahn A9, zu erreichen über die Bundesstraße B16a.)</p><p>Parkplätze steh
 en in ausreichender Anzahl direkt am Veranstaltungsort zur Verfügung.</p><p
 >Darüber hinaus bietet das Restaurant und Café "Genussvoll" eine willkommen
 e Gelegenheit, um sich bei einem Imbiss oder auch Mittagessen in gemütliche
 r Atmosphäre austauschen zu können.</p><p>Die Gebühr für Aussteller beträgt
  10,- € pro laufendem Meter Tischfläche.</p><p>Da der Platz begrenzt ist, m
 öchten wir Euch um baldige und verbindliche Anmeldung bitten.</p><p>Bitte s
 endet Euren Reservierungswunsch per Mail an <a href="mailto:Dr.A-Haller@t-o
 nline.de"></a><a href="mailto:Dr.A-Haller@t-online.de"></a><joomla-hidden-m
 ail  is-link="" is-email="1" first="RHIuQS1IYWxsZXI=" last="dC1vbmxpbmUuZGU
 =" text="RHIuQS1IYWxsZXJAdC1vbmxpbmUuZGU=" base="" >Tato e-mailová adresa j
 e chráněna před spamboty. Pro její zobrazení musíte mít povolen Javascript.
 </joomla-hidden-mail></p>
CONTACT:E-mail: Tato e-mailová adresa je chráněna před spamboty. Pro její zobrazení musíte mít povolen Javascript.
DTSTAMP:20260419T221910
DTSTART;TZID=Europe/Prague:20240121T090000
DTEND;TZID=Europe/Prague:20240121T150000
SEQUENCE:0
TRANSP:OPAQUE
END:VEVENT
END:VCALENDAR