BEGIN:VCALENDAR
VERSION:2.0
PRODID:-//jEvents 2.0 for Joomla//EN
CALSCALE:GREGORIAN
METHOD:PUBLISH
BEGIN:VTIMEZONE
TZID:Europe/Prague
BEGIN:STANDARD
DTSTART:20231029T020000
RDATE:20240331T030000
TZOFFSETFROM:+0200
TZOFFSETTO:+0100
TZNAME:Europe/Prague CET
END:STANDARD
BEGIN:STANDARD
DTSTART:20241027T020000
RDATE:20250330T030000
TZOFFSETFROM:+0200
TZOFFSETTO:+0100
TZNAME:Europe/Prague CET
END:STANDARD
BEGIN:STANDARD
DTSTART:20251026T020000
RDATE:20260329T030000
TZOFFSETFROM:+0200
TZOFFSETTO:+0100
TZNAME:Europe/Prague CET
END:STANDARD
BEGIN:STANDARD
DTSTART:20261025T020000
RDATE:20270328T030000
TZOFFSETFROM:+0200
TZOFFSETTO:+0100
TZNAME:Europe/Prague CET
END:STANDARD
BEGIN:STANDARD
DTSTART:20271031T020000
RDATE:20280326T030000
TZOFFSETFROM:+0200
TZOFFSETTO:+0100
TZNAME:Europe/Prague CET
END:STANDARD
BEGIN:STANDARD
DTSTART:20281029T020000
RDATE:20290325T030000
TZOFFSETFROM:+0200
TZOFFSETTO:+0100
TZNAME:Europe/Prague CET
END:STANDARD
BEGIN:STANDARD
DTSTART:20291028T020000
RDATE:20300331T030000
TZOFFSETFROM:+0200
TZOFFSETTO:+0100
TZNAME:Europe/Prague CET
END:STANDARD
BEGIN:STANDARD
DTSTART:20301027T020000
RDATE:20310330T030000
TZOFFSETFROM:+0200
TZOFFSETTO:+0100
TZNAME:Europe/Prague CET
END:STANDARD
BEGIN:STANDARD
DTSTART:20311026T020000
RDATE:20320328T030000
TZOFFSETFROM:+0200
TZOFFSETTO:+0100
TZNAME:Europe/Prague CET
END:STANDARD
BEGIN:DAYLIGHT
DTSTART:20230908T083000
RDATE:20231029T020000
TZOFFSETFROM:+0100
TZOFFSETTO:+0200
TZNAME:Europe/Prague CEST
END:DAYLIGHT
BEGIN:DAYLIGHT
DTSTART:20240331T030000
RDATE:20241027T020000
TZOFFSETFROM:+0100
TZOFFSETTO:+0200
TZNAME:Europe/Prague CEST
END:DAYLIGHT
BEGIN:DAYLIGHT
DTSTART:20250330T030000
RDATE:20251026T020000
TZOFFSETFROM:+0100
TZOFFSETTO:+0200
TZNAME:Europe/Prague CEST
END:DAYLIGHT
BEGIN:DAYLIGHT
DTSTART:20260329T030000
RDATE:20261025T020000
TZOFFSETFROM:+0100
TZOFFSETTO:+0200
TZNAME:Europe/Prague CEST
END:DAYLIGHT
BEGIN:DAYLIGHT
DTSTART:20270328T030000
RDATE:20271031T020000
TZOFFSETFROM:+0100
TZOFFSETTO:+0200
TZNAME:Europe/Prague CEST
END:DAYLIGHT
BEGIN:DAYLIGHT
DTSTART:20280326T030000
RDATE:20281029T020000
TZOFFSETFROM:+0100
TZOFFSETTO:+0200
TZNAME:Europe/Prague CEST
END:DAYLIGHT
BEGIN:DAYLIGHT
DTSTART:20290325T030000
RDATE:20291028T020000
TZOFFSETFROM:+0100
TZOFFSETTO:+0200
TZNAME:Europe/Prague CEST
END:DAYLIGHT
BEGIN:DAYLIGHT
DTSTART:20300331T030000
RDATE:20301027T020000
TZOFFSETFROM:+0100
TZOFFSETTO:+0200
TZNAME:Europe/Prague CEST
END:DAYLIGHT
BEGIN:DAYLIGHT
DTSTART:20310330T030000
RDATE:20311026T020000
TZOFFSETFROM:+0100
TZOFFSETTO:+0200
TZNAME:Europe/Prague CEST
END:DAYLIGHT
END:VTIMEZONE
BEGIN:VEVENT
UID:a52bbb4127d1266411533ca65c0edd2d
CATEGORIES:Burzy
CREATED:20240321T160455
SUMMARY:Entomologická burza Weiden
LOCATION:Weiden\, Německo
DESCRIPTION:Floß, Mehrzweckhalle\nHabe die schöne, große, helle Mehrzweckhalle in Floß 
 wieder gemietet. Da wir auf Grund der niedrigen Tischmiete voriges Jahr Min
 us gemacht haben, wurde im Verein beschlossen, die Tischmiete auf 20 € pro 
 laufender Tischmeter anzuheben.\nIch war voriges Jahr voll ausgebucht und k
 onnte wenige unangemeldete Gäste noch auf zusätzlichen Tischen unterbringen
 .\nDie Tischzahl ist jedoch nahezu ausgeschöpft und ich bitte um rechtzeiti
 ge Anmeldung.\nDie Stellplätze für Ausrüstungs- und Kästenhändler sind bere
 its besetzt und es werden keine weiteren derartigen Händler zugelassen.\nWe
 itere Mitteilungen erfolgen im Laufe des Anmeldejahres.\n
X-ALT-DESC;FMTTYPE=text/html:<p>Floß, Mehrzweckhalle</p><div class="section htmlContent"><p>Habe die sch
 öne, große, helle Mehrzweckhalle in Floß wieder gemietet. Da wir auf Grund 
 der niedrigen Tischmiete voriges Jahr Minus gemacht haben, wurde im Verein 
 beschlossen, die Tischmiete auf 20 € pro laufender Tischmeter anzuheben.</p
 ><p>Ich war voriges Jahr voll ausgebucht und konnte wenige unangemeldete Gä
 ste noch auf zusätzlichen Tischen unterbringen.</p><p>Die Tischzahl ist jed
 och nahezu ausgeschöpft und ich bitte um rechtzeitige Anmeldung.</p><p>Die 
 Stellplätze für Ausrüstungs- und Kästenhändler sind bereits besetzt und es 
 werden keine weiteren derartigen Händler zugelassen.</p><p>Weitere Mitteilu
 ngen erfolgen im Laufe des Anmeldejahres.</p></div>
DTSTAMP:20260420T001516
DTSTART;TZID=Europe/Prague:20240908T083000
DTEND;TZID=Europe/Prague:20240908T130000
SEQUENCE:0
TRANSP:OPAQUE
END:VEVENT
END:VCALENDAR