BEGIN:VCALENDAR
VERSION:2.0
PRODID:-//jEvents 2.0 for Joomla//EN
CALSCALE:GREGORIAN
METHOD:PUBLISH
BEGIN:VTIMEZONE
TZID:Europe/Prague
BEGIN:STANDARD
DTSTART:20231029T020000
RDATE:20240331T030000
TZOFFSETFROM:+0200
TZOFFSETTO:+0100
TZNAME:Europe/Prague CET
END:STANDARD
BEGIN:STANDARD
DTSTART:20241027T020000
RDATE:20250330T030000
TZOFFSETFROM:+0200
TZOFFSETTO:+0100
TZNAME:Europe/Prague CET
END:STANDARD
BEGIN:STANDARD
DTSTART:20251026T020000
RDATE:20260329T030000
TZOFFSETFROM:+0200
TZOFFSETTO:+0100
TZNAME:Europe/Prague CET
END:STANDARD
BEGIN:STANDARD
DTSTART:20261025T020000
RDATE:20270328T030000
TZOFFSETFROM:+0200
TZOFFSETTO:+0100
TZNAME:Europe/Prague CET
END:STANDARD
BEGIN:STANDARD
DTSTART:20271031T020000
RDATE:20280326T030000
TZOFFSETFROM:+0200
TZOFFSETTO:+0100
TZNAME:Europe/Prague CET
END:STANDARD
BEGIN:STANDARD
DTSTART:20281029T020000
RDATE:20290325T030000
TZOFFSETFROM:+0200
TZOFFSETTO:+0100
TZNAME:Europe/Prague CET
END:STANDARD
BEGIN:STANDARD
DTSTART:20291028T020000
RDATE:20300331T030000
TZOFFSETFROM:+0200
TZOFFSETTO:+0100
TZNAME:Europe/Prague CET
END:STANDARD
BEGIN:STANDARD
DTSTART:20301027T020000
RDATE:20310330T030000
TZOFFSETFROM:+0200
TZOFFSETTO:+0100
TZNAME:Europe/Prague CET
END:STANDARD
BEGIN:STANDARD
DTSTART:20311026T020000
RDATE:20320328T030000
TZOFFSETFROM:+0200
TZOFFSETTO:+0100
TZNAME:Europe/Prague CET
END:STANDARD
BEGIN:DAYLIGHT
DTSTART:20231026T080000
RDATE:20231029T020000
TZOFFSETFROM:+0100
TZOFFSETTO:+0200
TZNAME:Europe/Prague CEST
END:DAYLIGHT
BEGIN:DAYLIGHT
DTSTART:20240331T030000
RDATE:20241027T020000
TZOFFSETFROM:+0100
TZOFFSETTO:+0200
TZNAME:Europe/Prague CEST
END:DAYLIGHT
BEGIN:DAYLIGHT
DTSTART:20250330T030000
RDATE:20251026T020000
TZOFFSETFROM:+0100
TZOFFSETTO:+0200
TZNAME:Europe/Prague CEST
END:DAYLIGHT
BEGIN:DAYLIGHT
DTSTART:20260329T030000
RDATE:20261025T020000
TZOFFSETFROM:+0100
TZOFFSETTO:+0200
TZNAME:Europe/Prague CEST
END:DAYLIGHT
BEGIN:DAYLIGHT
DTSTART:20270328T030000
RDATE:20271031T020000
TZOFFSETFROM:+0100
TZOFFSETTO:+0200
TZNAME:Europe/Prague CEST
END:DAYLIGHT
BEGIN:DAYLIGHT
DTSTART:20280326T030000
RDATE:20281029T020000
TZOFFSETFROM:+0100
TZOFFSETTO:+0200
TZNAME:Europe/Prague CEST
END:DAYLIGHT
BEGIN:DAYLIGHT
DTSTART:20290325T030000
RDATE:20291028T020000
TZOFFSETFROM:+0100
TZOFFSETTO:+0200
TZNAME:Europe/Prague CEST
END:DAYLIGHT
BEGIN:DAYLIGHT
DTSTART:20300331T030000
RDATE:20301027T020000
TZOFFSETFROM:+0100
TZOFFSETTO:+0200
TZNAME:Europe/Prague CEST
END:DAYLIGHT
BEGIN:DAYLIGHT
DTSTART:20310330T030000
RDATE:20311026T020000
TZOFFSETFROM:+0100
TZOFFSETTO:+0200
TZNAME:Europe/Prague CEST
END:DAYLIGHT
END:VTIMEZONE
BEGIN:VEVENT
UID:ce5f418afff377c11ca18b2eccbc4587
CATEGORIES:Burzy
CREATED:20240321T162356
SUMMARY:Entomologická burza Mnichov
LOCATION:Mnichov\, Německo
DESCRIPTION:Insektenbörse München\nim Kolpinghaus St. Theresia, Hanebergstraße 8, 80637
  München (T +4989126050) die 60. Münchner Insektenbörse statt.\nPreis pro T
 isch (170 x 80 cm): 35,- Euro inkl. 19 % MwSt. Ab 2 Tische ist eine Begleit
 person frei. Weitere Begleitpersonen müssen eine Eintrittskarte lösen. Einr
 itt 5,- Euro.\nAnmeldung per Mail an  (mailto:stefan.loeflath@t-online.de) 
 (mailto:stefan.loeflath@t-online.de)Tato e-mailová adresa je chráněna před 
 spamboty. Pro její zobrazení musíte mít povolen Javascript.\nBitte beachten
 :\n\n - Die aktuell von der Bayerischen Landesregierung erlassenen Gesetzte
  und evtl. Verordnungen zur Pandemie werden vom Veranstalter umgesetzt und 
 sind zu beachten!\n - Aufbauten über 80 cm sind aus feuerpolizeilichen Grün
 den nur an Wandplätzen gestattet\n - Die derzeit gültigen Fassungen des Bun
 desnaturschutzgesetzes und die Bestimmungen des Washingtoner Artenschutzabk
 ommens sind strikt zu beachten!\n - Es dürfen nur Insekten ausgestellt werd
 en! Keine Krebse, Schnecken und Muscheln sowie lebende Spinnen und Skorpion
 e!Zuwiderhandlungen gehen mit allen Folgen zu Lasten des jeweiligen Ausstel
 lers.\nAnmeldungen bitte per Mail an  (mailto:stefan.loeflath@t-online.de) 
 (mailto:stefan.loeflath@t-online.de)Tato e-mailová adresa je chráněna před 
 spamboty. Pro její zobrazení musíte mít povolen Javascript.\nPlatzreservier
 ungen an Unbekannte erfolgen nur, wenn die Standmiete vorab per Überweisung
  bezahlt wurde.\n
X-ALT-DESC;FMTTYPE=text/html:<p>Insektenbörse München</p><p>im Kolpinghaus St. Theresia, Hanebergstraße 
 8, 80637 München (T +4989126050) die 60. Münchner Insektenbörse statt.</p><
 p>Preis pro Tisch (170 x 80 cm): 35,- Euro inkl. 19 % MwSt. Ab 2 Tische ist
  eine Begleitperson frei. Weitere Begleitpersonen müssen eine Eintrittskart
 e lösen. Einritt 5,- Euro.</p><p>Anmeldung per Mail an <a href="mailto:stef
 an.loeflath@t-online.de"></a><a href="mailto:stefan.loeflath@t-online.de"><
 /a><joomla-hidden-mail  is-link="" is-email="1" first="c3RlZmFuLmxvZWZsYXRo
 " last="dC1vbmxpbmUuZGU=" text="c3RlZmFuLmxvZWZsYXRoQHQtb25saW5lLmRl" base=
 "" >Tato e-mailová adresa je chráněna před spamboty. Pro její zobrazení mus
 íte mít povolen Javascript.</joomla-hidden-mail></p><p>Bitte beachten:</p><
 ul><li>Die aktuell von der Bayerischen Landesregierung erlassenen Gesetzte 
 und evtl. Verordnungen zur Pandemie werden vom Veranstalter umgesetzt und s
 ind zu beachten!</li><li>Aufbauten über 80 cm sind aus feuerpolizeilichen G
 ründen nur an Wandplätzen gestattet</li><li>Die derzeit gültigen Fassungen 
 des Bundesnaturschutzgesetzes und die Bestimmungen des Washingtoner Artensc
 hutzabkommens sind strikt zu beachten!</li><li>Es dürfen nur Insekten ausge
 stellt werden! Keine Krebse, Schnecken und Muscheln sowie lebende Spinnen u
 nd Skorpione!</li></ul><p>Zuwiderhandlungen gehen mit allen Folgen zu Laste
 n des jeweiligen Ausstellers.</p><p>Anmeldungen bitte per Mail an <a href="
 mailto:stefan.loeflath@t-online.de"></a><a href="mailto:stefan.loeflath@t-o
 nline.de"></a><joomla-hidden-mail  is-link="" is-email="1" first="c3RlZmFuL
 mxvZWZsYXRo" last="dC1vbmxpbmUuZGU=" text="c3RlZmFuLmxvZWZsYXRoQHQtb25saW5l
 LmRl" base="" >Tato e-mailová adresa je chráněna před spamboty. Pro její zo
 brazení musíte mít povolen Javascript.</joomla-hidden-mail></p><p>Platzrese
 rvierungen an Unbekannte erfolgen nur, wenn die Standmiete vorab per Überwe
 isung bezahlt wurde.</p>
CONTACT:E-mail: Tato e-mailová adresa je chráněna před spamboty. Pro její zobrazení musíte mít povolen Javascript.
DTSTAMP:20260420T001442
DTSTART;TZID=Europe/Prague:20241026T080000
DTEND;TZID=Europe/Prague:20241026T140000
SEQUENCE:0
TRANSP:OPAQUE
END:VEVENT
END:VCALENDAR