BEGIN:VCALENDAR
VERSION:2.0
PRODID:-//jEvents 2.0 for Joomla//EN
CALSCALE:GREGORIAN
METHOD:PUBLISH
BEGIN:VTIMEZONE
TZID:Europe/Prague
BEGIN:STANDARD
DTSTART:20231029T020000
RDATE:20240331T030000
TZOFFSETFROM:+0200
TZOFFSETTO:+0100
TZNAME:Europe/Prague CET
END:STANDARD
BEGIN:STANDARD
DTSTART:20241027T020000
RDATE:20250330T030000
TZOFFSETFROM:+0200
TZOFFSETTO:+0100
TZNAME:Europe/Prague CET
END:STANDARD
BEGIN:STANDARD
DTSTART:20251026T020000
RDATE:20260329T030000
TZOFFSETFROM:+0200
TZOFFSETTO:+0100
TZNAME:Europe/Prague CET
END:STANDARD
BEGIN:STANDARD
DTSTART:20261025T020000
RDATE:20270328T030000
TZOFFSETFROM:+0200
TZOFFSETTO:+0100
TZNAME:Europe/Prague CET
END:STANDARD
BEGIN:STANDARD
DTSTART:20271031T020000
RDATE:20280326T030000
TZOFFSETFROM:+0200
TZOFFSETTO:+0100
TZNAME:Europe/Prague CET
END:STANDARD
BEGIN:STANDARD
DTSTART:20281029T020000
RDATE:20290325T030000
TZOFFSETFROM:+0200
TZOFFSETTO:+0100
TZNAME:Europe/Prague CET
END:STANDARD
BEGIN:STANDARD
DTSTART:20291028T020000
RDATE:20300331T030000
TZOFFSETFROM:+0200
TZOFFSETTO:+0100
TZNAME:Europe/Prague CET
END:STANDARD
BEGIN:STANDARD
DTSTART:20301027T020000
RDATE:20310330T030000
TZOFFSETFROM:+0200
TZOFFSETTO:+0100
TZNAME:Europe/Prague CET
END:STANDARD
BEGIN:STANDARD
DTSTART:20311026T020000
RDATE:20320328T030000
TZOFFSETFROM:+0200
TZOFFSETTO:+0100
TZNAME:Europe/Prague CET
END:STANDARD
BEGIN:DAYLIGHT
DTSTART:20230831T000000
RDATE:20231029T020000
TZOFFSETFROM:+0100
TZOFFSETTO:+0200
TZNAME:Europe/Prague CEST
END:DAYLIGHT
BEGIN:DAYLIGHT
DTSTART:20240331T030000
RDATE:20241027T020000
TZOFFSETFROM:+0100
TZOFFSETTO:+0200
TZNAME:Europe/Prague CEST
END:DAYLIGHT
BEGIN:DAYLIGHT
DTSTART:20250330T030000
RDATE:20251026T020000
TZOFFSETFROM:+0100
TZOFFSETTO:+0200
TZNAME:Europe/Prague CEST
END:DAYLIGHT
BEGIN:DAYLIGHT
DTSTART:20260329T030000
RDATE:20261025T020000
TZOFFSETFROM:+0100
TZOFFSETTO:+0200
TZNAME:Europe/Prague CEST
END:DAYLIGHT
BEGIN:DAYLIGHT
DTSTART:20270328T030000
RDATE:20271031T020000
TZOFFSETFROM:+0100
TZOFFSETTO:+0200
TZNAME:Europe/Prague CEST
END:DAYLIGHT
BEGIN:DAYLIGHT
DTSTART:20280326T030000
RDATE:20281029T020000
TZOFFSETFROM:+0100
TZOFFSETTO:+0200
TZNAME:Europe/Prague CEST
END:DAYLIGHT
BEGIN:DAYLIGHT
DTSTART:20290325T030000
RDATE:20291028T020000
TZOFFSETFROM:+0100
TZOFFSETTO:+0200
TZNAME:Europe/Prague CEST
END:DAYLIGHT
BEGIN:DAYLIGHT
DTSTART:20300331T030000
RDATE:20301027T020000
TZOFFSETFROM:+0100
TZOFFSETTO:+0200
TZNAME:Europe/Prague CEST
END:DAYLIGHT
BEGIN:DAYLIGHT
DTSTART:20310330T030000
RDATE:20311026T020000
TZOFFSETFROM:+0100
TZOFFSETTO:+0200
TZNAME:Europe/Prague CEST
END:DAYLIGHT
END:VTIMEZONE
BEGIN:VEVENT
UID:e6bd1f491f963f5739c397977a4aacc3
CATEGORIES:Exkurze
CREATED:20240321T165408
SUMMARY:Entomologická exkurze Srbsko-Karlštejn
LOCATION:Srbsko - Karlštejn\, Česká republika
DESCRIPTION:<p>Během exkurze budeme pozorovat různý zajímavý podzimní hmyz, denní motýl
 y a&nbsp;podle aktuálních možností i&nbsp;vodní bezobratlé živočichy.</p><p
 >Trasa povede z&nbsp;Karlštejna kolem Dubu sedmi bratří, přes travnaté leso
 stepní biotopy, okolo Karlovy studánky do Srbska. Všude očekáváme nálezy za
 jímavých bezobratlých živočichů.</p><p>Délka trasy je zhruba 7 km. Ze&nbsp;
 Srbska je možné pokračovat samostatně ve výletu nebo jet vlakem domů.&nbsp;
 </p><p>S sebou si vezměte nejen obvyklé vybavení (velkou svačinu a&nbsp;dob
 ré boty), ale také třeba lupu nebo entomologickou síťku.</p><p>Účastníci ex
 kurze, kteří chodí často do přírody, pozorují různé druhy rostlin či živoči
 chů a&nbsp;mají zájem „mapovat přírodu“ se zde mohou dozvědět o&nbsp;projek
 tu BioLog a&nbsp;praktické zkušenosti s&nbsp;používáním stejnojmenné aplika
 ce, která byla vytvořena pro zájemce o&nbsp;přírodu, a&nbsp;slouží jako dig
 itální zápisník pozorování fauny a&nbsp;flóry na území ČR.</p><p>Exkurzí Vá
 s provedou Petr Heřman ze Společnosti pro ochranu motýlů a&nbsp;Lucie Hrůzo
 vá, zooložka Správy CHKO Český kras.</p><p>Případné podrobnější dotazy na t
 el.: 731&nbsp;682 306 nebo na adrese <a href="mailto:lucie.hruzova@nature.c
 z"></a><a href="mailto:lucie.hruzova@nature.cz"></a><joomla-hidden-mail  is
 -link="" is-email="1" first="bHVjaWUuaHJ1em92YQ==" last="bmF0dXJlLmN6" text
 ="bHVjaWUuaHJ1em92YUBuYXR1cmUuY3o=" base="" >Tato e-mailová adresa je chrán
 ěna před spamboty. Pro její zobrazení musíte mít povolen Javascript.</jooml
 a-hidden-mail></p><p>Exkurze je neplacená, není třeba se přihlašovat, jen p
 řijít.</p>
CONTACT:AOPK, Lucie Hrůzová, mobil: 731 682 306, e-mail: Tato e-mailová adresa je chráněna před spamboty. Pro její zobrazení musíte mít povolen Javascript.
DTSTAMP:20260420T002531
DTSTART;TZID=Europe/Prague;VALUE=DATE:20240831
DTEND;TZID=Europe/Prague;VALUE=DATE:20240901
SEQUENCE:0
TRANSP:OPAQUE
END:VEVENT
END:VCALENDAR