BEGIN:VCALENDAR
VERSION:2.0
PRODID:-//jEvents 2.0 for Joomla//EN
CALSCALE:GREGORIAN
METHOD:PUBLISH
BEGIN:VTIMEZONE
TZID:Europe/Prague
BEGIN:STANDARD
DTSTART:20230219T000000
RDATE:20230326T030000
TZOFFSETFROM:+0200
TZOFFSETTO:+0100
TZNAME:Europe/Prague CET
END:STANDARD
BEGIN:STANDARD
DTSTART:20231029T020000
RDATE:20240331T030000
TZOFFSETFROM:+0200
TZOFFSETTO:+0100
TZNAME:Europe/Prague CET
END:STANDARD
BEGIN:STANDARD
DTSTART:20241027T020000
RDATE:20250330T030000
TZOFFSETFROM:+0200
TZOFFSETTO:+0100
TZNAME:Europe/Prague CET
END:STANDARD
BEGIN:STANDARD
DTSTART:20251026T020000
RDATE:20260329T030000
TZOFFSETFROM:+0200
TZOFFSETTO:+0100
TZNAME:Europe/Prague CET
END:STANDARD
BEGIN:STANDARD
DTSTART:20261025T020000
RDATE:20270328T030000
TZOFFSETFROM:+0200
TZOFFSETTO:+0100
TZNAME:Europe/Prague CET
END:STANDARD
BEGIN:STANDARD
DTSTART:20271031T020000
RDATE:20280326T030000
TZOFFSETFROM:+0200
TZOFFSETTO:+0100
TZNAME:Europe/Prague CET
END:STANDARD
BEGIN:STANDARD
DTSTART:20281029T020000
RDATE:20290325T030000
TZOFFSETFROM:+0200
TZOFFSETTO:+0100
TZNAME:Europe/Prague CET
END:STANDARD
BEGIN:STANDARD
DTSTART:20291028T020000
RDATE:20300331T030000
TZOFFSETFROM:+0200
TZOFFSETTO:+0100
TZNAME:Europe/Prague CET
END:STANDARD
BEGIN:STANDARD
DTSTART:20301027T020000
RDATE:20310330T030000
TZOFFSETFROM:+0200
TZOFFSETTO:+0100
TZNAME:Europe/Prague CET
END:STANDARD
BEGIN:STANDARD
DTSTART:20311026T020000
RDATE:20320328T030000
TZOFFSETFROM:+0200
TZOFFSETTO:+0100
TZNAME:Europe/Prague CET
END:STANDARD
BEGIN:DAYLIGHT
DTSTART:20230326T030000
RDATE:20231029T020000
TZOFFSETFROM:+0100
TZOFFSETTO:+0200
TZNAME:Europe/Prague CEST
END:DAYLIGHT
BEGIN:DAYLIGHT
DTSTART:20240331T030000
RDATE:20241027T020000
TZOFFSETFROM:+0100
TZOFFSETTO:+0200
TZNAME:Europe/Prague CEST
END:DAYLIGHT
BEGIN:DAYLIGHT
DTSTART:20250330T030000
RDATE:20251026T020000
TZOFFSETFROM:+0100
TZOFFSETTO:+0200
TZNAME:Europe/Prague CEST
END:DAYLIGHT
BEGIN:DAYLIGHT
DTSTART:20260329T030000
RDATE:20261025T020000
TZOFFSETFROM:+0100
TZOFFSETTO:+0200
TZNAME:Europe/Prague CEST
END:DAYLIGHT
BEGIN:DAYLIGHT
DTSTART:20270328T030000
RDATE:20271031T020000
TZOFFSETFROM:+0100
TZOFFSETTO:+0200
TZNAME:Europe/Prague CEST
END:DAYLIGHT
BEGIN:DAYLIGHT
DTSTART:20280326T030000
RDATE:20281029T020000
TZOFFSETFROM:+0100
TZOFFSETTO:+0200
TZNAME:Europe/Prague CEST
END:DAYLIGHT
BEGIN:DAYLIGHT
DTSTART:20290325T030000
RDATE:20291028T020000
TZOFFSETFROM:+0100
TZOFFSETTO:+0200
TZNAME:Europe/Prague CEST
END:DAYLIGHT
BEGIN:DAYLIGHT
DTSTART:20300331T030000
RDATE:20301027T020000
TZOFFSETFROM:+0100
TZOFFSETTO:+0200
TZNAME:Europe/Prague CEST
END:DAYLIGHT
BEGIN:DAYLIGHT
DTSTART:20310330T030000
RDATE:20311026T020000
TZOFFSETFROM:+0100
TZOFFSETTO:+0200
TZNAME:Europe/Prague CEST
END:DAYLIGHT
END:VTIMEZONE
BEGIN:VEVENT
UID:dcccf050be85f6688ce6a171548ea526
CATEGORIES:Konference
CREATED:20240321T170253
SUMMARY:Entomology Congress DGaaE
LOCATION:Bolzano\, Itálie
DESCRIPTION:We cordially invite you to attend the Entomology Congress 2023, organised b
 y the Deutsche Gesellschaft für allgemeine und angewandte Entomologie (Germ
 an Society of General and Applied Entomology; DGaaE). The congress will be 
 held in Bolzano (South Tyrol, Italy) from February 20-23, 2023 and is organ
 ised in collaboration with the Free University of Bozen-Bolzano and the Soc
 ietà Entomologica Italiana (SEI).\n\nOur Entomology Congresses are internat
 ional events encompassing a wide range of scientific research topics on ins
 ects and other arthropods. Scientists of all entomological disciplines and 
 interested guests meet here and have the opportunity to discuss contemporar
 y scientific issues, novel methods and strategies. Congress languages will 
 be English and German.\n\nWe would greatly appreciate your participation an
 d hope to meet a lot of international colleagues in Halle, especially the y
 oung generation of entomologists!\nContact\nGeschäftsstelle der DGaaE e.V.\
 nEberswalder Str. 90\n15374 Müncheberg\nTato e-mailová adresa je chráněna p
 řed spamboty. Pro její zobrazení musíte mít povolen Javascript.\n
X-ALT-DESC;FMTTYPE=text/html:<p>We cordially invite you to attend the Entomology Congress 2023, organise
 d by the Deutsche Gesellschaft für allgemeine und angewandte Entomologie (G
 erman Society of General and Applied Entomology; DGaaE). The congress will 
 be held in Bolzano (South Tyrol, Italy) from February 20-23, 2023 and is or
 ganised in collaboration with the Free University of Bozen-Bolzano and the 
 Società Entomologica Italiana (SEI).<br /><br />Our Entomology Congresses a
 re international events encompassing a wide range of scientific research to
 pics on insects and other arthropods. Scientists of all entomological disci
 plines and interested guests meet here and have the opportunity to discuss 
 contemporary scientific issues, novel methods and strategies. Congress lang
 uages will be English and German.<br /><br />We would greatly appreciate yo
 ur participation and hope to meet a lot of international colleagues in Hall
 e, especially the young generation of entomologists!</p><p><strong>Contact<
 /strong><br />Geschäftsstelle der DGaaE e.V.<br />Eberswalder Str. 90<br />
 15374 Müncheberg<br /><joomla-hidden-mail  is-link="" is-email="1" first="Z
 GdhYWU=" last="ZGdhYWUuZGU=" text="ZGdhYWVAZGdhYWUuZGU=" base="" >Tato e-ma
 ilová adresa je chráněna před spamboty. Pro její zobrazení musíte mít povol
 en Javascript.</joomla-hidden-mail></p>
CONTACT:Tato e-mailová adresa je chráněna před spamboty. Pro její zobrazení musíte mít povolen Javascript.
DTSTAMP:20260419T221958
DTSTART;TZID=Europe/Prague;VALUE=DATE:20240220
DTEND;TZID=Europe/Prague;VALUE=DATE:20240224
SEQUENCE:0
TRANSP:OPAQUE
END:VEVENT
END:VCALENDAR