BEGIN:VCALENDAR
VERSION:2.0
PRODID:-//jEvents 2.0 for Joomla//EN
CALSCALE:GREGORIAN
METHOD:PUBLISH
BEGIN:VTIMEZONE
TZID:Europe/Prague
BEGIN:STANDARD
DTSTART:20230301T110000
RDATE:20230326T030000
TZOFFSETFROM:+0200
TZOFFSETTO:+0100
TZNAME:Europe/Prague CET
END:STANDARD
BEGIN:STANDARD
DTSTART:20231029T020000
RDATE:20240331T030000
TZOFFSETFROM:+0200
TZOFFSETTO:+0100
TZNAME:Europe/Prague CET
END:STANDARD
BEGIN:STANDARD
DTSTART:20241027T020000
RDATE:20250330T030000
TZOFFSETFROM:+0200
TZOFFSETTO:+0100
TZNAME:Europe/Prague CET
END:STANDARD
BEGIN:STANDARD
DTSTART:20251026T020000
RDATE:20260329T030000
TZOFFSETFROM:+0200
TZOFFSETTO:+0100
TZNAME:Europe/Prague CET
END:STANDARD
BEGIN:STANDARD
DTSTART:20261025T020000
RDATE:20270328T030000
TZOFFSETFROM:+0200
TZOFFSETTO:+0100
TZNAME:Europe/Prague CET
END:STANDARD
BEGIN:STANDARD
DTSTART:20271031T020000
RDATE:20280326T030000
TZOFFSETFROM:+0200
TZOFFSETTO:+0100
TZNAME:Europe/Prague CET
END:STANDARD
BEGIN:STANDARD
DTSTART:20281029T020000
RDATE:20290325T030000
TZOFFSETFROM:+0200
TZOFFSETTO:+0100
TZNAME:Europe/Prague CET
END:STANDARD
BEGIN:STANDARD
DTSTART:20291028T020000
RDATE:20300331T030000
TZOFFSETFROM:+0200
TZOFFSETTO:+0100
TZNAME:Europe/Prague CET
END:STANDARD
BEGIN:STANDARD
DTSTART:20301027T020000
RDATE:20310330T030000
TZOFFSETFROM:+0200
TZOFFSETTO:+0100
TZNAME:Europe/Prague CET
END:STANDARD
BEGIN:STANDARD
DTSTART:20311026T020000
RDATE:20320328T030000
TZOFFSETFROM:+0200
TZOFFSETTO:+0100
TZNAME:Europe/Prague CET
END:STANDARD
BEGIN:DAYLIGHT
DTSTART:20230326T030000
RDATE:20231029T020000
TZOFFSETFROM:+0100
TZOFFSETTO:+0200
TZNAME:Europe/Prague CEST
END:DAYLIGHT
BEGIN:DAYLIGHT
DTSTART:20240331T030000
RDATE:20241027T020000
TZOFFSETFROM:+0100
TZOFFSETTO:+0200
TZNAME:Europe/Prague CEST
END:DAYLIGHT
BEGIN:DAYLIGHT
DTSTART:20250330T030000
RDATE:20251026T020000
TZOFFSETFROM:+0100
TZOFFSETTO:+0200
TZNAME:Europe/Prague CEST
END:DAYLIGHT
BEGIN:DAYLIGHT
DTSTART:20260329T030000
RDATE:20261025T020000
TZOFFSETFROM:+0100
TZOFFSETTO:+0200
TZNAME:Europe/Prague CEST
END:DAYLIGHT
BEGIN:DAYLIGHT
DTSTART:20270328T030000
RDATE:20271031T020000
TZOFFSETFROM:+0100
TZOFFSETTO:+0200
TZNAME:Europe/Prague CEST
END:DAYLIGHT
BEGIN:DAYLIGHT
DTSTART:20280326T030000
RDATE:20281029T020000
TZOFFSETFROM:+0100
TZOFFSETTO:+0200
TZNAME:Europe/Prague CEST
END:DAYLIGHT
BEGIN:DAYLIGHT
DTSTART:20290325T030000
RDATE:20291028T020000
TZOFFSETFROM:+0100
TZOFFSETTO:+0200
TZNAME:Europe/Prague CEST
END:DAYLIGHT
BEGIN:DAYLIGHT
DTSTART:20300331T030000
RDATE:20301027T020000
TZOFFSETFROM:+0100
TZOFFSETTO:+0200
TZNAME:Europe/Prague CEST
END:DAYLIGHT
BEGIN:DAYLIGHT
DTSTART:20310330T030000
RDATE:20311026T020000
TZOFFSETFROM:+0100
TZOFFSETTO:+0200
TZNAME:Europe/Prague CEST
END:DAYLIGHT
END:VTIMEZONE
BEGIN:VEVENT
UID:e425936de887afa7070c7656ec1e6043
CATEGORIES:Burzy, Výstavy
CREATED:20240321T140634
SUMMARY:Prodejní výstava brouků a motýlů Praha
LOCATION:Praha\, Česká republika
DESCRIPTION:Hotel Olympik Congress Tristar, U Sluncové 14A, Praha 8 - prodejní výstava 
 brouků a motýlů, ENTOMOLOGICAL EXCHANGE DAYS AND EXHIBITION.\npátek 1. 3. 2
 024 11- 18 hod., sobota 2. 3. 2024 9.00 - 17.00 hod.\nInformace : +420 604 
 670 861,Ing.Dan Čagánek, e-mail:  (mailto:dan.caganek@tiscali.cz) (mailto:d
 an.caganek@tiscali.cz)Tato e-mailová adresa je chráněna před spamboty. Pro 
 její zobrazení musíte mít povolen Javascript.,  www.hobbypraha.cz (https://
 www.hobbypraha.cz/),  pozvánka (http://www.entosphinx.cz/img/cms/pdf/2024pl
 ak%C3%A1t%20ve%C5%99ejnost%20(1).jpg)\n
X-ALT-DESC;FMTTYPE=text/html:<p><strong>Hotel Olympik Congress Tristar</strong>, U Sluncové 14A, <strong
 >Praha 8</strong> - prodejní výstava brouků a motýlů, ENTOMOLOGICAL EXCHANG
 E DAYS AND EXHIBITION.</p><p>pátek 1. 3. 2024 11- 18 hod., sobota 2. 3. 202
 4 9.00 - 17.00 hod.</p><p>Informace : <strong>+420 604 670 861</strong>,Ing
 .Dan Čagánek, e-mail: <a href="mailto:dan.caganek@tiscali.cz"></a><a href="
 mailto:dan.caganek@tiscali.cz"></a><joomla-hidden-mail  is-link="" is-email
 ="1" first="ZGFuLmNhZ2FuZWs=" last="dGlzY2FsaS5jeg==" text="ZGFuLmNhZ2FuZWt
 AdGlzY2FsaS5jeg==" base="" >Tato e-mailová adresa je chráněna před spamboty
 . Pro její zobrazení musíte mít povolen Javascript.</joomla-hidden-mail>,&n
 bsp;<strong> <a href="https://www.hobbypraha.cz/">www.hobbypraha.cz</a>,&nb
 sp; <a href="http://www.entosphinx.cz/img/cms/pdf/2024plak%C3%A1t%20ve%C5%9
 9ejnost%20(1).jpg">pozvánka</a></strong></p>
CONTACT:Ing.Dan Čagánek, mobil: +420 604 670 861, e-mail: Tato e-mailová adresa je chráněna před spamboty. Pro její zobrazení musíte mít povolen Javascript.,
DTSTAMP:20260419T221742
DTSTART;TZID=Europe/Prague:20240301T110000
DTEND;TZID=Europe/Prague:20240302T170000
SEQUENCE:0
TRANSP:OPAQUE
END:VEVENT
END:VCALENDAR