BEGIN:VCALENDAR
VERSION:2.0
PRODID:-//jEvents 2.0 for Joomla//EN
CALSCALE:GREGORIAN
METHOD:PUBLISH
BEGIN:VTIMEZONE
TZID:Europe/Prague
BEGIN:STANDARD
DTSTART:20231029T020000
RDATE:20240331T030000
TZOFFSETFROM:+0200
TZOFFSETTO:+0100
TZNAME:Europe/Prague CET
END:STANDARD
BEGIN:STANDARD
DTSTART:20241027T020000
RDATE:20250330T030000
TZOFFSETFROM:+0200
TZOFFSETTO:+0100
TZNAME:Europe/Prague CET
END:STANDARD
BEGIN:STANDARD
DTSTART:20251026T020000
RDATE:20260329T030000
TZOFFSETFROM:+0200
TZOFFSETTO:+0100
TZNAME:Europe/Prague CET
END:STANDARD
BEGIN:STANDARD
DTSTART:20261025T020000
RDATE:20270328T030000
TZOFFSETFROM:+0200
TZOFFSETTO:+0100
TZNAME:Europe/Prague CET
END:STANDARD
BEGIN:STANDARD
DTSTART:20271031T020000
RDATE:20280326T030000
TZOFFSETFROM:+0200
TZOFFSETTO:+0100
TZNAME:Europe/Prague CET
END:STANDARD
BEGIN:STANDARD
DTSTART:20281029T020000
RDATE:20290325T030000
TZOFFSETFROM:+0200
TZOFFSETTO:+0100
TZNAME:Europe/Prague CET
END:STANDARD
BEGIN:STANDARD
DTSTART:20291028T020000
RDATE:20300331T030000
TZOFFSETFROM:+0200
TZOFFSETTO:+0100
TZNAME:Europe/Prague CET
END:STANDARD
BEGIN:STANDARD
DTSTART:20301027T020000
RDATE:20310330T030000
TZOFFSETFROM:+0200
TZOFFSETTO:+0100
TZNAME:Europe/Prague CET
END:STANDARD
BEGIN:STANDARD
DTSTART:20311026T020000
RDATE:20320328T030000
TZOFFSETFROM:+0200
TZOFFSETTO:+0100
TZNAME:Europe/Prague CET
END:STANDARD
BEGIN:DAYLIGHT
DTSTART:20230608T000000
RDATE:20231029T020000
TZOFFSETFROM:+0100
TZOFFSETTO:+0200
TZNAME:Europe/Prague CEST
END:DAYLIGHT
BEGIN:DAYLIGHT
DTSTART:20240331T030000
RDATE:20241027T020000
TZOFFSETFROM:+0100
TZOFFSETTO:+0200
TZNAME:Europe/Prague CEST
END:DAYLIGHT
BEGIN:DAYLIGHT
DTSTART:20250330T030000
RDATE:20251026T020000
TZOFFSETFROM:+0100
TZOFFSETTO:+0200
TZNAME:Europe/Prague CEST
END:DAYLIGHT
BEGIN:DAYLIGHT
DTSTART:20260329T030000
RDATE:20261025T020000
TZOFFSETFROM:+0100
TZOFFSETTO:+0200
TZNAME:Europe/Prague CEST
END:DAYLIGHT
BEGIN:DAYLIGHT
DTSTART:20270328T030000
RDATE:20271031T020000
TZOFFSETFROM:+0100
TZOFFSETTO:+0200
TZNAME:Europe/Prague CEST
END:DAYLIGHT
BEGIN:DAYLIGHT
DTSTART:20280326T030000
RDATE:20281029T020000
TZOFFSETFROM:+0100
TZOFFSETTO:+0200
TZNAME:Europe/Prague CEST
END:DAYLIGHT
BEGIN:DAYLIGHT
DTSTART:20290325T030000
RDATE:20291028T020000
TZOFFSETFROM:+0100
TZOFFSETTO:+0200
TZNAME:Europe/Prague CEST
END:DAYLIGHT
BEGIN:DAYLIGHT
DTSTART:20300331T030000
RDATE:20301027T020000
TZOFFSETFROM:+0100
TZOFFSETTO:+0200
TZNAME:Europe/Prague CEST
END:DAYLIGHT
BEGIN:DAYLIGHT
DTSTART:20310330T030000
RDATE:20311026T020000
TZOFFSETFROM:+0100
TZOFFSETTO:+0200
TZNAME:Europe/Prague CEST
END:DAYLIGHT
END:VTIMEZONE
BEGIN:VEVENT
UID:11c7023ad30d2aec073d79de22d96ac1
CATEGORIES:Ostatní
CREATED:20240321T193445
SUMMARY:T-EXPEDICE JESENÍKY 2024
LOCATION:Jeseník\, Česká republika
DESCRIPTION:<p>v roce 2024 nabízí Vlastivědné muzeum Jesenicka ve spolupráci se SVČ DUH
 A Jeseník oblíbenou badatelskou akci pro nadané a zvídavé žáky – T-expedici
  Jeseníky. Můžete se těšit na nové zážitky a kamarády a samozřejmě také zna
 losti a dovednosti. Před samotnou expedicí díky online přípravě poznáte svů
 j tým a záměr, kterému se budete na expedici společně věnovat. Získáte potř
 ebný vhled do oboru, který pak při prezenční části využijete. Vaše týdenní 
 bádání bude zakončeno poster konferencí, na které budete mít prostor prezen
 tovat plody svojí práce. A dokonce si budete moci zkusit publikovat i článe
 k, kterým se pak budete moci pochlubit třeba u maturity nebo při přijímacíc
 h zkouškách na vysokou školu.</p><p class="c8"><span class="c3 c11">Entomol
 ogická sekce</span></p><p class="c8"><span class="c2">Vliv člověka na biodi
 verzitu</span></p><p class="c8"><span class="c0">Tento rok se entomologická
  sekce zaměří více ekologicky a bude na Jesenicku provádět výzkum změn biod
 iverzity v závislosti na míře ovlivnění prostředí lidskou činností (existen
 cí). Pokusíme se zjistit rozdíly v biodiverzitě na lokalitách ve městě, ve 
 volné přírodě a případně i ve výrazně znečištěném prostředí. Jako badatel s
 e seznámíš s terénní entomologií a naučíš se práci s atlasy a určovacími kl
 íči. Budeš součástí týmu lidí s podobnými zájmy, takže pokud tě zajímá živo
 tní prostředí, chceš se o něm dozvědět víc v širších souvislostech a zamysl
 et se nad možnostmi zlepšení situace, přihlas se do naší sekce! </span></p>
 <p class="c8"><span class="c22">Garantuje</span><span class="c0">: Ren Star
 ých</span></p><p class="c8"><span class="c22">Expert</span><span class="c0"
 >: Mgr. Martin Starý</span></p><p class="c8"><span class="c22">Pedagogický 
 doprovod</span><span class="c0">: Mgr. Lenka Küschnerová</span></p><p class
 ="c8"><span class="c22">Prostředí</span><span class="c0">: google classroom
 ; google meet</span></p><p class="c8"><span class="c22">Určeno pro badatele
 </span><span class="c0">: 15 až 19 let (k 8. červnu 2024)</span></p><p clas
 s="c8"><span class="c22">Počet míst</span><span class="c0">: 8</span></p>
CONTACT:https://www.muzeumjesenik.cz/cz/vzdelavani/3-t-expedice.html
DTSTAMP:20260420T002533
DTSTART;TZID=Europe/Prague;VALUE=DATE:20240608
DTEND;TZID=Europe/Prague;VALUE=DATE:20240616
SEQUENCE:0
TRANSP:OPAQUE
END:VEVENT
END:VCALENDAR