BEGIN:VCALENDAR
VERSION:2.0
PRODID:-//jEvents 2.0 for Joomla//EN
CALSCALE:GREGORIAN
METHOD:PUBLISH
BEGIN:VTIMEZONE
TZID:Europe/Prague
BEGIN:STANDARD
DTSTART:20230321T000000
RDATE:20230326T030000
TZOFFSETFROM:+0200
TZOFFSETTO:+0100
TZNAME:Europe/Prague CET
END:STANDARD
BEGIN:STANDARD
DTSTART:20231029T020000
RDATE:20240331T030000
TZOFFSETFROM:+0200
TZOFFSETTO:+0100
TZNAME:Europe/Prague CET
END:STANDARD
BEGIN:STANDARD
DTSTART:20241027T020000
RDATE:20250330T030000
TZOFFSETFROM:+0200
TZOFFSETTO:+0100
TZNAME:Europe/Prague CET
END:STANDARD
BEGIN:STANDARD
DTSTART:20251026T020000
RDATE:20260329T030000
TZOFFSETFROM:+0200
TZOFFSETTO:+0100
TZNAME:Europe/Prague CET
END:STANDARD
BEGIN:STANDARD
DTSTART:20261025T020000
RDATE:20270328T030000
TZOFFSETFROM:+0200
TZOFFSETTO:+0100
TZNAME:Europe/Prague CET
END:STANDARD
BEGIN:STANDARD
DTSTART:20271031T020000
RDATE:20280326T030000
TZOFFSETFROM:+0200
TZOFFSETTO:+0100
TZNAME:Europe/Prague CET
END:STANDARD
BEGIN:STANDARD
DTSTART:20281029T020000
RDATE:20290325T030000
TZOFFSETFROM:+0200
TZOFFSETTO:+0100
TZNAME:Europe/Prague CET
END:STANDARD
BEGIN:STANDARD
DTSTART:20291028T020000
RDATE:20300331T030000
TZOFFSETFROM:+0200
TZOFFSETTO:+0100
TZNAME:Europe/Prague CET
END:STANDARD
BEGIN:STANDARD
DTSTART:20301027T020000
RDATE:20310330T030000
TZOFFSETFROM:+0200
TZOFFSETTO:+0100
TZNAME:Europe/Prague CET
END:STANDARD
BEGIN:STANDARD
DTSTART:20311026T020000
RDATE:20320328T030000
TZOFFSETFROM:+0200
TZOFFSETTO:+0100
TZNAME:Europe/Prague CET
END:STANDARD
BEGIN:DAYLIGHT
DTSTART:20230326T030000
RDATE:20231029T020000
TZOFFSETFROM:+0100
TZOFFSETTO:+0200
TZNAME:Europe/Prague CEST
END:DAYLIGHT
BEGIN:DAYLIGHT
DTSTART:20240331T030000
RDATE:20241027T020000
TZOFFSETFROM:+0100
TZOFFSETTO:+0200
TZNAME:Europe/Prague CEST
END:DAYLIGHT
BEGIN:DAYLIGHT
DTSTART:20250330T030000
RDATE:20251026T020000
TZOFFSETFROM:+0100
TZOFFSETTO:+0200
TZNAME:Europe/Prague CEST
END:DAYLIGHT
BEGIN:DAYLIGHT
DTSTART:20260329T030000
RDATE:20261025T020000
TZOFFSETFROM:+0100
TZOFFSETTO:+0200
TZNAME:Europe/Prague CEST
END:DAYLIGHT
BEGIN:DAYLIGHT
DTSTART:20270328T030000
RDATE:20271031T020000
TZOFFSETFROM:+0100
TZOFFSETTO:+0200
TZNAME:Europe/Prague CEST
END:DAYLIGHT
BEGIN:DAYLIGHT
DTSTART:20280326T030000
RDATE:20281029T020000
TZOFFSETFROM:+0100
TZOFFSETTO:+0200
TZNAME:Europe/Prague CEST
END:DAYLIGHT
BEGIN:DAYLIGHT
DTSTART:20290325T030000
RDATE:20291028T020000
TZOFFSETFROM:+0100
TZOFFSETTO:+0200
TZNAME:Europe/Prague CEST
END:DAYLIGHT
BEGIN:DAYLIGHT
DTSTART:20300331T030000
RDATE:20301027T020000
TZOFFSETFROM:+0100
TZOFFSETTO:+0200
TZNAME:Europe/Prague CEST
END:DAYLIGHT
BEGIN:DAYLIGHT
DTSTART:20310330T030000
RDATE:20311026T020000
TZOFFSETFROM:+0100
TZOFFSETTO:+0200
TZNAME:Europe/Prague CEST
END:DAYLIGHT
END:VTIMEZONE
BEGIN:VEVENT
UID:ad4780f8fb5ad58ebf3174af31c633ba
CATEGORIES:Výstavy
CREATED:20240325T074826
SUMMARY:Planeta Praha
LOCATION:Praha\, Česká republika
DESCRIPTION:Místo: Vyšehradská 51, Praha 2, Areál Emauzského kláštera\nPlaneta Praha vy
 práví o pražské přírodě jinak, než jsme zvyklí. Vykresluje příběhy ze špina
 vých dvorků, počůraných nároží a křoví na sídlišti spíše než z Divoké Šárky
  či Prokopského údolí. Pozoruje město „očima“ rostlin a živočichů: jak vním
 ají chodníky, pukliny v omítce, nádražní peróny nebo pouliční lampy? Jak vy
 užívají prostředí, které si lidé vystavěli pro sebe? Kolik „obyvatel“ vlast
 ně Praha má?\nPanoramatická projekce v černém sále představuje pomyslné okn
 o do vybraných pražských „biotopů“ – od pražské stepi přes městskou džungli
  a rybník v parku po obyčejný chodník a letní noc na Petříně. Z návštěvníků
  výstavy se stávají terénní výzkumníci, kteří objevují skrytý život pražské
  přírody na jedinečných filmových záběrech. Instalace ve virtuální realitě 
 vede návštěvníky do budoucnosti Prahy bez lidí – v zatopeném metru se množí
  ryby, v centru bují hustý dubový les, mezi ruinami budov se prohání stáda 
 divokých prasat. I takhle může vypadat Praha za sto let. Sukcesi, čili cykl
 us střídání společenstev v ekosystému, návštěvníci vidí „pracovat“ v atriu 
 CAMPu. Úhledná pobytová zóna se proměnila v divokou laboratoř pod širým neb
 em, malou městskou džungli, ve které se za šest měsíců trvání výstavy stříd
 á hned několik rostlinných druhů v zápase o životní prostor. Který z nich n
 akonec vyhraje?\nSpolehlivými průvodci „džunglí“ velkoměsta jsou odborní po
 radci, bez kterých by expozice nevznikla. Výstava proto ukazuje, co všechno
  k jejich profesi a terénní práci patří – nástroje, fotografie, náčrtky, il
 ustrace, poznámky, zápisníky a také úlovky z výprav do městské přírody. A t
 ak se návštěvníci CAMPu mohou podívat například na spacák botanika Jana Alb
 erta Šturmy, ve kterém tráví noci v městském křoví, maketu mraveniště, pomo
 cí které dokumentarista Jan Hošek nahlíží mravencům do „kuchyně“ nebo síťku
  na hmyz zoologa Ondřeje Sedláčka, protože ani ve 21. století se „entomolog
 ie bez síťky prostě dělat nedá.“ Výstavu doplňuje bohatý doprovodný program
  – vedle komentovaných prohlídek se návštěvníci mohou zapojit do pozorování
  městské přírody přímo v terénu, nebo navštívit tematické filmové projekce.
  Přednášky a debaty se zaměřují na to, jak lze o městskou krajinu a přírodu
  pečovat a představují mj. práci odborníků z Institutu plánování a rozvoje 
 hl. m. Prahy (IPR Praha), Odboru ochrany prostředí MHMP a dalších institucí
 .\n
X-ALT-DESC;FMTTYPE=text/html:<p>Místo: Vyšehradská 51, Praha 2, Areál Emauzského kláštera</p><p>Planeta 
 Praha vypráví o pražské přírodě jinak, než jsme zvyklí. Vykresluje příběhy 
 ze špinavých dvorků, počůraných nároží a křoví na sídlišti spíše než z Divo
 ké Šárky či Prokopského údolí. Pozoruje město „očima“ rostlin a živočichů: 
 jak vnímají chodníky, pukliny v omítce, nádražní peróny nebo pouliční lampy
 ? Jak využívají prostředí, které si lidé vystavěli pro sebe? Kolik „obyvate
 l“ vlastně Praha má?</p><p>Panoramatická projekce v černém sále představuje
  pomyslné okno do vybraných pražských „biotopů“ – od pražské stepi přes měs
 tskou džungli a rybník v parku po obyčejný chodník a letní noc na Petříně. 
 Z návštěvníků výstavy se stávají terénní výzkumníci, kteří objevují skrytý 
 život pražské přírody na jedinečných filmových záběrech. Instalace ve virtu
 ální realitě vede návštěvníky do budoucnosti Prahy bez lidí – v zatopeném m
 etru se množí ryby, v centru bují hustý dubový les, mezi ruinami budov se p
 rohání stáda divokých prasat. I takhle může vypadat Praha za sto let. Sukce
 si, čili cyklus střídání společenstev v ekosystému, návštěvníci vidí „praco
 vat“ v atriu CAMPu. Úhledná pobytová zóna se proměnila v divokou laboratoř 
 pod širým nebem, malou městskou džungli, ve které se za šest měsíců trvání 
 výstavy střídá hned několik rostlinných druhů v zápase o životní prostor. K
 terý z nich nakonec vyhraje?</p><p>Spolehlivými průvodci „džunglí“ velkoměs
 ta jsou odborní poradci, bez kterých by expozice nevznikla. Výstava proto u
 kazuje, co všechno k jejich profesi a terénní práci patří – nástroje, fotog
 rafie, náčrtky, ilustrace, poznámky, zápisníky a také úlovky z výprav do mě
 stské přírody. A tak se návštěvníci CAMPu mohou podívat například na spacák
  botanika Jana Alberta Šturmy, ve kterém tráví noci v městském křoví, maket
 u mraveniště, pomocí které dokumentarista Jan Hošek nahlíží mravencům do „k
 uchyně“ nebo síťku na hmyz zoologa Ondřeje Sedláčka, protože ani ve 21. sto
 letí se „entomologie bez síťky prostě dělat nedá.“ Výstavu doplňuje bohatý 
 doprovodný program – vedle komentovaných prohlídek se návštěvníci mohou zap
 ojit do pozorování městské přírody přímo v terénu, nebo navštívit tematické
  filmové projekce. Přednášky a debaty se zaměřují na to, jak lze o městskou
  krajinu a přírodu pečovat a představují mj. práci odborníků z Institutu pl
 ánování a rozvoje hl. m. Prahy (IPR Praha), Odboru ochrany prostředí MHMP a
  dalších institucí.</p>
CONTACT:tel.: +420 770 141 547, e-mail: Tato e-mailová adresa je chráněna před spamboty. Pro její zobrazení musíte mít povolen Javascript., URL: https://praha.camp/vystavy/detail/planeta-praha
DTSTAMP:20260419T221810
DTSTART;TZID=Europe/Prague;VALUE=DATE:20240321
DTEND;TZID=Europe/Prague;VALUE=DATE:20240902
SEQUENCE:0
TRANSP:OPAQUE
END:VEVENT
END:VCALENDAR