BEGIN:VCALENDAR
VERSION:2.0
PRODID:-//jEvents 2.0 for Joomla//EN
CALSCALE:GREGORIAN
METHOD:PUBLISH
BEGIN:VTIMEZONE
TZID:Europe/Prague
BEGIN:STANDARD
DTSTART:20250123T090000
RDATE:20250330T030000
TZOFFSETFROM:+0200
TZOFFSETTO:+0100
TZNAME:Europe/Prague CET
END:STANDARD
BEGIN:STANDARD
DTSTART:20251026T020000
RDATE:20260329T030000
TZOFFSETFROM:+0200
TZOFFSETTO:+0100
TZNAME:Europe/Prague CET
END:STANDARD
BEGIN:STANDARD
DTSTART:20261025T020000
RDATE:20270328T030000
TZOFFSETFROM:+0200
TZOFFSETTO:+0100
TZNAME:Europe/Prague CET
END:STANDARD
BEGIN:STANDARD
DTSTART:20271031T020000
RDATE:20280326T030000
TZOFFSETFROM:+0200
TZOFFSETTO:+0100
TZNAME:Europe/Prague CET
END:STANDARD
BEGIN:STANDARD
DTSTART:20281029T020000
RDATE:20290325T030000
TZOFFSETFROM:+0200
TZOFFSETTO:+0100
TZNAME:Europe/Prague CET
END:STANDARD
BEGIN:STANDARD
DTSTART:20291028T020000
RDATE:20300331T030000
TZOFFSETFROM:+0200
TZOFFSETTO:+0100
TZNAME:Europe/Prague CET
END:STANDARD
BEGIN:STANDARD
DTSTART:20301027T020000
RDATE:20310330T030000
TZOFFSETFROM:+0200
TZOFFSETTO:+0100
TZNAME:Europe/Prague CET
END:STANDARD
BEGIN:STANDARD
DTSTART:20311026T020000
RDATE:20320328T030000
TZOFFSETFROM:+0200
TZOFFSETTO:+0100
TZNAME:Europe/Prague CET
END:STANDARD
BEGIN:DAYLIGHT
DTSTART:20250330T030000
RDATE:20251026T020000
TZOFFSETFROM:+0100
TZOFFSETTO:+0200
TZNAME:Europe/Prague CEST
END:DAYLIGHT
BEGIN:DAYLIGHT
DTSTART:20260329T030000
RDATE:20261025T020000
TZOFFSETFROM:+0100
TZOFFSETTO:+0200
TZNAME:Europe/Prague CEST
END:DAYLIGHT
BEGIN:DAYLIGHT
DTSTART:20270328T030000
RDATE:20271031T020000
TZOFFSETFROM:+0100
TZOFFSETTO:+0200
TZNAME:Europe/Prague CEST
END:DAYLIGHT
BEGIN:DAYLIGHT
DTSTART:20280326T030000
RDATE:20281029T020000
TZOFFSETFROM:+0100
TZOFFSETTO:+0200
TZNAME:Europe/Prague CEST
END:DAYLIGHT
BEGIN:DAYLIGHT
DTSTART:20290325T030000
RDATE:20291028T020000
TZOFFSETFROM:+0100
TZOFFSETTO:+0200
TZNAME:Europe/Prague CEST
END:DAYLIGHT
BEGIN:DAYLIGHT
DTSTART:20300331T030000
RDATE:20301027T020000
TZOFFSETFROM:+0100
TZOFFSETTO:+0200
TZNAME:Europe/Prague CEST
END:DAYLIGHT
BEGIN:DAYLIGHT
DTSTART:20310330T030000
RDATE:20311026T020000
TZOFFSETFROM:+0100
TZOFFSETTO:+0200
TZNAME:Europe/Prague CEST
END:DAYLIGHT
END:VTIMEZONE
BEGIN:VEVENT
UID:1e97c1f833444eff61e9e4079fb15b6d
CATEGORIES:Burzy, Výstavy
CREATED:20250122T145218
SUMMARY:Prodejní výstava brouků a motýlů Praha
LOCATION:Praha\, Česká republika
DESCRIPTION:<p><strong>Hotel Olympik Congress Tristar</strong>, U Sluncové 14A, <strong
 >Praha 8</strong> - prodejní výstava brouků a motýlů, ENTOMOLOGICAL EXCHANG
 E DAYS AND EXHIBITION.</p><p>Informace : <strong>+420 604 670 861</strong>,
  Ing.Dan Čagánek, e-mail: <joomla-hidden-mail  is-link="" is-email="1" firs
 t="ZGFuLmNhZ2FuZWs=" last="dGlzY2FsaS5jeg==" text="ZGFuLmNhZ2FuZWtAdGlzY2Fs
 aS5jeg==" base="" >Tato e-mailová adresa je chráněna před spamboty. Pro jej
 í zobrazení musíte mít povolen Javascript.</joomla-hidden-mail>,&nbsp;<stro
 ng> <a href="https://www.hobbypraha.cz/">www.hobbypraha.cz</a></strong></p>
 <p><strong>Vstupné</strong><br />Dospělí 150,- Kč<br />Děti do 150 cm, ZTP,
  ZTP/P + doprovod ZDARMA</p><p data-start="0" data-end="74"><strong data-st
 art="0" data-end="74">Mezinárodní výměnné dny a výstava hmyzu – Praha, Hote
 l Olympik Tristar</strong></p><p data-start="76" data-end="420">Odborná veř
 ejnost i laičtí zájemci jsou srdečně zváni na prestižní entomologickou udál
 ost, která se každoročně řadí mezi nejvýznamnější setkání v oboru. Kongreso
 vé centrum Hotelu Olympik Tristar poskytne zázemí pro mezinárodní výměnné d
 ny, odbornou výstavu preparovaného i živého hmyzu a prezentaci entomologick
 ých sbírek z různých částí světa.</p><p data-start="422" data-end="740">Sou
 částí akce je bohatá nabídka sběratelského materiálu, výměna i prodej exemp
 lářů (brouci, motýli, pavoukovci, strašilky aj.), specializované pomůcky pr
 o terénní sběr a preparaci, stejně jako odborná literatura. Výstava je dopl
 něna o edukativní část pro veřejnost a ukázky hmyzích specialit pro zájemce
  o entomofagii.</p><p data-start="742" data-end="1036">Akce slouží jako pro
 stor pro navazování mezinárodních kontaktů, sdílení poznatků a prezentaci v
 ýsledků amatérského i profesionálního výzkumu. Vítáni jsou sběratelé, vědeč
 tí pracovníci, pedagogové, studenti přírodovědných oborů i široká veřejnost
  se zájmem o biologii a systematiku bezobratlých.</p><p data-start="1038" d
 ata-end="1135">Jedinečná příležitost k rozšíření znalostí, výměně zkušenost
 í a obohacení entomologických sbírek.</p>
CONTACT:Ing.Dan Čagánek, mobil: +420 604 670 861, e-mail: Tato e-mailová adresa je chráněna před spamboty. Pro její zobrazení musíte mít povolen Javascript.,
DTSTAMP:20260419T190014
DTSTART;TZID=Europe/Prague:20260124T090000
DTEND;TZID=Europe/Prague:20260124T170000
SEQUENCE:0
TRANSP:OPAQUE
END:VEVENT
END:VCALENDAR