BEGIN:VCALENDAR
VERSION:2.0
PRODID:-//jEvents 2.0 for Joomla//EN
CALSCALE:GREGORIAN
METHOD:PUBLISH
BEGIN:VTIMEZONE
TZID:Europe/Prague
BEGIN:STANDARD
DTSTART:20241027T020000
RDATE:20250330T030000
TZOFFSETFROM:+0200
TZOFFSETTO:+0100
TZNAME:Europe/Prague CET
END:STANDARD
BEGIN:STANDARD
DTSTART:20251026T020000
RDATE:20260329T030000
TZOFFSETFROM:+0200
TZOFFSETTO:+0100
TZNAME:Europe/Prague CET
END:STANDARD
BEGIN:STANDARD
DTSTART:20261025T020000
RDATE:20270328T030000
TZOFFSETFROM:+0200
TZOFFSETTO:+0100
TZNAME:Europe/Prague CET
END:STANDARD
BEGIN:STANDARD
DTSTART:20271031T020000
RDATE:20280326T030000
TZOFFSETFROM:+0200
TZOFFSETTO:+0100
TZNAME:Europe/Prague CET
END:STANDARD
BEGIN:STANDARD
DTSTART:20281029T020000
RDATE:20290325T030000
TZOFFSETFROM:+0200
TZOFFSETTO:+0100
TZNAME:Europe/Prague CET
END:STANDARD
BEGIN:STANDARD
DTSTART:20291028T020000
RDATE:20300331T030000
TZOFFSETFROM:+0200
TZOFFSETTO:+0100
TZNAME:Europe/Prague CET
END:STANDARD
BEGIN:STANDARD
DTSTART:20301027T020000
RDATE:20310330T030000
TZOFFSETFROM:+0200
TZOFFSETTO:+0100
TZNAME:Europe/Prague CET
END:STANDARD
BEGIN:STANDARD
DTSTART:20311026T020000
RDATE:20320328T030000
TZOFFSETFROM:+0200
TZOFFSETTO:+0100
TZNAME:Europe/Prague CET
END:STANDARD
BEGIN:DAYLIGHT
DTSTART:20241003T090000
RDATE:20241027T020000
TZOFFSETFROM:+0100
TZOFFSETTO:+0200
TZNAME:Europe/Prague CEST
END:DAYLIGHT
BEGIN:DAYLIGHT
DTSTART:20250330T030000
RDATE:20251026T020000
TZOFFSETFROM:+0100
TZOFFSETTO:+0200
TZNAME:Europe/Prague CEST
END:DAYLIGHT
BEGIN:DAYLIGHT
DTSTART:20260329T030000
RDATE:20261025T020000
TZOFFSETFROM:+0100
TZOFFSETTO:+0200
TZNAME:Europe/Prague CEST
END:DAYLIGHT
BEGIN:DAYLIGHT
DTSTART:20270328T030000
RDATE:20271031T020000
TZOFFSETFROM:+0100
TZOFFSETTO:+0200
TZNAME:Europe/Prague CEST
END:DAYLIGHT
BEGIN:DAYLIGHT
DTSTART:20280326T030000
RDATE:20281029T020000
TZOFFSETFROM:+0100
TZOFFSETTO:+0200
TZNAME:Europe/Prague CEST
END:DAYLIGHT
BEGIN:DAYLIGHT
DTSTART:20290325T030000
RDATE:20291028T020000
TZOFFSETFROM:+0100
TZOFFSETTO:+0200
TZNAME:Europe/Prague CEST
END:DAYLIGHT
BEGIN:DAYLIGHT
DTSTART:20300331T030000
RDATE:20301027T020000
TZOFFSETFROM:+0100
TZOFFSETTO:+0200
TZNAME:Europe/Prague CEST
END:DAYLIGHT
BEGIN:DAYLIGHT
DTSTART:20310330T030000
RDATE:20311026T020000
TZOFFSETFROM:+0100
TZOFFSETTO:+0200
TZNAME:Europe/Prague CEST
END:DAYLIGHT
END:VTIMEZONE
BEGIN:VEVENT
UID:8eeb532ee8e6546dc8b39d5ff8661495
CATEGORIES:Burzy
CREATED:20250122T150749
SUMMARY:Mezinárodní setkání sběratelů a chovatelů brouků, motýlů a ostatních skupin hmyzu Praha
LOCATION:Praha\, Česká republika
DESCRIPTION:Konferenční Centrum CITY, Na Strži 65/1702,140 00 Praha 4 .\nsobota 4. 10. 
 2025 09.00 -17.30 hod. , neděle 5. 10. 2025 8.00 - 12.00 hod.\nMezinárodní 
 setkání sběratelů a chovatelů brouků, motýlů a ostatních skupin hmyzu. Souč
 ástí je nákup, prodej entomologických potřeb a odborné literatury.\nInforma
 ce: Tato e-mailová adresa je chráněna před spamboty. Pro její zobrazení mus
 íte mít povolen Javascript.\n
X-ALT-DESC;FMTTYPE=text/html:<p>Konferenční Centrum CITY, Na Strži 65/1702,140 00 Praha 4 .</p><p>sobota
  4. 10. 2025 09.00 -17.30 hod. , neděle 5. 10. 2025 8.00 - 12.00 hod.</p><p
 >Mezinárodní setkání sběratelů a chovatelů brouků, motýlů a ostatních skupi
 n hmyzu. Součástí je nákup, prodej entomologických potřeb a odborné literat
 ury.</p><p>Informace: <joomla-hidden-mail  is-link="" is-email="1" first="Z
 W50b3RlcmEucHJhaGE=" last="Z21haWwuY29t" text="ZW50b3RlcmEucHJhaGFAZ21haWwu
 Y29t" base="" >Tato e-mailová adresa je chráněna před spamboty. Pro její zo
 brazení musíte mít povolen Javascript.</joomla-hidden-mail></p>
CONTACT:Tato e-mailová adresa je chráněna před spamboty. Pro její zobrazení musíte mít povolen Javascript.
DTSTAMP:20260419T223017
DTSTART;TZID=Europe/Prague:20251004T090000
DTEND;TZID=Europe/Prague:20251005T120000
SEQUENCE:0
TRANSP:OPAQUE
END:VEVENT
END:VCALENDAR