BEGIN:VCALENDAR
VERSION:2.0
PRODID:-//jEvents 2.0 for Joomla//EN
CALSCALE:GREGORIAN
METHOD:PUBLISH
BEGIN:VTIMEZONE
TZID:Europe/Prague
BEGIN:STANDARD
DTSTART:20241107T090000
RDATE:20250330T030000
TZOFFSETFROM:+0200
TZOFFSETTO:+0100
TZNAME:Europe/Prague CET
END:STANDARD
BEGIN:STANDARD
DTSTART:20251026T020000
RDATE:20260329T030000
TZOFFSETFROM:+0200
TZOFFSETTO:+0100
TZNAME:Europe/Prague CET
END:STANDARD
BEGIN:STANDARD
DTSTART:20261025T020000
RDATE:20270328T030000
TZOFFSETFROM:+0200
TZOFFSETTO:+0100
TZNAME:Europe/Prague CET
END:STANDARD
BEGIN:STANDARD
DTSTART:20271031T020000
RDATE:20280326T030000
TZOFFSETFROM:+0200
TZOFFSETTO:+0100
TZNAME:Europe/Prague CET
END:STANDARD
BEGIN:STANDARD
DTSTART:20281029T020000
RDATE:20290325T030000
TZOFFSETFROM:+0200
TZOFFSETTO:+0100
TZNAME:Europe/Prague CET
END:STANDARD
BEGIN:STANDARD
DTSTART:20291028T020000
RDATE:20300331T030000
TZOFFSETFROM:+0200
TZOFFSETTO:+0100
TZNAME:Europe/Prague CET
END:STANDARD
BEGIN:STANDARD
DTSTART:20301027T020000
RDATE:20310330T030000
TZOFFSETFROM:+0200
TZOFFSETTO:+0100
TZNAME:Europe/Prague CET
END:STANDARD
BEGIN:STANDARD
DTSTART:20311026T020000
RDATE:20320328T030000
TZOFFSETFROM:+0200
TZOFFSETTO:+0100
TZNAME:Europe/Prague CET
END:STANDARD
BEGIN:DAYLIGHT
DTSTART:20250330T030000
RDATE:20251026T020000
TZOFFSETFROM:+0100
TZOFFSETTO:+0200
TZNAME:Europe/Prague CEST
END:DAYLIGHT
BEGIN:DAYLIGHT
DTSTART:20260329T030000
RDATE:20261025T020000
TZOFFSETFROM:+0100
TZOFFSETTO:+0200
TZNAME:Europe/Prague CEST
END:DAYLIGHT
BEGIN:DAYLIGHT
DTSTART:20270328T030000
RDATE:20271031T020000
TZOFFSETFROM:+0100
TZOFFSETTO:+0200
TZNAME:Europe/Prague CEST
END:DAYLIGHT
BEGIN:DAYLIGHT
DTSTART:20280326T030000
RDATE:20281029T020000
TZOFFSETFROM:+0100
TZOFFSETTO:+0200
TZNAME:Europe/Prague CEST
END:DAYLIGHT
BEGIN:DAYLIGHT
DTSTART:20290325T030000
RDATE:20291028T020000
TZOFFSETFROM:+0100
TZOFFSETTO:+0200
TZNAME:Europe/Prague CEST
END:DAYLIGHT
BEGIN:DAYLIGHT
DTSTART:20300331T030000
RDATE:20301027T020000
TZOFFSETFROM:+0100
TZOFFSETTO:+0200
TZNAME:Europe/Prague CEST
END:DAYLIGHT
BEGIN:DAYLIGHT
DTSTART:20310330T030000
RDATE:20311026T020000
TZOFFSETFROM:+0100
TZOFFSETTO:+0200
TZNAME:Europe/Prague CEST
END:DAYLIGHT
END:VTIMEZONE
BEGIN:VEVENT
UID:f2c1a99be35dfbd90ee8f78ce658a232
CATEGORIES:Burzy, Výstavy
CREATED:20250122T151118
SUMMARY:Prodejní výstava tropických a evropských motýlů a brouků, odborné literatury, pomůcek, nářadí ke sběru a preparaci hmyzu Břeclav
LOCATION:Břeclav\, Česká republika
DESCRIPTION:Kulturní dům Břeclav. Pořádáme prodejní výstavu tropických a evropských mot
 ýlů a brouků, odborné literatury, pomůcek, nářadí ke sběru a preparaci hmyz
 u. Všechny účastníky uvedené akce žádáme, aby dodržovali stávající právní n
 ormy a Washingtonskou konvenci o ochraně živočichů.\nInformace na mob.: +42
 0 732 424 208, p. Josef Holomek, e-mail: Tato e-mailová adresa je chráněna 
 před spamboty. Pro její zobrazení musíte mít povolen Javascript.\n
X-ALT-DESC;FMTTYPE=text/html:<p><strong>Kulturní dům Břeclav.</strong> Pořádáme prodejní výstavu tropick
 ých a evropských motýlů a brouků, odborné literatury, pomůcek, nářadí ke sb
 ěru a preparaci hmyzu. Všechny účastníky uvedené akce žádáme, aby dodržoval
 i stávající právní normy a Washingtonskou konvenci o ochraně živočichů.</p>
 <p>Informace na mob.: <strong>+420 732 424 208</strong>, p. Josef Holomek, 
 e-mail: <joomla-hidden-mail  is-link="" is-email="1" first="ei1wb2x5eGVuYQ=
 =" last="c2V6bmFtLmN6" text="ei1wb2x5eGVuYUBzZXpuYW0uY3o=" base="" >Tato e-
 mailová adresa je chráněna před spamboty. Pro její zobrazení musíte mít pov
 olen Javascript.</joomla-hidden-mail></p>
CONTACT:Josef Holomek, mobil: +420 732 424 208, e-mail: Tato e-mailová adresa je chráněna před spamboty. Pro její zobrazení musíte mít povolen Javascript.
DTSTAMP:20260419T221702
DTSTART;TZID=Europe/Prague:20251108T090000
DTEND;TZID=Europe/Prague:20251108T130000
SEQUENCE:0
TRANSP:OPAQUE
END:VEVENT
END:VCALENDAR