BEGIN:VCALENDAR
VERSION:2.0
PRODID:-//jEvents 2.0 for Joomla//EN
CALSCALE:GREGORIAN
METHOD:PUBLISH
BEGIN:VTIMEZONE
TZID:Europe/Prague
BEGIN:STANDARD
DTSTART:20240328T080000
RDATE:20240331T030000
TZOFFSETFROM:+0200
TZOFFSETTO:+0100
TZNAME:Europe/Prague CET
END:STANDARD
BEGIN:STANDARD
DTSTART:20241027T020000
RDATE:20250330T030000
TZOFFSETFROM:+0200
TZOFFSETTO:+0100
TZNAME:Europe/Prague CET
END:STANDARD
BEGIN:STANDARD
DTSTART:20251026T020000
RDATE:20260329T030000
TZOFFSETFROM:+0200
TZOFFSETTO:+0100
TZNAME:Europe/Prague CET
END:STANDARD
BEGIN:STANDARD
DTSTART:20261025T020000
RDATE:20270328T030000
TZOFFSETFROM:+0200
TZOFFSETTO:+0100
TZNAME:Europe/Prague CET
END:STANDARD
BEGIN:STANDARD
DTSTART:20271031T020000
RDATE:20280326T030000
TZOFFSETFROM:+0200
TZOFFSETTO:+0100
TZNAME:Europe/Prague CET
END:STANDARD
BEGIN:STANDARD
DTSTART:20281029T020000
RDATE:20290325T030000
TZOFFSETFROM:+0200
TZOFFSETTO:+0100
TZNAME:Europe/Prague CET
END:STANDARD
BEGIN:STANDARD
DTSTART:20291028T020000
RDATE:20300331T030000
TZOFFSETFROM:+0200
TZOFFSETTO:+0100
TZNAME:Europe/Prague CET
END:STANDARD
BEGIN:STANDARD
DTSTART:20301027T020000
RDATE:20310330T030000
TZOFFSETFROM:+0200
TZOFFSETTO:+0100
TZNAME:Europe/Prague CET
END:STANDARD
BEGIN:STANDARD
DTSTART:20311026T020000
RDATE:20320328T030000
TZOFFSETFROM:+0200
TZOFFSETTO:+0100
TZNAME:Europe/Prague CET
END:STANDARD
BEGIN:DAYLIGHT
DTSTART:20240331T030000
RDATE:20241027T020000
TZOFFSETFROM:+0100
TZOFFSETTO:+0200
TZNAME:Europe/Prague CEST
END:DAYLIGHT
BEGIN:DAYLIGHT
DTSTART:20250330T030000
RDATE:20251026T020000
TZOFFSETFROM:+0100
TZOFFSETTO:+0200
TZNAME:Europe/Prague CEST
END:DAYLIGHT
BEGIN:DAYLIGHT
DTSTART:20260329T030000
RDATE:20261025T020000
TZOFFSETFROM:+0100
TZOFFSETTO:+0200
TZNAME:Europe/Prague CEST
END:DAYLIGHT
BEGIN:DAYLIGHT
DTSTART:20270328T030000
RDATE:20271031T020000
TZOFFSETFROM:+0100
TZOFFSETTO:+0200
TZNAME:Europe/Prague CEST
END:DAYLIGHT
BEGIN:DAYLIGHT
DTSTART:20280326T030000
RDATE:20281029T020000
TZOFFSETFROM:+0100
TZOFFSETTO:+0200
TZNAME:Europe/Prague CEST
END:DAYLIGHT
BEGIN:DAYLIGHT
DTSTART:20290325T030000
RDATE:20291028T020000
TZOFFSETFROM:+0100
TZOFFSETTO:+0200
TZNAME:Europe/Prague CEST
END:DAYLIGHT
BEGIN:DAYLIGHT
DTSTART:20300331T030000
RDATE:20301027T020000
TZOFFSETFROM:+0100
TZOFFSETTO:+0200
TZNAME:Europe/Prague CEST
END:DAYLIGHT
BEGIN:DAYLIGHT
DTSTART:20310330T030000
RDATE:20311026T020000
TZOFFSETFROM:+0100
TZOFFSETTO:+0200
TZNAME:Europe/Prague CEST
END:DAYLIGHT
END:VTIMEZONE
BEGIN:VEVENT
UID:45086386d271aa73740a77b9c92d69b2
CATEGORIES:Sales Exhibitions, Exhibitions
CREATED:20250122T154934
SUMMARY:Mezinárodní setkání sběratelů a chovatelů brouků, motýlů a ostatních skupin hmyzu Bratislava
LOCATION:Bratislava\, SK
DESCRIPTION:Areál Slovenské akademie věd na Patrónke, Dúbravská cesta, Bratislava od 8 
 -12 hod.\nMezinárodní setkání sběratelů a chovatelů brouků, motýlů a ostatn
 ích skupin hmyzu. Samozřejmě nákup, prodej odborné literatury a entomologic
 kých potřeb.\nInformace na mob.: 00421 949 259 439, Ing. Karol Hlavenka, e-
 mail: This email address is being protected from spambots. You need JavaScr
 ipt enabled to view it.\n
X-ALT-DESC;FMTTYPE=text/html:<p>Areál <strong>Slovenské akademie věd </strong><strong>na Patrónke</stron
 g>, Dúbravská cesta, Bratislava od 8 -12 hod.</p><p>Mezinárodní setkání sbě
 ratelů a chovatelů brouků, motýlů a ostatních skupin hmyzu. Samozřejmě náku
 p, prodej odborné literatury a entomologických potřeb.</p><p>Informace na&n
 bsp;mob.: <strong>00421 949 259 439</strong>, Ing. Karol Hlavenka, e-mail: 
 <joomla-hidden-mail  is-link="" is-email="1" first="aGxhdmVua2Eua2Fyb2w=" l
 ast="Z21haWwuY29t" text="aGxhdmVua2Eua2Fyb2xAZ21haWwuY29t" base="" >This em
 ail address is being protected from spambots. You need JavaScript enabled t
 o view it.</joomla-hidden-mail></p>
CONTACT:Ing. Karol Hlavenka, mobil: +421 949 259 439, e-mail: This email address is being protected from spambots. You need JavaScript enabled to view it.
DTSTAMP:20260419T222558
DTSTART;TZID=Europe/Prague:20250329T080000
DTEND;TZID=Europe/Prague:20250329T120000
SEQUENCE:0
TRANSP:OPAQUE
END:VEVENT
END:VCALENDAR