BEGIN:VCALENDAR
VERSION:2.0
PRODID:-//jEvents 2.0 for Joomla//EN
CALSCALE:GREGORIAN
METHOD:PUBLISH
BEGIN:VTIMEZONE
TZID:Europe/Prague
BEGIN:STANDARD
DTSTART:20241027T020000
RDATE:20250330T030000
TZOFFSETFROM:+0200
TZOFFSETTO:+0100
TZNAME:Europe/Prague CET
END:STANDARD
BEGIN:STANDARD
DTSTART:20251026T020000
RDATE:20260329T030000
TZOFFSETFROM:+0200
TZOFFSETTO:+0100
TZNAME:Europe/Prague CET
END:STANDARD
BEGIN:STANDARD
DTSTART:20261025T020000
RDATE:20270328T030000
TZOFFSETFROM:+0200
TZOFFSETTO:+0100
TZNAME:Europe/Prague CET
END:STANDARD
BEGIN:STANDARD
DTSTART:20271031T020000
RDATE:20280326T030000
TZOFFSETFROM:+0200
TZOFFSETTO:+0100
TZNAME:Europe/Prague CET
END:STANDARD
BEGIN:STANDARD
DTSTART:20281029T020000
RDATE:20290325T030000
TZOFFSETFROM:+0200
TZOFFSETTO:+0100
TZNAME:Europe/Prague CET
END:STANDARD
BEGIN:STANDARD
DTSTART:20291028T020000
RDATE:20300331T030000
TZOFFSETFROM:+0200
TZOFFSETTO:+0100
TZNAME:Europe/Prague CET
END:STANDARD
BEGIN:STANDARD
DTSTART:20301027T020000
RDATE:20310330T030000
TZOFFSETFROM:+0200
TZOFFSETTO:+0100
TZNAME:Europe/Prague CET
END:STANDARD
BEGIN:STANDARD
DTSTART:20311026T020000
RDATE:20320328T030000
TZOFFSETFROM:+0200
TZOFFSETTO:+0100
TZNAME:Europe/Prague CET
END:STANDARD
BEGIN:DAYLIGHT
DTSTART:20240919T090000
RDATE:20241027T020000
TZOFFSETFROM:+0100
TZOFFSETTO:+0200
TZNAME:Europe/Prague CEST
END:DAYLIGHT
BEGIN:DAYLIGHT
DTSTART:20250330T030000
RDATE:20251026T020000
TZOFFSETFROM:+0100
TZOFFSETTO:+0200
TZNAME:Europe/Prague CEST
END:DAYLIGHT
BEGIN:DAYLIGHT
DTSTART:20260329T030000
RDATE:20261025T020000
TZOFFSETFROM:+0100
TZOFFSETTO:+0200
TZNAME:Europe/Prague CEST
END:DAYLIGHT
BEGIN:DAYLIGHT
DTSTART:20270328T030000
RDATE:20271031T020000
TZOFFSETFROM:+0100
TZOFFSETTO:+0200
TZNAME:Europe/Prague CEST
END:DAYLIGHT
BEGIN:DAYLIGHT
DTSTART:20280326T030000
RDATE:20281029T020000
TZOFFSETFROM:+0100
TZOFFSETTO:+0200
TZNAME:Europe/Prague CEST
END:DAYLIGHT
BEGIN:DAYLIGHT
DTSTART:20290325T030000
RDATE:20291028T020000
TZOFFSETFROM:+0100
TZOFFSETTO:+0200
TZNAME:Europe/Prague CEST
END:DAYLIGHT
BEGIN:DAYLIGHT
DTSTART:20300331T030000
RDATE:20301027T020000
TZOFFSETFROM:+0100
TZOFFSETTO:+0200
TZNAME:Europe/Prague CEST
END:DAYLIGHT
BEGIN:DAYLIGHT
DTSTART:20310330T030000
RDATE:20311026T020000
TZOFFSETFROM:+0100
TZOFFSETTO:+0200
TZNAME:Europe/Prague CEST
END:DAYLIGHT
END:VTIMEZONE
BEGIN:VEVENT
UID:cf0674d379020d4f90d0b39b9494f58e
CATEGORIES:Sales Exhibitions, Exhibitions, Lectures
CREATED:20250122T155332
SUMMARY:ENTOMODENA Modena
LOCATION:Modena\, IT
DESCRIPTION:ENTOMODENA Modena, Strada Panni , 83\nSběratelé a chovatelé motýlů, brouků 
 a jiného hmyzu, mořských nebo sladkovodních mušlí.\nNÁKUP, PRODEJ A VÝMĚNA.
 \nVstup pro veřejnost zdarma.\n20.9.2025 9:00 - 19:00 - 21.9.2025 9:00 - 13
 :00\ninformace : This email address is being protected from spambots. You n
 eed JavaScript enabled to view it.  (mailto:newsletter@entomodena.com)– www
 .entomodena.com (https://www.entomodena.com/cms/)\n
X-ALT-DESC;FMTTYPE=text/html:<p><strong><em>ENTOMODENA&nbsp;</em></strong><strong><em>Modena, Strada Pan
 ni , 83</em></strong></p><p>Sběratelé a chovatelé motýlů, brouků a jiného h
 myzu, mořských nebo sladkovodních mušlí.<br />NÁKUP, PRODEJ A VÝMĚNA.</p><p
 >Vstup pro veřejnost zdarma.</p><p>20.9.2025 9:00 - 19:00 - 21.9.2025 9:00 
 - 13:00</p><p>informace : <a href="mailto:newsletter@entomodena.com"><em><j
 oomla-hidden-mail  is-link="" is-email="1" first="bmV3c2xldHRlcg==" last="Z
 W50b21vZGVuYS5jb20=" text="bmV3c2xldHRlckBlbnRvbW9kZW5hLmNvbQ==" base="" >T
 his email address is being protected from spambots. You need JavaScript ena
 bled to view it.</joomla-hidden-mail>&nbsp;</em></a><em>– </em><a href="htt
 ps://www.entomodena.com/cms/">www.entomodena.com</a></p>
CONTACT:This email address is being protected from spambots. You need JavaScript enabled to view it. – www.entomodena.com
DTSTAMP:20260420T001158
DTSTART;TZID=Europe/Prague:20250920T090000
DTEND;TZID=Europe/Prague:20250921T130000
SEQUENCE:0
TRANSP:OPAQUE
END:VEVENT
END:VCALENDAR