BEGIN:VCALENDAR
VERSION:2.0
PRODID:-//jEvents 2.0 for Joomla//EN
CALSCALE:GREGORIAN
METHOD:PUBLISH
BEGIN:VTIMEZONE
TZID:Europe/Prague
BEGIN:STANDARD
DTSTART:20240321T093000
RDATE:20240331T030000
TZOFFSETFROM:+0200
TZOFFSETTO:+0100
TZNAME:Europe/Prague CET
END:STANDARD
BEGIN:STANDARD
DTSTART:20241027T020000
RDATE:20250330T030000
TZOFFSETFROM:+0200
TZOFFSETTO:+0100
TZNAME:Europe/Prague CET
END:STANDARD
BEGIN:STANDARD
DTSTART:20251026T020000
RDATE:20260329T030000
TZOFFSETFROM:+0200
TZOFFSETTO:+0100
TZNAME:Europe/Prague CET
END:STANDARD
BEGIN:STANDARD
DTSTART:20261025T020000
RDATE:20270328T030000
TZOFFSETFROM:+0200
TZOFFSETTO:+0100
TZNAME:Europe/Prague CET
END:STANDARD
BEGIN:STANDARD
DTSTART:20271031T020000
RDATE:20280326T030000
TZOFFSETFROM:+0200
TZOFFSETTO:+0100
TZNAME:Europe/Prague CET
END:STANDARD
BEGIN:STANDARD
DTSTART:20281029T020000
RDATE:20290325T030000
TZOFFSETFROM:+0200
TZOFFSETTO:+0100
TZNAME:Europe/Prague CET
END:STANDARD
BEGIN:STANDARD
DTSTART:20291028T020000
RDATE:20300331T030000
TZOFFSETFROM:+0200
TZOFFSETTO:+0100
TZNAME:Europe/Prague CET
END:STANDARD
BEGIN:STANDARD
DTSTART:20301027T020000
RDATE:20310330T030000
TZOFFSETFROM:+0200
TZOFFSETTO:+0100
TZNAME:Europe/Prague CET
END:STANDARD
BEGIN:STANDARD
DTSTART:20311026T020000
RDATE:20320328T030000
TZOFFSETFROM:+0200
TZOFFSETTO:+0100
TZNAME:Europe/Prague CET
END:STANDARD
BEGIN:DAYLIGHT
DTSTART:20240331T030000
RDATE:20241027T020000
TZOFFSETFROM:+0100
TZOFFSETTO:+0200
TZNAME:Europe/Prague CEST
END:DAYLIGHT
BEGIN:DAYLIGHT
DTSTART:20250330T030000
RDATE:20251026T020000
TZOFFSETFROM:+0100
TZOFFSETTO:+0200
TZNAME:Europe/Prague CEST
END:DAYLIGHT
BEGIN:DAYLIGHT
DTSTART:20260329T030000
RDATE:20261025T020000
TZOFFSETFROM:+0100
TZOFFSETTO:+0200
TZNAME:Europe/Prague CEST
END:DAYLIGHT
BEGIN:DAYLIGHT
DTSTART:20270328T030000
RDATE:20271031T020000
TZOFFSETFROM:+0100
TZOFFSETTO:+0200
TZNAME:Europe/Prague CEST
END:DAYLIGHT
BEGIN:DAYLIGHT
DTSTART:20280326T030000
RDATE:20281029T020000
TZOFFSETFROM:+0100
TZOFFSETTO:+0200
TZNAME:Europe/Prague CEST
END:DAYLIGHT
BEGIN:DAYLIGHT
DTSTART:20290325T030000
RDATE:20291028T020000
TZOFFSETFROM:+0100
TZOFFSETTO:+0200
TZNAME:Europe/Prague CEST
END:DAYLIGHT
BEGIN:DAYLIGHT
DTSTART:20300331T030000
RDATE:20301027T020000
TZOFFSETFROM:+0100
TZOFFSETTO:+0200
TZNAME:Europe/Prague CEST
END:DAYLIGHT
BEGIN:DAYLIGHT
DTSTART:20310330T030000
RDATE:20311026T020000
TZOFFSETFROM:+0100
TZOFFSETTO:+0200
TZNAME:Europe/Prague CEST
END:DAYLIGHT
END:VTIMEZONE
BEGIN:VEVENT
UID:d764d713ea77cfe10d72344975674da4
CATEGORIES:Sales Exhibitions, Exhibitions
CREATED:20250122T155622
SUMMARY:Burza hmyzu Mons
LOCATION:Mons\, BE
DESCRIPTION:Provincial Jean d'Avesnes, 1, Avenue du Gouverneur Emile Cornez, Mons, Belg
 ium, 7000\nJe to výstava a prodej naturalizovaného hmyzu určeného ke sběru,
  studiu nebo k dekoraci.\n70 vystavovatelů, rozmístěných na více než 300 me
 trech stolů.\nhttp://www.butterflies.be (http://www.butterflies.be), Tel/Fa
 x. +32 0479 660029, E-mail: This email address is being protected from spam
 bots. You need JavaScript enabled to view it.\n
X-ALT-DESC;FMTTYPE=text/html:<p>Provincial Jean d'Avesnes, 1, Avenue du Gouverneur Emile Cornez, Mons, B
 elgium, 7000</p><p>Je to výstava a prodej naturalizovaného hmyzu určeného k
 e sběru, studiu nebo k dekoraci.</p><p>70 vystavovatelů, rozmístěných na ví
 ce než 300 metrech stolů.</p><p><a href="http://www.butterflies.be">http://
 www.butterflies.be</a>, Tel/Fax. +32 0479 660029, E-mail: <joomla-hidden-ma
 il  is-link="" is-email="1" first="a2l3YW5pc2JvdXJzZQ==" last="Z21haWwuY29t
 " text="a2l3YW5pc2JvdXJzZUBnbWFpbC5jb20=" base="" >This email address is be
 ing protected from spambots. You need JavaScript enabled to view it.</jooml
 a-hidden-mail></p>
CONTACT:This email address is being protected from spambots. You need JavaScript enabled to view it.
DTSTAMP:20260419T222653
DTSTART;TZID=Europe/Prague:20250322T093000
DTEND;TZID=Europe/Prague:20250322T160000
SEQUENCE:0
TRANSP:OPAQUE
END:VEVENT
END:VCALENDAR