BEGIN:VCALENDAR
VERSION:2.0
PRODID:-//jEvents 2.0 for Joomla//EN
CALSCALE:GREGORIAN
METHOD:PUBLISH
BEGIN:VTIMEZONE
TZID:Europe/Prague
BEGIN:STANDARD
DTSTART:20241027T020000
RDATE:20250330T030000
TZOFFSETFROM:+0200
TZOFFSETTO:+0100
TZNAME:Europe/Prague CET
END:STANDARD
BEGIN:STANDARD
DTSTART:20251026T020000
RDATE:20260329T030000
TZOFFSETFROM:+0200
TZOFFSETTO:+0100
TZNAME:Europe/Prague CET
END:STANDARD
BEGIN:STANDARD
DTSTART:20261025T020000
RDATE:20270328T030000
TZOFFSETFROM:+0200
TZOFFSETTO:+0100
TZNAME:Europe/Prague CET
END:STANDARD
BEGIN:STANDARD
DTSTART:20271031T020000
RDATE:20280326T030000
TZOFFSETFROM:+0200
TZOFFSETTO:+0100
TZNAME:Europe/Prague CET
END:STANDARD
BEGIN:STANDARD
DTSTART:20281029T020000
RDATE:20290325T030000
TZOFFSETFROM:+0200
TZOFFSETTO:+0100
TZNAME:Europe/Prague CET
END:STANDARD
BEGIN:STANDARD
DTSTART:20291028T020000
RDATE:20300331T030000
TZOFFSETFROM:+0200
TZOFFSETTO:+0100
TZNAME:Europe/Prague CET
END:STANDARD
BEGIN:STANDARD
DTSTART:20301027T020000
RDATE:20310330T030000
TZOFFSETFROM:+0200
TZOFFSETTO:+0100
TZNAME:Europe/Prague CET
END:STANDARD
BEGIN:STANDARD
DTSTART:20311026T020000
RDATE:20320328T030000
TZOFFSETFROM:+0200
TZOFFSETTO:+0100
TZNAME:Europe/Prague CET
END:STANDARD
BEGIN:DAYLIGHT
DTSTART:20241024T073000
RDATE:20241027T020000
TZOFFSETFROM:+0100
TZOFFSETTO:+0200
TZNAME:Europe/Prague CEST
END:DAYLIGHT
BEGIN:DAYLIGHT
DTSTART:20250330T030000
RDATE:20251026T020000
TZOFFSETFROM:+0100
TZOFFSETTO:+0200
TZNAME:Europe/Prague CEST
END:DAYLIGHT
BEGIN:DAYLIGHT
DTSTART:20260329T030000
RDATE:20261025T020000
TZOFFSETFROM:+0100
TZOFFSETTO:+0200
TZNAME:Europe/Prague CEST
END:DAYLIGHT
BEGIN:DAYLIGHT
DTSTART:20270328T030000
RDATE:20271031T020000
TZOFFSETFROM:+0100
TZOFFSETTO:+0200
TZNAME:Europe/Prague CEST
END:DAYLIGHT
BEGIN:DAYLIGHT
DTSTART:20280326T030000
RDATE:20281029T020000
TZOFFSETFROM:+0100
TZOFFSETTO:+0200
TZNAME:Europe/Prague CEST
END:DAYLIGHT
BEGIN:DAYLIGHT
DTSTART:20290325T030000
RDATE:20291028T020000
TZOFFSETFROM:+0100
TZOFFSETTO:+0200
TZNAME:Europe/Prague CEST
END:DAYLIGHT
BEGIN:DAYLIGHT
DTSTART:20300331T030000
RDATE:20301027T020000
TZOFFSETFROM:+0100
TZOFFSETTO:+0200
TZNAME:Europe/Prague CEST
END:DAYLIGHT
BEGIN:DAYLIGHT
DTSTART:20310330T030000
RDATE:20311026T020000
TZOFFSETFROM:+0100
TZOFFSETTO:+0200
TZNAME:Europe/Prague CEST
END:DAYLIGHT
END:VTIMEZONE
BEGIN:VEVENT
UID:0b54cc99bcd9a0ae018f4d0c189f328a
CATEGORIES:Sales Exhibitions
CREATED:20250122T160608
SUMMARY:Entomologická burza Mnichov
LOCATION:Mnichov\, DE
DESCRIPTION:Insektenbörse München\nim Kolpinghaus St. Theresia, Hanebergstraße 8, 80637
  München (T +4989126050) die 60. Münchner Insektenbörse statt.\nPreis pro T
 isch (170 x 80 cm): 35,- Euro inkl. 19 % MwSt. Ab 2 Tische ist eine Begleit
 person frei. Weitere Begleitpersonen müssen eine Eintrittskarte lösen. Einr
 itt 5,- Euro.\nAnmeldung per Mail an  (mailto:stefan.loeflath@t-online.de) 
 (mailto:stefan.loeflath@t-online.de)This email address is being protected f
 rom spambots. You need JavaScript enabled to view it.\nBitte beachten:\n\n 
 - Die aktuell von der Bayerischen Landesregierung erlassenen Gesetzte und e
 vtl. Verordnungen zur Pandemie werden vom Veranstalter umgesetzt und sind z
 u beachten!\n - Aufbauten über 80 cm sind aus feuerpolizeilichen Gründen nu
 r an Wandplätzen gestattet\n - Die derzeit gültigen Fassungen des Bundesnat
 urschutzgesetzes und die Bestimmungen des Washingtoner Artenschutzabkommens
  sind strikt zu beachten!\n - Es dürfen nur Insekten ausgestellt werden! Ke
 ine Krebse, Schnecken und Muscheln sowie lebende Spinnen und Skorpione!Zuwi
 derhandlungen gehen mit allen Folgen zu Lasten des jeweiligen Ausstellers.\
 nAnmeldungen bitte per Mail an  (mailto:stefan.loeflath@t-online.de) (mailt
 o:stefan.loeflath@t-online.de)This email address is being protected from sp
 ambots. You need JavaScript enabled to view it.\nPlatzreservierungen an Unb
 ekannte erfolgen nur, wenn die Standmiete vorab per Überweisung bezahlt wur
 de.\n
X-ALT-DESC;FMTTYPE=text/html:<p>Insektenbörse München</p><p>im Kolpinghaus St. Theresia, Hanebergstraße 
 8, 80637 München (T +4989126050) die 60. Münchner Insektenbörse statt.</p><
 p>Preis pro Tisch (170 x 80 cm): 35,- Euro inkl. 19 % MwSt. Ab 2 Tische ist
  eine Begleitperson frei. Weitere Begleitpersonen müssen eine Eintrittskart
 e lösen. Einritt 5,- Euro.</p><p>Anmeldung per Mail an <a href="mailto:stef
 an.loeflath@t-online.de"></a><a href="mailto:stefan.loeflath@t-online.de"><
 /a><joomla-hidden-mail  is-link="" is-email="1" first="c3RlZmFuLmxvZWZsYXRo
 " last="dC1vbmxpbmUuZGU=" text="c3RlZmFuLmxvZWZsYXRoQHQtb25saW5lLmRl" base=
 "" >This email address is being protected from spambots. You need JavaScrip
 t enabled to view it.</joomla-hidden-mail></p><p>Bitte beachten:</p><ul><li
 >Die aktuell von der Bayerischen Landesregierung erlassenen Gesetzte und ev
 tl. Verordnungen zur Pandemie werden vom Veranstalter umgesetzt und sind zu
  beachten!</li><li>Aufbauten über 80 cm sind aus feuerpolizeilichen Gründen
  nur an Wandplätzen gestattet</li><li>Die derzeit gültigen Fassungen des Bu
 ndesnaturschutzgesetzes und die Bestimmungen des Washingtoner Artenschutzab
 kommens sind strikt zu beachten!</li><li>Es dürfen nur Insekten ausgestellt
  werden! Keine Krebse, Schnecken und Muscheln sowie lebende Spinnen und Sko
 rpione!</li></ul><p>Zuwiderhandlungen gehen mit allen Folgen zu Lasten des 
 jeweiligen Ausstellers.</p><p>Anmeldungen bitte per Mail an <a href="mailto
 :stefan.loeflath@t-online.de"></a><a href="mailto:stefan.loeflath@t-online.
 de"></a><joomla-hidden-mail  is-link="" is-email="1" first="c3RlZmFuLmxvZWZ
 sYXRo" last="dC1vbmxpbmUuZGU=" text="c3RlZmFuLmxvZWZsYXRoQHQtb25saW5lLmRl" 
 base="" >This email address is being protected from spambots. You need Java
 Script enabled to view it.</joomla-hidden-mail></p><p>Platzreservierungen a
 n Unbekannte erfolgen nur, wenn die Standmiete vorab per Überweisung bezahl
 t wurde.</p>
CONTACT:E-mail: This email address is being protected from spambots. You need JavaScript enabled to view it.
DTSTAMP:20260420T002420
DTSTART;TZID=Europe/Prague:20251025T073000
DTEND;TZID=Europe/Prague:20251025T130000
SEQUENCE:0
TRANSP:OPAQUE
END:VEVENT
END:VCALENDAR