BEGIN:VCALENDAR
VERSION:2.0
PRODID:-//jEvents 2.0 for Joomla//EN
CALSCALE:GREGORIAN
METHOD:PUBLISH
BEGIN:VTIMEZONE
TZID:Europe/Prague
BEGIN:STANDARD
DTSTART:20241128T090000
RDATE:20250330T030000
TZOFFSETFROM:+0200
TZOFFSETTO:+0100
TZNAME:Europe/Prague CET
END:STANDARD
BEGIN:STANDARD
DTSTART:20251026T020000
RDATE:20260329T030000
TZOFFSETFROM:+0200
TZOFFSETTO:+0100
TZNAME:Europe/Prague CET
END:STANDARD
BEGIN:STANDARD
DTSTART:20261025T020000
RDATE:20270328T030000
TZOFFSETFROM:+0200
TZOFFSETTO:+0100
TZNAME:Europe/Prague CET
END:STANDARD
BEGIN:STANDARD
DTSTART:20271031T020000
RDATE:20280326T030000
TZOFFSETFROM:+0200
TZOFFSETTO:+0100
TZNAME:Europe/Prague CET
END:STANDARD
BEGIN:STANDARD
DTSTART:20281029T020000
RDATE:20290325T030000
TZOFFSETFROM:+0200
TZOFFSETTO:+0100
TZNAME:Europe/Prague CET
END:STANDARD
BEGIN:STANDARD
DTSTART:20291028T020000
RDATE:20300331T030000
TZOFFSETFROM:+0200
TZOFFSETTO:+0100
TZNAME:Europe/Prague CET
END:STANDARD
BEGIN:STANDARD
DTSTART:20301027T020000
RDATE:20310330T030000
TZOFFSETFROM:+0200
TZOFFSETTO:+0100
TZNAME:Europe/Prague CET
END:STANDARD
BEGIN:STANDARD
DTSTART:20311026T020000
RDATE:20320328T030000
TZOFFSETFROM:+0200
TZOFFSETTO:+0100
TZNAME:Europe/Prague CET
END:STANDARD
BEGIN:DAYLIGHT
DTSTART:20250330T030000
RDATE:20251026T020000
TZOFFSETFROM:+0100
TZOFFSETTO:+0200
TZNAME:Europe/Prague CEST
END:DAYLIGHT
BEGIN:DAYLIGHT
DTSTART:20260329T030000
RDATE:20261025T020000
TZOFFSETFROM:+0100
TZOFFSETTO:+0200
TZNAME:Europe/Prague CEST
END:DAYLIGHT
BEGIN:DAYLIGHT
DTSTART:20270328T030000
RDATE:20271031T020000
TZOFFSETFROM:+0100
TZOFFSETTO:+0200
TZNAME:Europe/Prague CEST
END:DAYLIGHT
BEGIN:DAYLIGHT
DTSTART:20280326T030000
RDATE:20281029T020000
TZOFFSETFROM:+0100
TZOFFSETTO:+0200
TZNAME:Europe/Prague CEST
END:DAYLIGHT
BEGIN:DAYLIGHT
DTSTART:20290325T030000
RDATE:20291028T020000
TZOFFSETFROM:+0100
TZOFFSETTO:+0200
TZNAME:Europe/Prague CEST
END:DAYLIGHT
BEGIN:DAYLIGHT
DTSTART:20300331T030000
RDATE:20301027T020000
TZOFFSETFROM:+0100
TZOFFSETTO:+0200
TZNAME:Europe/Prague CEST
END:DAYLIGHT
BEGIN:DAYLIGHT
DTSTART:20310330T030000
RDATE:20311026T020000
TZOFFSETFROM:+0100
TZOFFSETTO:+0200
TZNAME:Europe/Prague CEST
END:DAYLIGHT
END:VTIMEZONE
BEGIN:VEVENT
UID:4768858fcc54c7080084aeb34210a5f4
CATEGORIES:Sales Exhibitions
CREATED:20250917T000249
SUMMARY:Entomologická burza České Budějovice
LOCATION:České Budějovice\, Czech Republic
DESCRIPTION:Borek Social Hall near České Budějovice, Pražská 20. Entomological exchange
  (The Insect's exhibition - Die Insektenbörse) České Budějovice.\nInformati
 on on mobile: +420 720 685 088, Jaroslava Hančová,\n e-mail: This email add
 ress is being protected from spambots. You need JavaScript enabled to view 
 it. \nFacebook:  (https://m.facebook.com/ENTOCB)https://m.facebook.com/ENTO
 CB (https://m.facebook.com/ENTOCB)\n
X-ALT-DESC;FMTTYPE=text/html:<p>Borek Social Hall near České Budějovice, Pražská 20. Entomological excha
 nge (The Insect's exhibition - Die Insektenbörse) České Budějovice.</p><p>I
 nformation on mobile: <strong>+420 720 685 088</strong>, Jaroslava Hančová,
 <br /> e-mail:&nbsp;<joomla-hidden-mail  is-link="" is-email="1" first="aGF
 uY292YWphcmth" last="ZW1haWwuY3o=" text="aGFuY292YWphcmthQGVtYWlsLmN6" base
 ="" >This email address is being protected from spambots. You need JavaScri
 pt enabled to view it.</joomla-hidden-mail>&nbsp;</p><p>Facebook: <a href="
 https://m.facebook.com/ENTOCB"></a><a href="https://m.facebook.com/ENTOCB">
 https://m.facebook.com/ENTOCB</a></p>
CONTACT:Jaroslava Hančová, mobil: +420 720 685 088, e-mail: This email address is being protected from spambots. You need JavaScript enabled to view it. 
DTSTAMP:20260420T002532
DTSTART;TZID=Europe/Prague:20251129T090000
DTEND;TZID=Europe/Prague:20251129T120000
SEQUENCE:0
TRANSP:OPAQUE
END:VEVENT
END:VCALENDAR