BEGIN:VCALENDAR
VERSION:2.0
PRODID:-//jEvents 2.0 for Joomla//EN
CALSCALE:GREGORIAN
METHOD:PUBLISH
BEGIN:VTIMEZONE
TZID:Europe/Prague
BEGIN:STANDARD
DTSTART:20251026T020000
RDATE:20260329T030000
TZOFFSETFROM:+0200
TZOFFSETTO:+0100
TZNAME:Europe/Prague CET
END:STANDARD
BEGIN:STANDARD
DTSTART:20261025T020000
RDATE:20270328T030000
TZOFFSETFROM:+0200
TZOFFSETTO:+0100
TZNAME:Europe/Prague CET
END:STANDARD
BEGIN:STANDARD
DTSTART:20271031T020000
RDATE:20280326T030000
TZOFFSETFROM:+0200
TZOFFSETTO:+0100
TZNAME:Europe/Prague CET
END:STANDARD
BEGIN:STANDARD
DTSTART:20281029T020000
RDATE:20290325T030000
TZOFFSETFROM:+0200
TZOFFSETTO:+0100
TZNAME:Europe/Prague CET
END:STANDARD
BEGIN:STANDARD
DTSTART:20291028T020000
RDATE:20300331T030000
TZOFFSETFROM:+0200
TZOFFSETTO:+0100
TZNAME:Europe/Prague CET
END:STANDARD
BEGIN:STANDARD
DTSTART:20301027T020000
RDATE:20310330T030000
TZOFFSETFROM:+0200
TZOFFSETTO:+0100
TZNAME:Europe/Prague CET
END:STANDARD
BEGIN:STANDARD
DTSTART:20311026T020000
RDATE:20320328T030000
TZOFFSETFROM:+0200
TZOFFSETTO:+0100
TZNAME:Europe/Prague CET
END:STANDARD
BEGIN:DAYLIGHT
DTSTART:20250710T090000
RDATE:20251026T020000
TZOFFSETFROM:+0100
TZOFFSETTO:+0200
TZNAME:Europe/Prague CEST
END:DAYLIGHT
BEGIN:DAYLIGHT
DTSTART:20260329T030000
RDATE:20261025T020000
TZOFFSETFROM:+0100
TZOFFSETTO:+0200
TZNAME:Europe/Prague CEST
END:DAYLIGHT
BEGIN:DAYLIGHT
DTSTART:20270328T030000
RDATE:20271031T020000
TZOFFSETFROM:+0100
TZOFFSETTO:+0200
TZNAME:Europe/Prague CEST
END:DAYLIGHT
BEGIN:DAYLIGHT
DTSTART:20280326T030000
RDATE:20281029T020000
TZOFFSETFROM:+0100
TZOFFSETTO:+0200
TZNAME:Europe/Prague CEST
END:DAYLIGHT
BEGIN:DAYLIGHT
DTSTART:20290325T030000
RDATE:20291028T020000
TZOFFSETFROM:+0100
TZOFFSETTO:+0200
TZNAME:Europe/Prague CEST
END:DAYLIGHT
BEGIN:DAYLIGHT
DTSTART:20300331T030000
RDATE:20301027T020000
TZOFFSETFROM:+0100
TZOFFSETTO:+0200
TZNAME:Europe/Prague CEST
END:DAYLIGHT
BEGIN:DAYLIGHT
DTSTART:20310330T030000
RDATE:20311026T020000
TZOFFSETFROM:+0100
TZOFFSETTO:+0200
TZNAME:Europe/Prague CEST
END:DAYLIGHT
END:VTIMEZONE
BEGIN:VEVENT
UID:63c6180103620645a18bc22d35fa414d
CATEGORIES:Sales Exhibitions, Exhibitions
CREATED:20251220T114830
SUMMARY:Terrabazar Prague
LOCATION:Prague\, Czech Republic
DESCRIPTION:<p>TERRABAZAR <a href="http://terrabazar.cz">http://terrabazar.cz</a> is th
 e oldest exhibition and sales exchange of terrarium animals and exotic bird
 s in Prague, founded by the Prague Terrarium Society and the Club of Friend
 s of Exotic Birds, which takes place regularly once a month.<br /><br />You
  can find us at the First Language Primary School, Horáčkova 1100, Prague 4
 , 140 00 near Pankrác metro station. Entrance for the public is from 9:00 t
 o 12:00.</p><p><strong>Contacts:</strong></p><p>Lenka Kubíčková - main cont
 act +420 721 444 354<br />Marek Pešek - secondary contact +420 607 902 589<
 br />Ing. Miroslav Orlík +420 606 379 809<br />E-mail: <joomla-hidden-mail 
  is-link="" is-email="1" first="dGVycmFiYXphcg==" last="dGVycmFiYXphci5jeg=
 =" text="dGVycmFiYXphckB0ZXJyYWJhemFyLmN6" base="" >This email address is b
 eing protected from spambots. You need JavaScript enabled to view it.</joom
 la-hidden-mail></p><p><strong>Terrarium animals</strong> <br />Terrarium an
 imals directly from breeders: turtles, snakes, lizards, chameleons, geckos,
  pagecons, spiders, beetles, guinea pigs, rabbits, mice, hamsters, rats, fr
 ogs, hedgehogs, exotic birds, etc.<br /><strong>Aquarium and terrarium plan
 ts</strong><br />Aquarium and terrarium plants directly from growers guaran
 teeing maximum quality and a wide selection.<br /><strong>Feed</strong><br 
 />A large selection of different types of food: dry (of course also grains 
 for exotic birds), frozen and live food (crickets, saranchata, larvae, mice
 , rodents), vitamin preparations.<br /><strong>Terrariums and aquariums</st
 rong><br />Equipped and unequipped terrariums and aquariums. Possibility to
  order customized aquarium and terrarium bonding and free transport around 
 Prague.<br /><strong>Equipment of terrariums, aquariums and aviaries</stron
 g><br />Equipment for terrariums, aquariums, aviaries, custom terrariums (p
 lain and decorative with equipment), specialized lamps and fluorescent lamp
 s, heaters, incubators, substrates, decorative branches and bark...<br /><s
 trong>Ceramics</strong><br />A large selection of handmade bowls, cones, sh
 elters and hiding places for terrariums and aquariums.<br /><strong>Literat
 ure</strong><br />Czech and foreign specialized books and magazines.<br /><
 strong>Free expert consultation</strong><br />Free expert consultation dire
 ctly with terrarians, exotic bird breeders and growers with many years of e
 xperience.<br />Free veterinary consultation from terrarium and exotic bird
  veterinarians MVDr. Barbora Demkova and MVDr. Michal Sloboda, Ph.D<br />Mo
 bile veterinary clinic in the parking lot in front of the entrance (MVDr. M
 ichal Sloboda, Ph.D)<br />Legislative and breeding counseling (experienced 
 terrarians from the Terrarium Society Prague)<br /><strong>Refreshments</st
 rong> <br />Possibility of quiet seating and refreshments directly on the p
 remises of the event</p>
CONTACT:Lenka Kubíčková, mobil: +420 721 444 354, e-mail: This email address is being protected from spambots. You need JavaScript enabled to view it.
DTSTAMP:20260419T222840
DTSTART;TZID=Europe/Prague:20260711T090000
DTEND;TZID=Europe/Prague:20260711T120000
SEQUENCE:0
TRANSP:OPAQUE
END:VEVENT
END:VCALENDAR