BEGIN:VCALENDAR
VERSION:2.0
PRODID:-//jEvents 2.0 for Joomla//EN
CALSCALE:GREGORIAN
METHOD:PUBLISH
BEGIN:VTIMEZONE
TZID:Europe/Prague
BEGIN:STANDARD
DTSTART:20251026T020000
RDATE:20260329T030000
TZOFFSETFROM:+0200
TZOFFSETTO:+0100
TZNAME:Europe/Prague CET
END:STANDARD
BEGIN:STANDARD
DTSTART:20261025T020000
RDATE:20270328T030000
TZOFFSETFROM:+0200
TZOFFSETTO:+0100
TZNAME:Europe/Prague CET
END:STANDARD
BEGIN:STANDARD
DTSTART:20271031T020000
RDATE:20280326T030000
TZOFFSETFROM:+0200
TZOFFSETTO:+0100
TZNAME:Europe/Prague CET
END:STANDARD
BEGIN:STANDARD
DTSTART:20281029T020000
RDATE:20290325T030000
TZOFFSETFROM:+0200
TZOFFSETTO:+0100
TZNAME:Europe/Prague CET
END:STANDARD
BEGIN:STANDARD
DTSTART:20291028T020000
RDATE:20300331T030000
TZOFFSETFROM:+0200
TZOFFSETTO:+0100
TZNAME:Europe/Prague CET
END:STANDARD
BEGIN:STANDARD
DTSTART:20301027T020000
RDATE:20310330T030000
TZOFFSETFROM:+0200
TZOFFSETTO:+0100
TZNAME:Europe/Prague CET
END:STANDARD
BEGIN:STANDARD
DTSTART:20311026T020000
RDATE:20320328T030000
TZOFFSETFROM:+0200
TZOFFSETTO:+0100
TZNAME:Europe/Prague CET
END:STANDARD
BEGIN:DAYLIGHT
DTSTART:20251023T090000
RDATE:20251026T020000
TZOFFSETFROM:+0100
TZOFFSETTO:+0200
TZNAME:Europe/Prague CEST
END:DAYLIGHT
BEGIN:DAYLIGHT
DTSTART:20260329T030000
RDATE:20261025T020000
TZOFFSETFROM:+0100
TZOFFSETTO:+0200
TZNAME:Europe/Prague CEST
END:DAYLIGHT
BEGIN:DAYLIGHT
DTSTART:20270328T030000
RDATE:20271031T020000
TZOFFSETFROM:+0100
TZOFFSETTO:+0200
TZNAME:Europe/Prague CEST
END:DAYLIGHT
BEGIN:DAYLIGHT
DTSTART:20280326T030000
RDATE:20281029T020000
TZOFFSETFROM:+0100
TZOFFSETTO:+0200
TZNAME:Europe/Prague CEST
END:DAYLIGHT
BEGIN:DAYLIGHT
DTSTART:20290325T030000
RDATE:20291028T020000
TZOFFSETFROM:+0100
TZOFFSETTO:+0200
TZNAME:Europe/Prague CEST
END:DAYLIGHT
BEGIN:DAYLIGHT
DTSTART:20300331T030000
RDATE:20301027T020000
TZOFFSETFROM:+0100
TZOFFSETTO:+0200
TZNAME:Europe/Prague CEST
END:DAYLIGHT
BEGIN:DAYLIGHT
DTSTART:20310330T030000
RDATE:20311026T020000
TZOFFSETFROM:+0100
TZOFFSETTO:+0200
TZNAME:Europe/Prague CEST
END:DAYLIGHT
END:VTIMEZONE
BEGIN:VEVENT
UID:36170e97b76b1480498e579b7fff4c59
CATEGORIES:Sales Exhibitions, Exhibitions
CREATED:20251220T115031
SUMMARY:Terrabazar Prague
LOCATION:Prague\, Czech Republic
DESCRIPTION:TERRABAZAR http://terrabazar.cz (http://terrabazar.cz) is the oldest exhibi
 tion and sales exchange of terrarium animals and exotic birds in Prague, fo
 unded by the Prague Terrarium Society and the Club of Friends of Exotic Bir
 ds, which takes place regularly once a month.\n\nYou can find us at the Fir
 st Language Primary School, Horáčkova 1100, Prague 4, 140 00 near Pankrác m
 etro station. Entrance for the public is from 9:00 to 12:00.\nContacts:\nLe
 nka Kubíčková - main contact +420 721 444 354\nMarek Pešek - secondary cont
 act +420 607 902 589\nIng. Miroslav Orlík +420 606 379 809\nE-mail: This em
 ail address is being protected from spambots. You need JavaScript enabled t
 o view it.\nTerrarium animals \nTerrarium animals directly from breeders: t
 urtles, snakes, lizards, chameleons, geckos, pagecons, spiders, beetles, gu
 inea pigs, rabbits, mice, hamsters, rats, frogs, hedgehogs, exotic birds, e
 tc.\nAquarium and terrarium plants\nAquarium and terrarium plants directly 
 from growers guaranteeing maximum quality and a wide selection.\nFeed\nA la
 rge selection of different types of food: dry (of course also grains for ex
 otic birds), frozen and live food (crickets, saranchata, larvae, mice, rode
 nts), vitamin preparations.\nTerrariums and aquariums\nEquipped and unequip
 ped terrariums and aquariums. Possibility to order customized aquarium and 
 terrarium bonding and free transport around Prague.\nEquipment of terrarium
 s, aquariums and aviaries\nEquipment for terrariums, aquariums, aviaries, c
 ustom terrariums (plain and decorative with equipment), specialized lamps a
 nd fluorescent lamps, heaters, incubators, substrates, decorative branches 
 and bark...\nCeramics\nA large selection of handmade bowls, cones, shelters
  and hiding places for terrariums and aquariums.\nLiterature\nCzech and for
 eign specialized books and magazines.\nFree expert consultation\nFree exper
 t consultation directly with terrarians, exotic bird breeders and growers w
 ith many years of experience.\nFree veterinary consultation from terrarium 
 and exotic bird veterinarians MVDr. Barbora Demkova and MVDr. Michal Slobod
 a, Ph.D\nMobile veterinary clinic in the parking lot in front of the entran
 ce (MVDr. Michal Sloboda, Ph.D)\nLegislative and breeding counseling (exper
 ienced terrarians from the Terrarium Society Prague)\nRefreshments \nPossib
 ility of quiet seating and refreshments directly on the premises of the eve
 nt\n
X-ALT-DESC;FMTTYPE=text/html:<p>TERRABAZAR <a href="http://terrabazar.cz">http://terrabazar.cz</a> is th
 e oldest exhibition and sales exchange of terrarium animals and exotic bird
 s in Prague, founded by the Prague Terrarium Society and the Club of Friend
 s of Exotic Birds, which takes place regularly once a month.<br /><br />You
  can find us at the First Language Primary School, Horáčkova 1100, Prague 4
 , 140 00 near Pankrác metro station. Entrance for the public is from 9:00 t
 o 12:00.</p><p><strong>Contacts:</strong></p><p>Lenka Kubíčková - main cont
 act +420 721 444 354<br />Marek Pešek - secondary contact +420 607 902 589<
 br />Ing. Miroslav Orlík +420 606 379 809<br />E-mail: <joomla-hidden-mail 
  is-link="" is-email="1" first="dGVycmFiYXphcg==" last="dGVycmFiYXphci5jeg=
 =" text="dGVycmFiYXphckB0ZXJyYWJhemFyLmN6" base="" >This email address is b
 eing protected from spambots. You need JavaScript enabled to view it.</joom
 la-hidden-mail></p><p><strong>Terrarium animals</strong> <br />Terrarium an
 imals directly from breeders: turtles, snakes, lizards, chameleons, geckos,
  pagecons, spiders, beetles, guinea pigs, rabbits, mice, hamsters, rats, fr
 ogs, hedgehogs, exotic birds, etc.<br /><strong>Aquarium and terrarium plan
 ts</strong><br />Aquarium and terrarium plants directly from growers guaran
 teeing maximum quality and a wide selection.<br /><strong>Feed</strong><br 
 />A large selection of different types of food: dry (of course also grains 
 for exotic birds), frozen and live food (crickets, saranchata, larvae, mice
 , rodents), vitamin preparations.<br /><strong>Terrariums and aquariums</st
 rong><br />Equipped and unequipped terrariums and aquariums. Possibility to
  order customized aquarium and terrarium bonding and free transport around 
 Prague.<br /><strong>Equipment of terrariums, aquariums and aviaries</stron
 g><br />Equipment for terrariums, aquariums, aviaries, custom terrariums (p
 lain and decorative with equipment), specialized lamps and fluorescent lamp
 s, heaters, incubators, substrates, decorative branches and bark...<br /><s
 trong>Ceramics</strong><br />A large selection of handmade bowls, cones, sh
 elters and hiding places for terrariums and aquariums.<br /><strong>Literat
 ure</strong><br />Czech and foreign specialized books and magazines.<br /><
 strong>Free expert consultation</strong><br />Free expert consultation dire
 ctly with terrarians, exotic bird breeders and growers with many years of e
 xperience.<br />Free veterinary consultation from terrarium and exotic bird
  veterinarians MVDr. Barbora Demkova and MVDr. Michal Sloboda, Ph.D<br />Mo
 bile veterinary clinic in the parking lot in front of the entrance (MVDr. M
 ichal Sloboda, Ph.D)<br />Legislative and breeding counseling (experienced 
 terrarians from the Terrarium Society Prague)<br /><strong>Refreshments</st
 rong> <br />Possibility of quiet seating and refreshments directly on the p
 remises of the event</p>
CONTACT:Lenka Kubíčková, mobil: +420 721 444 354, e-mail: This email address is being protected from spambots. You need JavaScript enabled to view it.
DTSTAMP:20260420T002229
DTSTART;TZID=Europe/Prague:20261024T090000
DTEND;TZID=Europe/Prague:20261024T120000
SEQUENCE:0
TRANSP:OPAQUE
END:VEVENT
END:VCALENDAR