BEGIN:VCALENDAR
VERSION:2.0
PRODID:-//jEvents 2.0 for Joomla//EN
CALSCALE:GREGORIAN
METHOD:PUBLISH
BEGIN:VTIMEZONE
TZID:Europe/Prague
BEGIN:STANDARD
DTSTART:20251026T020000
RDATE:20260329T030000
TZOFFSETFROM:+0200
TZOFFSETTO:+0100
TZNAME:Europe/Prague CET
END:STANDARD
BEGIN:STANDARD
DTSTART:20261025T020000
RDATE:20270328T030000
TZOFFSETFROM:+0200
TZOFFSETTO:+0100
TZNAME:Europe/Prague CET
END:STANDARD
BEGIN:STANDARD
DTSTART:20271031T020000
RDATE:20280326T030000
TZOFFSETFROM:+0200
TZOFFSETTO:+0100
TZNAME:Europe/Prague CET
END:STANDARD
BEGIN:STANDARD
DTSTART:20281029T020000
RDATE:20290325T030000
TZOFFSETFROM:+0200
TZOFFSETTO:+0100
TZNAME:Europe/Prague CET
END:STANDARD
BEGIN:STANDARD
DTSTART:20291028T020000
RDATE:20300331T030000
TZOFFSETFROM:+0200
TZOFFSETTO:+0100
TZNAME:Europe/Prague CET
END:STANDARD
BEGIN:STANDARD
DTSTART:20301027T020000
RDATE:20310330T030000
TZOFFSETFROM:+0200
TZOFFSETTO:+0100
TZNAME:Europe/Prague CET
END:STANDARD
BEGIN:STANDARD
DTSTART:20311026T020000
RDATE:20320328T030000
TZOFFSETFROM:+0200
TZOFFSETTO:+0100
TZNAME:Europe/Prague CET
END:STANDARD
BEGIN:DAYLIGHT
DTSTART:20250904T080000
RDATE:20251026T020000
TZOFFSETFROM:+0100
TZOFFSETTO:+0200
TZNAME:Europe/Prague CEST
END:DAYLIGHT
BEGIN:DAYLIGHT
DTSTART:20260329T030000
RDATE:20261025T020000
TZOFFSETFROM:+0100
TZOFFSETTO:+0200
TZNAME:Europe/Prague CEST
END:DAYLIGHT
BEGIN:DAYLIGHT
DTSTART:20270328T030000
RDATE:20271031T020000
TZOFFSETFROM:+0100
TZOFFSETTO:+0200
TZNAME:Europe/Prague CEST
END:DAYLIGHT
BEGIN:DAYLIGHT
DTSTART:20280326T030000
RDATE:20281029T020000
TZOFFSETFROM:+0100
TZOFFSETTO:+0200
TZNAME:Europe/Prague CEST
END:DAYLIGHT
BEGIN:DAYLIGHT
DTSTART:20290325T030000
RDATE:20291028T020000
TZOFFSETFROM:+0100
TZOFFSETTO:+0200
TZNAME:Europe/Prague CEST
END:DAYLIGHT
BEGIN:DAYLIGHT
DTSTART:20300331T030000
RDATE:20301027T020000
TZOFFSETFROM:+0100
TZOFFSETTO:+0200
TZNAME:Europe/Prague CEST
END:DAYLIGHT
BEGIN:DAYLIGHT
DTSTART:20310330T030000
RDATE:20311026T020000
TZOFFSETFROM:+0100
TZOFFSETTO:+0200
TZNAME:Europe/Prague CEST
END:DAYLIGHT
END:VTIMEZONE
BEGIN:VEVENT
UID:88daf0f5cbb5035729985ba5799655ae
CATEGORIES:Sales Exhibitions, Exhibitions
CREATED:20251220T115727
SUMMARY:Entomological Exchange Pardubice
LOCATION:Pardubice\, Czech Republic
DESCRIPTION:EXHIBITION OF BUTTERFLIES, BEETLES AND OTHER INSECT GROUPS\nABC-CLUB\nŠTOLB
 OVA 2665, PARDUBICE\n8°°-14°°\nINTERNATIONAL MEETING OF COLLECTORS AND BREE
 DERS, BUYING, SELLING, EXCHANGE, LITERATURE AND ENTOMOLOGICAL SUPPLIES\nENT
 RANCE FEE 100 CZK, CHILDREN UNDER 15 YEARS OF AGE ACCOMPANIED BY PARENTS FR
 EE OF CHARGE\nINFO:\nMILOSLAV KALABZA\n+730 502 847\n+728 752 442\nThis ema
 il address is being protected from spambots. You need JavaScript enabled to
  view it.\n
X-ALT-DESC;FMTTYPE=text/html:<p>EXHIBITION OF BUTTERFLIES, BEETLES AND OTHER INSECT GROUPS</p><p>ABC-CLU
 B<br />ŠTOLBOVA 2665, PARDUBICE<br />8°°-14°°</p><p>INTERNATIONAL MEETING O
 F COLLECTORS AND BREEDERS, BUYING, SELLING, EXCHANGE, LITERATURE AND ENTOMO
 LOGICAL SUPPLIES</p><p>ENTRANCE FEE 100 CZK, CHILDREN UNDER 15 YEARS OF AGE
  ACCOMPANIED BY PARENTS FREE OF CHARGE</p><p>INFO:<br />MILOSLAV KALABZA<br
  />+730 502 847<br />+728 752 442<br /><joomla-hidden-mail  is-link="" is-e
 mail="1" first="bWlsYS5rYWxhYnph" last="ZW1haWwuY3o=" text="bWlsYS5rYWxhYnp
 hQGVtYWlsLmN6" base="" >This email address is being protected from spambots
 . You need JavaScript enabled to view it.</joomla-hidden-mail></p>
CONTACT:Miloslav Kalabza, mobil:+420 730 502 847, e-mail: This email address is being protected from spambots. You need JavaScript enabled to view it.
DTSTAMP:20260420T002430
DTSTART;TZID=Europe/Prague:20260905T080000
DTEND;TZID=Europe/Prague:20260905T140000
SEQUENCE:0
TRANSP:OPAQUE
END:VEVENT
END:VCALENDAR