BEGIN:VCALENDAR
VERSION:2.0
PRODID:-//jEvents 2.0 for Joomla//EN
CALSCALE:GREGORIAN
METHOD:PUBLISH
BEGIN:VTIMEZONE
TZID:Europe/Prague
BEGIN:STANDARD
DTSTART:20250130T080000
RDATE:20250330T030000
TZOFFSETFROM:+0200
TZOFFSETTO:+0100
TZNAME:Europe/Prague CET
END:STANDARD
BEGIN:STANDARD
DTSTART:20251026T020000
RDATE:20260329T030000
TZOFFSETFROM:+0200
TZOFFSETTO:+0100
TZNAME:Europe/Prague CET
END:STANDARD
BEGIN:STANDARD
DTSTART:20261025T020000
RDATE:20270328T030000
TZOFFSETFROM:+0200
TZOFFSETTO:+0100
TZNAME:Europe/Prague CET
END:STANDARD
BEGIN:STANDARD
DTSTART:20271031T020000
RDATE:20280326T030000
TZOFFSETFROM:+0200
TZOFFSETTO:+0100
TZNAME:Europe/Prague CET
END:STANDARD
BEGIN:STANDARD
DTSTART:20281029T020000
RDATE:20290325T030000
TZOFFSETFROM:+0200
TZOFFSETTO:+0100
TZNAME:Europe/Prague CET
END:STANDARD
BEGIN:STANDARD
DTSTART:20291028T020000
RDATE:20300331T030000
TZOFFSETFROM:+0200
TZOFFSETTO:+0100
TZNAME:Europe/Prague CET
END:STANDARD
BEGIN:STANDARD
DTSTART:20301027T020000
RDATE:20310330T030000
TZOFFSETFROM:+0200
TZOFFSETTO:+0100
TZNAME:Europe/Prague CET
END:STANDARD
BEGIN:STANDARD
DTSTART:20311026T020000
RDATE:20320328T030000
TZOFFSETFROM:+0200
TZOFFSETTO:+0100
TZNAME:Europe/Prague CET
END:STANDARD
BEGIN:DAYLIGHT
DTSTART:20250330T030000
RDATE:20251026T020000
TZOFFSETFROM:+0100
TZOFFSETTO:+0200
TZNAME:Europe/Prague CEST
END:DAYLIGHT
BEGIN:DAYLIGHT
DTSTART:20260329T030000
RDATE:20261025T020000
TZOFFSETFROM:+0100
TZOFFSETTO:+0200
TZNAME:Europe/Prague CEST
END:DAYLIGHT
BEGIN:DAYLIGHT
DTSTART:20270328T030000
RDATE:20271031T020000
TZOFFSETFROM:+0100
TZOFFSETTO:+0200
TZNAME:Europe/Prague CEST
END:DAYLIGHT
BEGIN:DAYLIGHT
DTSTART:20280326T030000
RDATE:20281029T020000
TZOFFSETFROM:+0100
TZOFFSETTO:+0200
TZNAME:Europe/Prague CEST
END:DAYLIGHT
BEGIN:DAYLIGHT
DTSTART:20290325T030000
RDATE:20291028T020000
TZOFFSETFROM:+0100
TZOFFSETTO:+0200
TZNAME:Europe/Prague CEST
END:DAYLIGHT
BEGIN:DAYLIGHT
DTSTART:20300331T030000
RDATE:20301027T020000
TZOFFSETFROM:+0100
TZOFFSETTO:+0200
TZNAME:Europe/Prague CEST
END:DAYLIGHT
BEGIN:DAYLIGHT
DTSTART:20310330T030000
RDATE:20311026T020000
TZOFFSETFROM:+0100
TZOFFSETTO:+0200
TZNAME:Europe/Prague CEST
END:DAYLIGHT
END:VTIMEZONE
BEGIN:VEVENT
UID:cf6e5f0391f0f1ab1275b5640c35cc4f
CATEGORIES:Sales Exhibitions, Exhibitions
CREATED:20251220T120844
SUMMARY:International Entomological Exchange Day and Exhibition in Kroměříž
LOCATION:Kroměříž\, Czech Republic
DESCRIPTION:Výstaviště Kroměříž, K Výstavišti 4069/8, Hall B.\nThe programme will inclu
 de exchange, sale and purchase of beetles, butterflies, scarecrows, spiders
  and other invertebrates. There will also be professional literature includ
 ing entomological supplies. Gourmets can look forward to a wide range of in
 sect and other specialties. We have prepared surprise lollipops for childre
 n.\nPrice list\nbasic entrance fee 90,- CZK\nchildren up to 150 cm FREE\nDi
 sabled/PHIV with an accompanying person\nInformation on mobile: +420 604 67
 0 861, Ing. Dan Čagánek, e-mail: This email address is being protected from
  spambots. You need JavaScript enabled to view it. www.hobbyvystaviste.cz (
 https://www.hobbyvystaviste.cz/)\n
X-ALT-DESC;FMTTYPE=text/html:<p><strong>Výstaviště Kroměříž, </strong><strong>K Výstavišti 4069/8, Hall 
 B.</strong></p><p>The programme will include exchange, sale and purchase of
  beetles, butterflies, scarecrows, spiders and other invertebrates. There w
 ill also be professional literature including entomological supplies. Gourm
 ets can look forward to a wide range of insect and other specialties. We ha
 ve prepared surprise lollipops for children.</p><p>Price list<br />basic en
 trance fee 90,- CZK<br />children up to 150 cm FREE<br />Disabled/PHIV with
  an accompanying person</p><p>Information on mobile: <strong>+420 604 670 8
 61</strong>, Ing. Dan Čagánek, e-mail: <joomla-hidden-mail  is-link="" is-e
 mail="0" first="ZGFuLmNhZ2FuZWs=" last="dGlzY2FsaS5jeg==" text="ZGFuLmNhZ2F
 uZWtAdGlzY2FsaS5jeiw=" base="" >This email address is being protected from 
 spambots. You need JavaScript enabled to view it.</joomla-hidden-mail> <a h
 ref="https://www.hobbyvystaviste.cz/">www.hobbyvystaviste.cz</a></p>
CONTACT:Ing. Dan Čagánek, mobil: +420 604 670 861, e-mail: This email address is being protected from spambots. You need JavaScript enabled to view it.
DTSTAMP:20260419T204412
DTSTART;TZID=Europe/Prague:20260131T080000
DTEND;TZID=Europe/Prague:20260131T130000
SEQUENCE:0
TRANSP:OPAQUE
END:VEVENT
END:VCALENDAR