BEGIN:VCALENDAR
VERSION:2.0
PRODID:-//jEvents 2.0 for Joomla//EN
CALSCALE:GREGORIAN
METHOD:PUBLISH
BEGIN:VTIMEZONE
TZID:Europe/Prague
BEGIN:STANDARD
DTSTART:20251026T020000
RDATE:20260329T030000
TZOFFSETFROM:+0200
TZOFFSETTO:+0100
TZNAME:Europe/Prague CET
END:STANDARD
BEGIN:STANDARD
DTSTART:20261025T020000
RDATE:20270328T030000
TZOFFSETFROM:+0200
TZOFFSETTO:+0100
TZNAME:Europe/Prague CET
END:STANDARD
BEGIN:STANDARD
DTSTART:20271031T020000
RDATE:20280326T030000
TZOFFSETFROM:+0200
TZOFFSETTO:+0100
TZNAME:Europe/Prague CET
END:STANDARD
BEGIN:STANDARD
DTSTART:20281029T020000
RDATE:20290325T030000
TZOFFSETFROM:+0200
TZOFFSETTO:+0100
TZNAME:Europe/Prague CET
END:STANDARD
BEGIN:STANDARD
DTSTART:20291028T020000
RDATE:20300331T030000
TZOFFSETFROM:+0200
TZOFFSETTO:+0100
TZNAME:Europe/Prague CET
END:STANDARD
BEGIN:STANDARD
DTSTART:20301027T020000
RDATE:20310330T030000
TZOFFSETFROM:+0200
TZOFFSETTO:+0100
TZNAME:Europe/Prague CET
END:STANDARD
BEGIN:STANDARD
DTSTART:20311026T020000
RDATE:20320328T030000
TZOFFSETFROM:+0200
TZOFFSETTO:+0100
TZNAME:Europe/Prague CET
END:STANDARD
BEGIN:DAYLIGHT
DTSTART:20251009T080000
RDATE:20251026T020000
TZOFFSETFROM:+0100
TZOFFSETTO:+0200
TZNAME:Europe/Prague CEST
END:DAYLIGHT
BEGIN:DAYLIGHT
DTSTART:20260329T030000
RDATE:20261025T020000
TZOFFSETFROM:+0100
TZOFFSETTO:+0200
TZNAME:Europe/Prague CEST
END:DAYLIGHT
BEGIN:DAYLIGHT
DTSTART:20270328T030000
RDATE:20271031T020000
TZOFFSETFROM:+0100
TZOFFSETTO:+0200
TZNAME:Europe/Prague CEST
END:DAYLIGHT
BEGIN:DAYLIGHT
DTSTART:20280326T030000
RDATE:20281029T020000
TZOFFSETFROM:+0100
TZOFFSETTO:+0200
TZNAME:Europe/Prague CEST
END:DAYLIGHT
BEGIN:DAYLIGHT
DTSTART:20290325T030000
RDATE:20291028T020000
TZOFFSETFROM:+0100
TZOFFSETTO:+0200
TZNAME:Europe/Prague CEST
END:DAYLIGHT
BEGIN:DAYLIGHT
DTSTART:20300331T030000
RDATE:20301027T020000
TZOFFSETFROM:+0100
TZOFFSETTO:+0200
TZNAME:Europe/Prague CEST
END:DAYLIGHT
BEGIN:DAYLIGHT
DTSTART:20310330T030000
RDATE:20311026T020000
TZOFFSETFROM:+0100
TZOFFSETTO:+0200
TZNAME:Europe/Prague CEST
END:DAYLIGHT
END:VTIMEZONE
BEGIN:VEVENT
UID:9c89a9ae248c74ab6bb671f47825830b
CATEGORIES:Sales Exhibitions, Exhibitions
CREATED:20251220T120950
SUMMARY:International Entomological Exchange Day and Exhibition in Kroměříž
LOCATION:Kroměříž\, Czech Republic
DESCRIPTION:<p><strong>Výstaviště Kroměříž, </strong><strong>K Výstavišti 4069/8, Hall 
 B.</strong></p><p>The programme will include exchange, sale and purchase of
  beetles, butterflies, scarecrows, spiders and other invertebrates. There w
 ill also be professional literature including entomological supplies. Gourm
 ets can look forward to a wide range of insect and other specialties. We ha
 ve prepared surprise lollipops for children.</p><p>Price list<br />basic en
 trance fee 90,- CZK<br />children up to 150 cm FREE<br />Disabled/PHIV with
  an accompanying person</p><p>Information on mobile: <strong>+420 604 670 8
 61</strong>, Ing. Dan Čagánek, e-mail: <joomla-hidden-mail  is-link="" is-e
 mail="0" first="ZGFuLmNhZ2FuZWs=" last="dGlzY2FsaS5jeg==" text="ZGFuLmNhZ2F
 uZWtAdGlzY2FsaS5jeiw=" base="" >This email address is being protected from 
 spambots. You need JavaScript enabled to view it.</joomla-hidden-mail> <a h
 ref="https://www.hobbyvystaviste.cz/">www.hobbyvystaviste.cz</a></p>
CONTACT:Ing. Dan Čagánek, mobil: +420 604 670 861, e-mail: This email address is being protected from spambots. You need JavaScript enabled to view it.
DTSTAMP:20260419T222839
DTSTART;TZID=Europe/Prague:20261010T080000
DTEND;TZID=Europe/Prague:20261010T130000
SEQUENCE:0
TRANSP:OPAQUE
END:VEVENT
END:VCALENDAR