BEGIN:VCALENDAR
VERSION:2.0
PRODID:-//jEvents 2.0 for Joomla//EN
CALSCALE:GREGORIAN
METHOD:PUBLISH
BEGIN:VTIMEZONE
TZID:Europe/Prague
BEGIN:STANDARD
DTSTART:20250213T080000
RDATE:20250330T030000
TZOFFSETFROM:+0200
TZOFFSETTO:+0100
TZNAME:Europe/Prague CET
END:STANDARD
BEGIN:STANDARD
DTSTART:20251026T020000
RDATE:20260329T030000
TZOFFSETFROM:+0200
TZOFFSETTO:+0100
TZNAME:Europe/Prague CET
END:STANDARD
BEGIN:STANDARD
DTSTART:20261025T020000
RDATE:20270328T030000
TZOFFSETFROM:+0200
TZOFFSETTO:+0100
TZNAME:Europe/Prague CET
END:STANDARD
BEGIN:STANDARD
DTSTART:20271031T020000
RDATE:20280326T030000
TZOFFSETFROM:+0200
TZOFFSETTO:+0100
TZNAME:Europe/Prague CET
END:STANDARD
BEGIN:STANDARD
DTSTART:20281029T020000
RDATE:20290325T030000
TZOFFSETFROM:+0200
TZOFFSETTO:+0100
TZNAME:Europe/Prague CET
END:STANDARD
BEGIN:STANDARD
DTSTART:20291028T020000
RDATE:20300331T030000
TZOFFSETFROM:+0200
TZOFFSETTO:+0100
TZNAME:Europe/Prague CET
END:STANDARD
BEGIN:STANDARD
DTSTART:20301027T020000
RDATE:20310330T030000
TZOFFSETFROM:+0200
TZOFFSETTO:+0100
TZNAME:Europe/Prague CET
END:STANDARD
BEGIN:STANDARD
DTSTART:20311026T020000
RDATE:20320328T030000
TZOFFSETFROM:+0200
TZOFFSETTO:+0100
TZNAME:Europe/Prague CET
END:STANDARD
BEGIN:DAYLIGHT
DTSTART:20250330T030000
RDATE:20251026T020000
TZOFFSETFROM:+0100
TZOFFSETTO:+0200
TZNAME:Europe/Prague CEST
END:DAYLIGHT
BEGIN:DAYLIGHT
DTSTART:20260329T030000
RDATE:20261025T020000
TZOFFSETFROM:+0100
TZOFFSETTO:+0200
TZNAME:Europe/Prague CEST
END:DAYLIGHT
BEGIN:DAYLIGHT
DTSTART:20270328T030000
RDATE:20271031T020000
TZOFFSETFROM:+0100
TZOFFSETTO:+0200
TZNAME:Europe/Prague CEST
END:DAYLIGHT
BEGIN:DAYLIGHT
DTSTART:20280326T030000
RDATE:20281029T020000
TZOFFSETFROM:+0100
TZOFFSETTO:+0200
TZNAME:Europe/Prague CEST
END:DAYLIGHT
BEGIN:DAYLIGHT
DTSTART:20290325T030000
RDATE:20291028T020000
TZOFFSETFROM:+0100
TZOFFSETTO:+0200
TZNAME:Europe/Prague CEST
END:DAYLIGHT
BEGIN:DAYLIGHT
DTSTART:20300331T030000
RDATE:20301027T020000
TZOFFSETFROM:+0100
TZOFFSETTO:+0200
TZNAME:Europe/Prague CEST
END:DAYLIGHT
BEGIN:DAYLIGHT
DTSTART:20310330T030000
RDATE:20311026T020000
TZOFFSETFROM:+0100
TZOFFSETTO:+0200
TZNAME:Europe/Prague CEST
END:DAYLIGHT
END:VTIMEZONE
BEGIN:VEVENT
UID:2a15669d234aa7280e53d804f1b7c945
CATEGORIES:Sales Exhibitions, Lectures
CREATED:20251220T122723
SUMMARY:Exchange Day of the Czech Entomological Society (ČSE) Prague
LOCATION:Prague\, Czech Republic
DESCRIPTION:The exchange day is organised by ČSE - Kulturní dům Barikádníků, Saratovská
  20, Prague 10. The exchange is a meeting place for collectors and breeders
  of beetles, butterflies and other insects. Purchase, sale, exchange and al
 so sale of specialist literature and entomological equipment.\nFor more inf
 ormation, call +420 602 556 557, Mr Jakub Rolčík, or email This email addre
 ss is being protected from spambots. You need JavaScript enabled to view it
 .\nThe exchange day will be followed by a General Assembly (from 1:00 p.m.)
 , including an introductory lecture by Dominik Vondráček (National Museum):
  Insect Gems of Australia.\n
X-ALT-DESC;FMTTYPE=text/html:<p>The exchange day is organised by ČSE - <strong>Kulturní dům Barikádníků,
 </strong> Saratovská 20, Prague 10. The exchange is a meeting place for col
 lectors and breeders of beetles, butterflies and other insects. Purchase, s
 ale, exchange and also sale of specialist literature and entomological equi
 pment.</p><p>For more information, call +420 602 556 557, Mr Jakub Rolčík, 
 or email <joomla-hidden-mail  is-link="" is-email="1" first="amFrdWI=" last
 ="Y2xlcmlkYWUuY3o=" text="amFrdWJAY2xlcmlkYWUuY3o=" base="" >This email add
 ress is being protected from spambots. You need JavaScript enabled to view 
 it.</joomla-hidden-mail></p><p>The exchange day will be followed by a Gener
 al Assembly (from 1:00 p.m.), including an introductory lecture by Dominik 
 Vondráček (National Museum): Insect Gems of Australia.</p>
CONTACT:Jakub Rolčík, mobil: +420 602 556 557, e-mail: This email address is being protected from spambots. You need JavaScript enabled to view it.
DTSTAMP:20260419T204350
DTSTART;TZID=Europe/Prague:20260214T080000
DTEND;TZID=Europe/Prague:20260214T140000
SEQUENCE:0
TRANSP:OPAQUE
END:VEVENT
END:VCALENDAR