BEGIN:VCALENDAR
VERSION:2.0
PRODID:-//jEvents 2.0 for Joomla//EN
CALSCALE:GREGORIAN
METHOD:PUBLISH
BEGIN:VTIMEZONE
TZID:Europe/Prague
BEGIN:STANDARD
DTSTART:20230216T080000
RDATE:20230326T030000
TZOFFSETFROM:+0200
TZOFFSETTO:+0100
TZNAME:Europe/Prague CET
END:STANDARD
BEGIN:STANDARD
DTSTART:20231029T020000
RDATE:20240331T030000
TZOFFSETFROM:+0200
TZOFFSETTO:+0100
TZNAME:Europe/Prague CET
END:STANDARD
BEGIN:STANDARD
DTSTART:20241027T020000
RDATE:20250330T030000
TZOFFSETFROM:+0200
TZOFFSETTO:+0100
TZNAME:Europe/Prague CET
END:STANDARD
BEGIN:STANDARD
DTSTART:20251026T020000
RDATE:20260329T030000
TZOFFSETFROM:+0200
TZOFFSETTO:+0100
TZNAME:Europe/Prague CET
END:STANDARD
BEGIN:STANDARD
DTSTART:20261025T020000
RDATE:20270328T030000
TZOFFSETFROM:+0200
TZOFFSETTO:+0100
TZNAME:Europe/Prague CET
END:STANDARD
BEGIN:STANDARD
DTSTART:20271031T020000
RDATE:20280326T030000
TZOFFSETFROM:+0200
TZOFFSETTO:+0100
TZNAME:Europe/Prague CET
END:STANDARD
BEGIN:STANDARD
DTSTART:20281029T020000
RDATE:20290325T030000
TZOFFSETFROM:+0200
TZOFFSETTO:+0100
TZNAME:Europe/Prague CET
END:STANDARD
BEGIN:STANDARD
DTSTART:20291028T020000
RDATE:20300331T030000
TZOFFSETFROM:+0200
TZOFFSETTO:+0100
TZNAME:Europe/Prague CET
END:STANDARD
BEGIN:STANDARD
DTSTART:20301027T020000
RDATE:20310330T030000
TZOFFSETFROM:+0200
TZOFFSETTO:+0100
TZNAME:Europe/Prague CET
END:STANDARD
BEGIN:STANDARD
DTSTART:20311026T020000
RDATE:20320328T030000
TZOFFSETFROM:+0200
TZOFFSETTO:+0100
TZNAME:Europe/Prague CET
END:STANDARD
BEGIN:DAYLIGHT
DTSTART:20230326T030000
RDATE:20231029T020000
TZOFFSETFROM:+0100
TZOFFSETTO:+0200
TZNAME:Europe/Prague CEST
END:DAYLIGHT
BEGIN:DAYLIGHT
DTSTART:20240331T030000
RDATE:20241027T020000
TZOFFSETFROM:+0100
TZOFFSETTO:+0200
TZNAME:Europe/Prague CEST
END:DAYLIGHT
BEGIN:DAYLIGHT
DTSTART:20250330T030000
RDATE:20251026T020000
TZOFFSETFROM:+0100
TZOFFSETTO:+0200
TZNAME:Europe/Prague CEST
END:DAYLIGHT
BEGIN:DAYLIGHT
DTSTART:20260329T030000
RDATE:20261025T020000
TZOFFSETFROM:+0100
TZOFFSETTO:+0200
TZNAME:Europe/Prague CEST
END:DAYLIGHT
BEGIN:DAYLIGHT
DTSTART:20270328T030000
RDATE:20271031T020000
TZOFFSETFROM:+0100
TZOFFSETTO:+0200
TZNAME:Europe/Prague CEST
END:DAYLIGHT
BEGIN:DAYLIGHT
DTSTART:20280326T030000
RDATE:20281029T020000
TZOFFSETFROM:+0100
TZOFFSETTO:+0200
TZNAME:Europe/Prague CEST
END:DAYLIGHT
BEGIN:DAYLIGHT
DTSTART:20290325T030000
RDATE:20291028T020000
TZOFFSETFROM:+0100
TZOFFSETTO:+0200
TZNAME:Europe/Prague CEST
END:DAYLIGHT
BEGIN:DAYLIGHT
DTSTART:20300331T030000
RDATE:20301027T020000
TZOFFSETFROM:+0100
TZOFFSETTO:+0200
TZNAME:Europe/Prague CEST
END:DAYLIGHT
BEGIN:DAYLIGHT
DTSTART:20310330T030000
RDATE:20311026T020000
TZOFFSETFROM:+0100
TZOFFSETTO:+0200
TZNAME:Europe/Prague CEST
END:DAYLIGHT
END:VTIMEZONE
BEGIN:VEVENT
UID:e57cb38a0cf59b3dd1cc01cffa2ce7d7
CATEGORIES:Sales Exhibitions, Lectures
CREATED:20240201T204740
SUMMARY:Exchange Day CSE
LOCATION:Prague\, Czech Republic
DESCRIPTION:the exchange day is organized by CSE - Kulturní dům Barikádníků, Saratovská
  20, Prague 10. The exchange is a meeting of collectors and breeders of bee
 tles, butterflies and other groups of insects. Buying, selling, exchanging 
 and also selling professional literature and entomol. needs.\n\nInformation
  on mob.: +420 602 556 557, p.Jakub Rolčík, e-mail:  (mailto:jakub@cleridae
 .cz) (mailto:jakub@cleridae.cz)This email address is being protected from s
 pambots. You need JavaScript enabled to view it.\n
X-ALT-DESC;FMTTYPE=text/html:<p>the exchange day is organized by CSE - Kulturní dům Barikádníků, Saratov
 ská 20, Prague 10. The exchange is a meeting of collectors and breeders of 
 beetles, butterflies and other groups of insects. Buying, selling, exchangi
 ng and also selling professional literature and entomol. needs.<br /><br />
 Information on mob.: +420 602 556 557, p.Jakub Rolčík, e-mail:<strong>&nbsp
 ;</strong><a href="mailto:jakub@cleridae.cz"></a><a href="mailto:jakub@cler
 idae.cz"></a><joomla-hidden-mail  is-link="" is-email="1" first="amFrdWI=" 
 last="Y2xlcmlkYWUuY3o=" text="amFrdWJAY2xlcmlkYWUuY3o=" base="" >This email
  address is being protected from spambots. You need JavaScript enabled to v
 iew it.</joomla-hidden-mail></p>
CONTACT:Jakub Rolčík, mobile: +420 602 556 557, e-mail: This email address is being protected from spambots. You need JavaScript enabled to view it.
DTSTAMP:20260420T001004
DTSTART;TZID=Europe/Prague:20240217T080000
DTEND;TZID=Europe/Prague:20240217T140000
SEQUENCE:0
TRANSP:OPAQUE
END:VEVENT
END:VCALENDAR