BEGIN:VCALENDAR
VERSION:2.0
PRODID:-//jEvents 2.0 for Joomla//EN
CALSCALE:GREGORIAN
METHOD:PUBLISH
BEGIN:VTIMEZONE
TZID:Europe/Prague
BEGIN:STANDARD
DTSTART:20231029T020000
RDATE:20240331T030000
TZOFFSETFROM:+0200
TZOFFSETTO:+0100
TZNAME:Europe/Prague CET
END:STANDARD
BEGIN:STANDARD
DTSTART:20241027T020000
RDATE:20250330T030000
TZOFFSETFROM:+0200
TZOFFSETTO:+0100
TZNAME:Europe/Prague CET
END:STANDARD
BEGIN:STANDARD
DTSTART:20251026T020000
RDATE:20260329T030000
TZOFFSETFROM:+0200
TZOFFSETTO:+0100
TZNAME:Europe/Prague CET
END:STANDARD
BEGIN:STANDARD
DTSTART:20261025T020000
RDATE:20270328T030000
TZOFFSETFROM:+0200
TZOFFSETTO:+0100
TZNAME:Europe/Prague CET
END:STANDARD
BEGIN:STANDARD
DTSTART:20271031T020000
RDATE:20280326T030000
TZOFFSETFROM:+0200
TZOFFSETTO:+0100
TZNAME:Europe/Prague CET
END:STANDARD
BEGIN:STANDARD
DTSTART:20281029T020000
RDATE:20290325T030000
TZOFFSETFROM:+0200
TZOFFSETTO:+0100
TZNAME:Europe/Prague CET
END:STANDARD
BEGIN:STANDARD
DTSTART:20291028T020000
RDATE:20300331T030000
TZOFFSETFROM:+0200
TZOFFSETTO:+0100
TZNAME:Europe/Prague CET
END:STANDARD
BEGIN:STANDARD
DTSTART:20301027T020000
RDATE:20310330T030000
TZOFFSETFROM:+0200
TZOFFSETTO:+0100
TZNAME:Europe/Prague CET
END:STANDARD
BEGIN:STANDARD
DTSTART:20311026T020000
RDATE:20320328T030000
TZOFFSETFROM:+0200
TZOFFSETTO:+0100
TZNAME:Europe/Prague CET
END:STANDARD
BEGIN:DAYLIGHT
DTSTART:20231019T080000
RDATE:20231029T020000
TZOFFSETFROM:+0100
TZOFFSETTO:+0200
TZNAME:Europe/Prague CEST
END:DAYLIGHT
BEGIN:DAYLIGHT
DTSTART:20240331T030000
RDATE:20241027T020000
TZOFFSETFROM:+0100
TZOFFSETTO:+0200
TZNAME:Europe/Prague CEST
END:DAYLIGHT
BEGIN:DAYLIGHT
DTSTART:20250330T030000
RDATE:20251026T020000
TZOFFSETFROM:+0100
TZOFFSETTO:+0200
TZNAME:Europe/Prague CEST
END:DAYLIGHT
BEGIN:DAYLIGHT
DTSTART:20260329T030000
RDATE:20261025T020000
TZOFFSETFROM:+0100
TZOFFSETTO:+0200
TZNAME:Europe/Prague CEST
END:DAYLIGHT
BEGIN:DAYLIGHT
DTSTART:20270328T030000
RDATE:20271031T020000
TZOFFSETFROM:+0100
TZOFFSETTO:+0200
TZNAME:Europe/Prague CEST
END:DAYLIGHT
BEGIN:DAYLIGHT
DTSTART:20280326T030000
RDATE:20281029T020000
TZOFFSETFROM:+0100
TZOFFSETTO:+0200
TZNAME:Europe/Prague CEST
END:DAYLIGHT
BEGIN:DAYLIGHT
DTSTART:20290325T030000
RDATE:20291028T020000
TZOFFSETFROM:+0100
TZOFFSETTO:+0200
TZNAME:Europe/Prague CEST
END:DAYLIGHT
BEGIN:DAYLIGHT
DTSTART:20300331T030000
RDATE:20301027T020000
TZOFFSETFROM:+0100
TZOFFSETTO:+0200
TZNAME:Europe/Prague CEST
END:DAYLIGHT
BEGIN:DAYLIGHT
DTSTART:20310330T030000
RDATE:20311026T020000
TZOFFSETFROM:+0100
TZOFFSETTO:+0200
TZNAME:Europe/Prague CEST
END:DAYLIGHT
END:VTIMEZONE
BEGIN:VEVENT
UID:3041b029fb4438b0726f419c1e7fdaf7
CATEGORIES:Sales Exhibitions, Exhibitions
CREATED:20240321T145836
SUMMARY:International entomological exchange day and exhibition Kroměříž
LOCATION:Kromeriz\, Czech Republic
DESCRIPTION:Výstavišti Kroměříž, K Výstavišti 4069/8, Hall B.\nInternational meeting of
  collectors and breeders of beetles, butterflies and other groups of insect
 s. It includes the purchase and sale of entomological supplies, specialist 
 literature and insect tasting.\nInformation on mobile: +420 604 670 861, In
 g. Dan Čagánek, email: This email address is being protected from spambots.
  You need JavaScript enabled to view it.,  www.hobbyvystaviste.cz (https://
 www.hobbyvystaviste.cz/),   invitation (http://www.entosphinx.cz/img/cms/20
 210809_entomo%20MHD_FHD%202.jpg)\n
X-ALT-DESC;FMTTYPE=text/html:<p>Výstavišti Kroměříž, K Výstavišti 4069/8, Hall B.</p><p>International me
 eting of collectors and breeders of beetles, butterflies and other groups o
 f insects. It includes the purchase and sale of entomological supplies, spe
 cialist literature and insect tasting.</p><p>Information on mobile: +420 60
 4 670 861, Ing. Dan Čagánek, email: <joomla-hidden-mail  is-link="" is-emai
 l="1" first="ZGFuLmNhZ2FuZWs=" last="dGlzY2FsaS5jeg==" text="ZGFuLmNhZ2FuZW
 tAdGlzY2FsaS5jeg==" base="" >This email address is being protected from spa
 mbots. You need JavaScript enabled to view it.</joomla-hidden-mail>,&nbsp; 
 <a href="https://www.hobbyvystaviste.cz/">www.hobbyvystaviste.cz</a>,&nbsp;
 &nbsp; <a href="http://www.entosphinx.cz/img/cms/20210809_entomo%20MHD_FHD%
 202.jpg">invitation</a></p>
CONTACT:ng. Dan Čagánek, mobil: +420 604 670 861, e-mail: This email address is being protected from spambots. You need JavaScript enabled to view it.
DTSTAMP:20260420T022147
DTSTART;TZID=Europe/Prague:20241019T080000
DTEND;TZID=Europe/Prague:20241019T130000
SEQUENCE:0
TRANSP:OPAQUE
END:VEVENT
END:VCALENDAR