BEGIN:VCALENDAR
VERSION:2.0
PRODID:-//jEvents 2.0 for Joomla//EN
CALSCALE:GREGORIAN
METHOD:PUBLISH
BEGIN:VTIMEZONE
TZID:Europe/Prague
BEGIN:STANDARD
DTSTART:20231109T090000
RDATE:20240331T030000
TZOFFSETFROM:+0200
TZOFFSETTO:+0100
TZNAME:Europe/Prague CET
END:STANDARD
BEGIN:STANDARD
DTSTART:20241027T020000
RDATE:20250330T030000
TZOFFSETFROM:+0200
TZOFFSETTO:+0100
TZNAME:Europe/Prague CET
END:STANDARD
BEGIN:STANDARD
DTSTART:20251026T020000
RDATE:20260329T030000
TZOFFSETFROM:+0200
TZOFFSETTO:+0100
TZNAME:Europe/Prague CET
END:STANDARD
BEGIN:STANDARD
DTSTART:20261025T020000
RDATE:20270328T030000
TZOFFSETFROM:+0200
TZOFFSETTO:+0100
TZNAME:Europe/Prague CET
END:STANDARD
BEGIN:STANDARD
DTSTART:20271031T020000
RDATE:20280326T030000
TZOFFSETFROM:+0200
TZOFFSETTO:+0100
TZNAME:Europe/Prague CET
END:STANDARD
BEGIN:STANDARD
DTSTART:20281029T020000
RDATE:20290325T030000
TZOFFSETFROM:+0200
TZOFFSETTO:+0100
TZNAME:Europe/Prague CET
END:STANDARD
BEGIN:STANDARD
DTSTART:20291028T020000
RDATE:20300331T030000
TZOFFSETFROM:+0200
TZOFFSETTO:+0100
TZNAME:Europe/Prague CET
END:STANDARD
BEGIN:STANDARD
DTSTART:20301027T020000
RDATE:20310330T030000
TZOFFSETFROM:+0200
TZOFFSETTO:+0100
TZNAME:Europe/Prague CET
END:STANDARD
BEGIN:STANDARD
DTSTART:20311026T020000
RDATE:20320328T030000
TZOFFSETFROM:+0200
TZOFFSETTO:+0100
TZNAME:Europe/Prague CET
END:STANDARD
BEGIN:DAYLIGHT
DTSTART:20240331T030000
RDATE:20241027T020000
TZOFFSETFROM:+0100
TZOFFSETTO:+0200
TZNAME:Europe/Prague CEST
END:DAYLIGHT
BEGIN:DAYLIGHT
DTSTART:20250330T030000
RDATE:20251026T020000
TZOFFSETFROM:+0100
TZOFFSETTO:+0200
TZNAME:Europe/Prague CEST
END:DAYLIGHT
BEGIN:DAYLIGHT
DTSTART:20260329T030000
RDATE:20261025T020000
TZOFFSETFROM:+0100
TZOFFSETTO:+0200
TZNAME:Europe/Prague CEST
END:DAYLIGHT
BEGIN:DAYLIGHT
DTSTART:20270328T030000
RDATE:20271031T020000
TZOFFSETFROM:+0100
TZOFFSETTO:+0200
TZNAME:Europe/Prague CEST
END:DAYLIGHT
BEGIN:DAYLIGHT
DTSTART:20280326T030000
RDATE:20281029T020000
TZOFFSETFROM:+0100
TZOFFSETTO:+0200
TZNAME:Europe/Prague CEST
END:DAYLIGHT
BEGIN:DAYLIGHT
DTSTART:20290325T030000
RDATE:20291028T020000
TZOFFSETFROM:+0100
TZOFFSETTO:+0200
TZNAME:Europe/Prague CEST
END:DAYLIGHT
BEGIN:DAYLIGHT
DTSTART:20300331T030000
RDATE:20301027T020000
TZOFFSETFROM:+0100
TZOFFSETTO:+0200
TZNAME:Europe/Prague CEST
END:DAYLIGHT
BEGIN:DAYLIGHT
DTSTART:20310330T030000
RDATE:20311026T020000
TZOFFSETFROM:+0100
TZOFFSETTO:+0200
TZNAME:Europe/Prague CEST
END:DAYLIGHT
END:VTIMEZONE
BEGIN:VEVENT
UID:1dff45cbd7a6544b4de6a39960cce279
CATEGORIES:Sales Exhibitions, Exhibitions
CREATED:20240321T145932
SUMMARY:Sales exhibition of tropical and European butterflies and beetles, specialist literature, aids, tools for collecting and preparing insects Břeclav
LOCATION:Breclav\, Czech Republic
DESCRIPTION:Cultural House Břeclav. We are organizing a sales exhibition of tropical an
 d European butterflies and beetles, specialist literature, aids, tools for 
 collecting and preparing insects. We ask all participants of the said event
  to comply with existing legal standards and the Washington Convention on t
 he Protection of Animals.\nInformation on mobile: +420 732 424 208, Mr. Jos
 ef Holomek, e-mail: This email address is being protected from spambots. Yo
 u need JavaScript enabled to view it.\n
X-ALT-DESC;FMTTYPE=text/html:<p>Cultural House Břeclav. We are organizing a sales exhibition of tropical
  and European butterflies and beetles, specialist literature, aids, tools f
 or collecting and preparing insects. We ask all participants of the said ev
 ent to comply with existing legal standards and the Washington Convention o
 n the Protection of Animals.</p><p>Information on mobile: +420 732 424 208,
  Mr. Josef Holomek, e-mail: <joomla-hidden-mail  is-link="" is-email="1" fi
 rst="ei1wb2x5eGVuYQ==" last="c2V6bmFtLmN6" text="ei1wb2x5eGVuYUBzZXpuYW0uY3
 o=" base="" >This email address is being protected from spambots. You need 
 JavaScript enabled to view it.</joomla-hidden-mail></p>
CONTACT:Josef Holomek, mobil: +420 732 424 208, e-mail: This email address is being protected from spambots. You need JavaScript enabled to view it.
DTSTAMP:20260420T021941
DTSTART;TZID=Europe/Prague:20241109T090000
DTEND;TZID=Europe/Prague:20241109T130000
SEQUENCE:0
TRANSP:OPAQUE
END:VEVENT
END:VCALENDAR