BEGIN:VCALENDAR
VERSION:2.0
PRODID:-//jEvents 2.0 for Joomla//EN
CALSCALE:GREGORIAN
METHOD:PUBLISH
BEGIN:VTIMEZONE
TZID:Europe/Prague
BEGIN:STANDARD
DTSTART:20251026T020000
RDATE:20260329T030000
TZOFFSETFROM:+0200
TZOFFSETTO:+0100
TZNAME:Europe/Prague CET
END:STANDARD
BEGIN:STANDARD
DTSTART:20261025T020000
RDATE:20270328T030000
TZOFFSETFROM:+0200
TZOFFSETTO:+0100
TZNAME:Europe/Prague CET
END:STANDARD
BEGIN:STANDARD
DTSTART:20271031T020000
RDATE:20280326T030000
TZOFFSETFROM:+0200
TZOFFSETTO:+0100
TZNAME:Europe/Prague CET
END:STANDARD
BEGIN:STANDARD
DTSTART:20281029T020000
RDATE:20290325T030000
TZOFFSETFROM:+0200
TZOFFSETTO:+0100
TZNAME:Europe/Prague CET
END:STANDARD
BEGIN:STANDARD
DTSTART:20291028T020000
RDATE:20300331T030000
TZOFFSETFROM:+0200
TZOFFSETTO:+0100
TZNAME:Europe/Prague CET
END:STANDARD
BEGIN:STANDARD
DTSTART:20301027T020000
RDATE:20310330T030000
TZOFFSETFROM:+0200
TZOFFSETTO:+0100
TZNAME:Europe/Prague CET
END:STANDARD
BEGIN:STANDARD
DTSTART:20311026T020000
RDATE:20320328T030000
TZOFFSETFROM:+0200
TZOFFSETTO:+0100
TZNAME:Europe/Prague CET
END:STANDARD
BEGIN:DAYLIGHT
DTSTART:20251002T090000
RDATE:20251026T020000
TZOFFSETFROM:+0100
TZOFFSETTO:+0200
TZNAME:Europe/Prague CEST
END:DAYLIGHT
BEGIN:DAYLIGHT
DTSTART:20260329T030000
RDATE:20261025T020000
TZOFFSETFROM:+0100
TZOFFSETTO:+0200
TZNAME:Europe/Prague CEST
END:DAYLIGHT
BEGIN:DAYLIGHT
DTSTART:20270328T030000
RDATE:20271031T020000
TZOFFSETFROM:+0100
TZOFFSETTO:+0200
TZNAME:Europe/Prague CEST
END:DAYLIGHT
BEGIN:DAYLIGHT
DTSTART:20280326T030000
RDATE:20281029T020000
TZOFFSETFROM:+0100
TZOFFSETTO:+0200
TZNAME:Europe/Prague CEST
END:DAYLIGHT
BEGIN:DAYLIGHT
DTSTART:20290325T030000
RDATE:20291028T020000
TZOFFSETFROM:+0100
TZOFFSETTO:+0200
TZNAME:Europe/Prague CEST
END:DAYLIGHT
BEGIN:DAYLIGHT
DTSTART:20300331T030000
RDATE:20301027T020000
TZOFFSETFROM:+0100
TZOFFSETTO:+0200
TZNAME:Europe/Prague CEST
END:DAYLIGHT
BEGIN:DAYLIGHT
DTSTART:20310330T030000
RDATE:20311026T020000
TZOFFSETFROM:+0100
TZOFFSETTO:+0200
TZNAME:Europe/Prague CEST
END:DAYLIGHT
END:VTIMEZONE
BEGIN:VEVENT
UID:ffe63d4afa7590b6842f5f500c62c882
CATEGORIES:Sales Exhibitions
CREATED:20260128T214805
SUMMARY:International meeting of collectors and breeders of beetles, butterflies, and other insect groups Prague
LOCATION:Praha\, Česká republika
DESCRIPTION:CITY Conference Centre, Na Strži 65/1702, 140 00 Prague 4\n\n - 3 October 2
 026, 9:00 a.m. – 5:30 p.m.\n - 4 October 2026, 8:00 a.m. – 12:30 p.m.Intern
 ational meeting of collectors and breeders of beetles, butterflies and othe
 r insect groups. The event includes the purchase and sale of entomological 
 supplies and specialist literature.\nInformation: This email address is bei
 ng protected from spambots. You need JavaScript enabled to view it.\n
X-ALT-DESC;FMTTYPE=text/html:<p>CITY Conference Centre, Na Strži 65/1702, 140 00 Prague 4</p><ul><li>3 O
 ctober 2026, 9:00 a.m. – 5:30 p.m.</li><li>4 October 2026, 8:00 a.m. – 12:3
 0 p.m.</li></ul><p>International meeting of collectors and breeders of beet
 les, butterflies and other insect groups. The event includes the purchase a
 nd sale of entomological supplies and specialist literature.</p><p>Informat
 ion: <joomla-hidden-mail  is-link="" is-email="1" first="ZW50b3RlcmEucHJhaG
 E=" last="Z21haWwuY29t" text="ZW50b3RlcmEucHJhaGFAZ21haWwuY29t" base="" >Th
 is email address is being protected from spambots. You need JavaScript enab
 led to view it.</joomla-hidden-mail></p>
CONTACT:This email address is being protected from spambots. You need JavaScript enabled to view it.
DTSTAMP:20260419T223841
DTSTART;TZID=Europe/Prague:20261003T090000
DTEND;TZID=Europe/Prague:20261004T123000
SEQUENCE:0
TRANSP:OPAQUE
END:VEVENT
END:VCALENDAR