BEGIN:VCALENDAR
VERSION:2.0
PRODID:-//jEvents 2.0 for Joomla//EN
CALSCALE:GREGORIAN
METHOD:PUBLISH
BEGIN:VTIMEZONE
TZID:Europe/Prague
BEGIN:STANDARD
DTSTART:20240307T090000
RDATE:20240331T030000
TZOFFSETFROM:+0200
TZOFFSETTO:+0100
TZNAME:Europe/Prague CET
END:STANDARD
BEGIN:STANDARD
DTSTART:20241027T020000
RDATE:20250330T030000
TZOFFSETFROM:+0200
TZOFFSETTO:+0100
TZNAME:Europe/Prague CET
END:STANDARD
BEGIN:STANDARD
DTSTART:20251026T020000
RDATE:20260329T030000
TZOFFSETFROM:+0200
TZOFFSETTO:+0100
TZNAME:Europe/Prague CET
END:STANDARD
BEGIN:STANDARD
DTSTART:20261025T020000
RDATE:20270328T030000
TZOFFSETFROM:+0200
TZOFFSETTO:+0100
TZNAME:Europe/Prague CET
END:STANDARD
BEGIN:STANDARD
DTSTART:20271031T020000
RDATE:20280326T030000
TZOFFSETFROM:+0200
TZOFFSETTO:+0100
TZNAME:Europe/Prague CET
END:STANDARD
BEGIN:STANDARD
DTSTART:20281029T020000
RDATE:20290325T030000
TZOFFSETFROM:+0200
TZOFFSETTO:+0100
TZNAME:Europe/Prague CET
END:STANDARD
BEGIN:STANDARD
DTSTART:20291028T020000
RDATE:20300331T030000
TZOFFSETFROM:+0200
TZOFFSETTO:+0100
TZNAME:Europe/Prague CET
END:STANDARD
BEGIN:STANDARD
DTSTART:20301027T020000
RDATE:20310330T030000
TZOFFSETFROM:+0200
TZOFFSETTO:+0100
TZNAME:Europe/Prague CET
END:STANDARD
BEGIN:STANDARD
DTSTART:20311026T020000
RDATE:20320328T030000
TZOFFSETFROM:+0200
TZOFFSETTO:+0100
TZNAME:Europe/Prague CET
END:STANDARD
BEGIN:DAYLIGHT
DTSTART:20240331T030000
RDATE:20241027T020000
TZOFFSETFROM:+0100
TZOFFSETTO:+0200
TZNAME:Europe/Prague CEST
END:DAYLIGHT
BEGIN:DAYLIGHT
DTSTART:20250330T030000
RDATE:20251026T020000
TZOFFSETFROM:+0100
TZOFFSETTO:+0200
TZNAME:Europe/Prague CEST
END:DAYLIGHT
BEGIN:DAYLIGHT
DTSTART:20260329T030000
RDATE:20261025T020000
TZOFFSETFROM:+0100
TZOFFSETTO:+0200
TZNAME:Europe/Prague CEST
END:DAYLIGHT
BEGIN:DAYLIGHT
DTSTART:20270328T030000
RDATE:20271031T020000
TZOFFSETFROM:+0100
TZOFFSETTO:+0200
TZNAME:Europe/Prague CEST
END:DAYLIGHT
BEGIN:DAYLIGHT
DTSTART:20280326T030000
RDATE:20281029T020000
TZOFFSETFROM:+0100
TZOFFSETTO:+0200
TZNAME:Europe/Prague CEST
END:DAYLIGHT
BEGIN:DAYLIGHT
DTSTART:20290325T030000
RDATE:20291028T020000
TZOFFSETFROM:+0100
TZOFFSETTO:+0200
TZNAME:Europe/Prague CEST
END:DAYLIGHT
BEGIN:DAYLIGHT
DTSTART:20300331T030000
RDATE:20301027T020000
TZOFFSETFROM:+0100
TZOFFSETTO:+0200
TZNAME:Europe/Prague CEST
END:DAYLIGHT
BEGIN:DAYLIGHT
DTSTART:20310330T030000
RDATE:20311026T020000
TZOFFSETFROM:+0100
TZOFFSETTO:+0200
TZNAME:Europe/Prague CEST
END:DAYLIGHT
END:VTIMEZONE
BEGIN:VEVENT
UID:fd3af306eeb45893041ecf3001a92c7c
CATEGORIES:Sales Exhibitions
CREATED:20260128T215052
SUMMARY:Jarní mezinárodní veletrh hmyzu Budapešť
LOCATION:Budapest\, HU
DESCRIPTION:Jarní mezinárodní veletrh hmyzu\nVolksheim Gerasdorf, Stammersdorferstrasse
  354, 2201 Gerasdorf bei Wien\nAndrea Szabó, tel.: 282-9752/0107 m., email:
  This email address is being protected from spambots. You need JavaScript e
 nabled to view it.\nVstupné: 500 - 700 HUF (dítě - dospělý)\n \n
X-ALT-DESC;FMTTYPE=text/html:<p>Jarní mezinárodní veletrh hmyzu</p><p>Volksheim Gerasdorf, Stammersdorfe
 rstrasse 354, 2201 Gerasdorf bei Wien</p><p>Andrea Szabó, tel.: 282-9752/01
 07 m., email: <joomla-hidden-mail  is-link="" is-email="1" first="YW5kaS5ze
 mFibw==" last="a21vLmtpc3Blc3QuaHU=" text="YW5kaS5zemFib0BrbW8ua2lzcGVzdC5o
 dQ==" base="" >This email address is being protected from spambots. You nee
 d JavaScript enabled to view it.</joomla-hidden-mail></p><p>Vstupné: 500 - 
 700 HUF (dítě - dospělý)</p><p>&nbsp;</p>
CONTACT:Szabó Andrea, tel.: 282-9752/0107 m., email: This email address is being protected from spambots. You need JavaScript enabled to view it.
DTSTAMP:20260419T222645
DTSTART;TZID=Europe/Prague:20250308T090000
DTEND;TZID=Europe/Prague:20250308T150000
SEQUENCE:0
TRANSP:OPAQUE
END:VEVENT
END:VCALENDAR