BEGIN:VCALENDAR
VERSION:2.0
PRODID:-//jEvents 2.0 for Joomla//EN
CALSCALE:GREGORIAN
METHOD:PUBLISH
BEGIN:VTIMEZONE
TZID:Europe/Prague
BEGIN:STANDARD
DTSTART:20251127T090000
RDATE:20260329T030000
TZOFFSETFROM:+0200
TZOFFSETTO:+0100
TZNAME:Europe/Prague CET
END:STANDARD
BEGIN:STANDARD
DTSTART:20261025T020000
RDATE:20270328T030000
TZOFFSETFROM:+0200
TZOFFSETTO:+0100
TZNAME:Europe/Prague CET
END:STANDARD
BEGIN:STANDARD
DTSTART:20271031T020000
RDATE:20280326T030000
TZOFFSETFROM:+0200
TZOFFSETTO:+0100
TZNAME:Europe/Prague CET
END:STANDARD
BEGIN:STANDARD
DTSTART:20281029T020000
RDATE:20290325T030000
TZOFFSETFROM:+0200
TZOFFSETTO:+0100
TZNAME:Europe/Prague CET
END:STANDARD
BEGIN:STANDARD
DTSTART:20291028T020000
RDATE:20300331T030000
TZOFFSETFROM:+0200
TZOFFSETTO:+0100
TZNAME:Europe/Prague CET
END:STANDARD
BEGIN:STANDARD
DTSTART:20301027T020000
RDATE:20310330T030000
TZOFFSETFROM:+0200
TZOFFSETTO:+0100
TZNAME:Europe/Prague CET
END:STANDARD
BEGIN:STANDARD
DTSTART:20311026T020000
RDATE:20320328T030000
TZOFFSETFROM:+0200
TZOFFSETTO:+0100
TZNAME:Europe/Prague CET
END:STANDARD
BEGIN:DAYLIGHT
DTSTART:20260329T030000
RDATE:20261025T020000
TZOFFSETFROM:+0100
TZOFFSETTO:+0200
TZNAME:Europe/Prague CEST
END:DAYLIGHT
BEGIN:DAYLIGHT
DTSTART:20270328T030000
RDATE:20271031T020000
TZOFFSETFROM:+0100
TZOFFSETTO:+0200
TZNAME:Europe/Prague CEST
END:DAYLIGHT
BEGIN:DAYLIGHT
DTSTART:20280326T030000
RDATE:20281029T020000
TZOFFSETFROM:+0100
TZOFFSETTO:+0200
TZNAME:Europe/Prague CEST
END:DAYLIGHT
BEGIN:DAYLIGHT
DTSTART:20290325T030000
RDATE:20291028T020000
TZOFFSETFROM:+0100
TZOFFSETTO:+0200
TZNAME:Europe/Prague CEST
END:DAYLIGHT
BEGIN:DAYLIGHT
DTSTART:20300331T030000
RDATE:20301027T020000
TZOFFSETFROM:+0100
TZOFFSETTO:+0200
TZNAME:Europe/Prague CEST
END:DAYLIGHT
BEGIN:DAYLIGHT
DTSTART:20310330T030000
RDATE:20311026T020000
TZOFFSETFROM:+0100
TZOFFSETTO:+0200
TZNAME:Europe/Prague CEST
END:DAYLIGHT
END:VTIMEZONE
BEGIN:VEVENT
UID:92798f9c783ae5b3087b74d00795b0b3
CATEGORIES:Sales Exhibitions
CREATED:20260128T215527
SUMMARY:The Insect´s exhibition České Budějovice
LOCATION:České Budějovice\, Česká republika
DESCRIPTION:<p><strong>Borek Social Hall near České Budějovice, Pražská </strong>20. En
 tomological Exchange (The Insect's Exhibition - Die Insektenbörse) České Bu
 dějovice.</p><p>Information on mobile: <strong>+420 720 685 088</strong>, M
 s Jaroslava Hančová, e-mail: <joomla-hidden-mail  is-link="" is-email="1" f
 irst="aGFuY292YWphcmth" last="ZW1haWwuY3o=" text="aGFuY292YWphcmthQGVtYWlsL
 mN6" base="" >This email address is being protected from spambots. You need
  JavaScript enabled to view it.</joomla-hidden-mail></p><p>Facebook: <a hre
 f="https://m.facebook.com/ENTOCB">https://m.facebook.com/ENTOCB</a></p>
CONTACT:Jaroslava Hančová, mobil: +420 720 685 088, e-mail: This email address is being protected from spambots. You need JavaScript enabled to view it. 
DTSTAMP:20260419T224627
DTSTART;TZID=Europe/Prague:20261128T090000
DTEND;TZID=Europe/Prague:20261128T130000
SEQUENCE:0
TRANSP:OPAQUE
END:VEVENT
END:VCALENDAR