BEGIN:VCALENDAR
VERSION:2.0
PRODID:-//jEvents 2.0 for Joomla//EN
CALSCALE:GREGORIAN
METHOD:PUBLISH
BEGIN:VTIMEZONE
TZID:Europe/Prague
BEGIN:STANDARD
DTSTART:20250327T080000
RDATE:20250330T030000
TZOFFSETFROM:+0200
TZOFFSETTO:+0100
TZNAME:Europe/Prague CET
END:STANDARD
BEGIN:STANDARD
DTSTART:20251026T020000
RDATE:20260329T030000
TZOFFSETFROM:+0200
TZOFFSETTO:+0100
TZNAME:Europe/Prague CET
END:STANDARD
BEGIN:STANDARD
DTSTART:20261025T020000
RDATE:20270328T030000
TZOFFSETFROM:+0200
TZOFFSETTO:+0100
TZNAME:Europe/Prague CET
END:STANDARD
BEGIN:STANDARD
DTSTART:20271031T020000
RDATE:20280326T030000
TZOFFSETFROM:+0200
TZOFFSETTO:+0100
TZNAME:Europe/Prague CET
END:STANDARD
BEGIN:STANDARD
DTSTART:20281029T020000
RDATE:20290325T030000
TZOFFSETFROM:+0200
TZOFFSETTO:+0100
TZNAME:Europe/Prague CET
END:STANDARD
BEGIN:STANDARD
DTSTART:20291028T020000
RDATE:20300331T030000
TZOFFSETFROM:+0200
TZOFFSETTO:+0100
TZNAME:Europe/Prague CET
END:STANDARD
BEGIN:STANDARD
DTSTART:20301027T020000
RDATE:20310330T030000
TZOFFSETFROM:+0200
TZOFFSETTO:+0100
TZNAME:Europe/Prague CET
END:STANDARD
BEGIN:STANDARD
DTSTART:20311026T020000
RDATE:20320328T030000
TZOFFSETFROM:+0200
TZOFFSETTO:+0100
TZNAME:Europe/Prague CET
END:STANDARD
BEGIN:DAYLIGHT
DTSTART:20250330T030000
RDATE:20251026T020000
TZOFFSETFROM:+0100
TZOFFSETTO:+0200
TZNAME:Europe/Prague CEST
END:DAYLIGHT
BEGIN:DAYLIGHT
DTSTART:20260329T030000
RDATE:20261025T020000
TZOFFSETFROM:+0100
TZOFFSETTO:+0200
TZNAME:Europe/Prague CEST
END:DAYLIGHT
BEGIN:DAYLIGHT
DTSTART:20270328T030000
RDATE:20271031T020000
TZOFFSETFROM:+0100
TZOFFSETTO:+0200
TZNAME:Europe/Prague CEST
END:DAYLIGHT
BEGIN:DAYLIGHT
DTSTART:20280326T030000
RDATE:20281029T020000
TZOFFSETFROM:+0100
TZOFFSETTO:+0200
TZNAME:Europe/Prague CEST
END:DAYLIGHT
BEGIN:DAYLIGHT
DTSTART:20290325T030000
RDATE:20291028T020000
TZOFFSETFROM:+0100
TZOFFSETTO:+0200
TZNAME:Europe/Prague CEST
END:DAYLIGHT
BEGIN:DAYLIGHT
DTSTART:20300331T030000
RDATE:20301027T020000
TZOFFSETFROM:+0100
TZOFFSETTO:+0200
TZNAME:Europe/Prague CEST
END:DAYLIGHT
BEGIN:DAYLIGHT
DTSTART:20310330T030000
RDATE:20311026T020000
TZOFFSETFROM:+0100
TZOFFSETTO:+0200
TZNAME:Europe/Prague CEST
END:DAYLIGHT
END:VTIMEZONE
BEGIN:VEVENT
UID:a7af1dc534557e877cd39098ca140cc5
CATEGORIES:Sales Exhibitions, Exhibitions
CREATED:20260128T215801
SUMMARY:International meeting of collectors and breeders of beetles, butterflies and other insect groups in Bratislava
LOCATION:Bratislava\, SK
DESCRIPTION:Slovak Academy of Sciences  premisesin Patrónka, Dúbravská cesta, Bratislav
 a, from 8 a.m. to 12 noon.\nInternational meeting of collectors and breeder
 s of beetles, butterflies and other insect groups. Of course, there will be
  opportunities to buy and sell specialist literature and entomological equi
 pment.\nInformation on mobile: 00421 907 274 379, Ing. Karol Hlavenka, e-ma
 il: This email address is being protected from spambots. You need JavaScrip
 t enabled to view it.\n
X-ALT-DESC;FMTTYPE=text/html:<p><strong>Slovak Academy of Sciences </strong> premises<strong>in Patrónka
 </strong>, Dúbravská cesta, Bratislava, from 8 a.m. to 12 noon.</p><p>Inter
 national meeting of collectors and breeders of beetles, butterflies and oth
 er insect groups. Of course, there will be opportunities to buy and sell sp
 ecialist literature and entomological equipment.</p><p>Information on mobil
 e: <strong>00421 907 274 379</strong>, Ing. Karol Hlavenka, e-mail: <joomla
 -hidden-mail  is-link="" is-email="1" first="aGxhdmVua2Eua2Fyb2w=" last="Z2
 1haWwuY29t" text="aGxhdmVua2Eua2Fyb2xAZ21haWwuY29t" base="" >This email add
 ress is being protected from spambots. You need JavaScript enabled to view 
 it.</joomla-hidden-mail></p>
CONTACT:Ing. Karol Hlavenka, mobil: +421 907 274 379, e-mail: This email address is being protected from spambots. You need JavaScript enabled to view it.
DTSTAMP:20260419T204521
DTSTART;TZID=Europe/Prague:20260328T080000
DTEND;TZID=Europe/Prague:20260328T120000
SEQUENCE:0
TRANSP:OPAQUE
END:VEVENT
END:VCALENDAR