BEGIN:VCALENDAR
VERSION:2.0
PRODID:-//jEvents 2.0 for Joomla//EN
CALSCALE:GREGORIAN
METHOD:PUBLISH
BEGIN:VTIMEZONE
TZID:Europe/Prague
BEGIN:STANDARD
DTSTART:20251026T020000
RDATE:20260329T030000
TZOFFSETFROM:+0200
TZOFFSETTO:+0100
TZNAME:Europe/Prague CET
END:STANDARD
BEGIN:STANDARD
DTSTART:20261025T020000
RDATE:20270328T030000
TZOFFSETFROM:+0200
TZOFFSETTO:+0100
TZNAME:Europe/Prague CET
END:STANDARD
BEGIN:STANDARD
DTSTART:20271031T020000
RDATE:20280326T030000
TZOFFSETFROM:+0200
TZOFFSETTO:+0100
TZNAME:Europe/Prague CET
END:STANDARD
BEGIN:STANDARD
DTSTART:20281029T020000
RDATE:20290325T030000
TZOFFSETFROM:+0200
TZOFFSETTO:+0100
TZNAME:Europe/Prague CET
END:STANDARD
BEGIN:STANDARD
DTSTART:20291028T020000
RDATE:20300331T030000
TZOFFSETFROM:+0200
TZOFFSETTO:+0100
TZNAME:Europe/Prague CET
END:STANDARD
BEGIN:STANDARD
DTSTART:20301027T020000
RDATE:20310330T030000
TZOFFSETFROM:+0200
TZOFFSETTO:+0100
TZNAME:Europe/Prague CET
END:STANDARD
BEGIN:STANDARD
DTSTART:20311026T020000
RDATE:20320328T030000
TZOFFSETFROM:+0200
TZOFFSETTO:+0100
TZNAME:Europe/Prague CET
END:STANDARD
BEGIN:DAYLIGHT
DTSTART:20250911T090000
RDATE:20251026T020000
TZOFFSETFROM:+0100
TZOFFSETTO:+0200
TZNAME:Europe/Prague CEST
END:DAYLIGHT
BEGIN:DAYLIGHT
DTSTART:20260329T030000
RDATE:20261025T020000
TZOFFSETFROM:+0100
TZOFFSETTO:+0200
TZNAME:Europe/Prague CEST
END:DAYLIGHT
BEGIN:DAYLIGHT
DTSTART:20270328T030000
RDATE:20271031T020000
TZOFFSETFROM:+0100
TZOFFSETTO:+0200
TZNAME:Europe/Prague CEST
END:DAYLIGHT
BEGIN:DAYLIGHT
DTSTART:20280326T030000
RDATE:20281029T020000
TZOFFSETFROM:+0100
TZOFFSETTO:+0200
TZNAME:Europe/Prague CEST
END:DAYLIGHT
BEGIN:DAYLIGHT
DTSTART:20290325T030000
RDATE:20291028T020000
TZOFFSETFROM:+0100
TZOFFSETTO:+0200
TZNAME:Europe/Prague CEST
END:DAYLIGHT
BEGIN:DAYLIGHT
DTSTART:20300331T030000
RDATE:20301027T020000
TZOFFSETFROM:+0100
TZOFFSETTO:+0200
TZNAME:Europe/Prague CEST
END:DAYLIGHT
BEGIN:DAYLIGHT
DTSTART:20310330T030000
RDATE:20311026T020000
TZOFFSETFROM:+0100
TZOFFSETTO:+0200
TZNAME:Europe/Prague CEST
END:DAYLIGHT
END:VTIMEZONE
BEGIN:VEVENT
UID:a829c0313ba3c07a8a7f4fe38f88ea25
CATEGORIES:Sales Exhibitions
CREATED:20260128T220845
SUMMARY:Entomological exchange and sale day with an exhibition of invertebrates in Brno
LOCATION:Brno\, Česká republika
DESCRIPTION:Hall of the Workers' House in Brno, Jamborova Street No. 65, tram stop No. 
 9, bus 55, 58, 78. \nThe event will include the sale of entomological mater
 ials, supplies and literature, as well as demonstrations of the work of the
  E.K.J.CH. Entomology Clubs, led by Jiří Chromý.\nInformation: Ing. Jiří Ch
 romý, mobile: +420 730 807 770, e-mail: This email address is being protect
 ed from spambots. You need JavaScript enabled to view it.\n
X-ALT-DESC;FMTTYPE=text/html:<p><strong>Hall of the Workers' House in Brno, </strong>Jamborova Street No
 . 65, tram stop No. 9, bus 55, 58, 78<strong>. </strong></p><p>The event wi
 ll include the sale of entomological materials, supplies and literature, as
  well as demonstrations of the work of the E.K.J.CH. Entomology Clubs, led 
 by Jiří Chromý.</p><p>Information: Ing. Jiří Chromý, mobile: +420 730 807 7
 70, e-mail: <joomla-hidden-mail  is-link="" is-email="1" first="anVyYWNocm9
 teQ==" last="c2V6bmFtLmN6" text="anVyYWNocm9teUBzZXpuYW0uY3o=" base="" >Thi
 s email address is being protected from spambots. You need JavaScript enabl
 ed to view it.</joomla-hidden-mail></p>
CONTACT:Ing. Jiří Chromý, mobil: +420 730 807 770, e-mail: This email address is being protected from spambots. You need JavaScript enabled to view it.
DTSTAMP:20260419T223638
DTSTART;TZID=Europe/Prague:20260912T090000
DTEND;TZID=Europe/Prague:20260912T130000
SEQUENCE:0
TRANSP:OPAQUE
END:VEVENT
END:VCALENDAR