BEGIN:VCALENDAR
VERSION:2.0
PRODID:-//jEvents 2.0 for Joomla//EN
CALSCALE:GREGORIAN
METHOD:PUBLISH
BEGIN:VTIMEZONE
TZID:Europe/Prague
BEGIN:STANDARD
DTSTART:20231207T080000
RDATE:20240331T030000
TZOFFSETFROM:+0200
TZOFFSETTO:+0100
TZNAME:Europe/Prague CET
END:STANDARD
BEGIN:STANDARD
DTSTART:20241027T020000
RDATE:20250330T030000
TZOFFSETFROM:+0200
TZOFFSETTO:+0100
TZNAME:Europe/Prague CET
END:STANDARD
BEGIN:STANDARD
DTSTART:20251026T020000
RDATE:20260329T030000
TZOFFSETFROM:+0200
TZOFFSETTO:+0100
TZNAME:Europe/Prague CET
END:STANDARD
BEGIN:STANDARD
DTSTART:20261025T020000
RDATE:20270328T030000
TZOFFSETFROM:+0200
TZOFFSETTO:+0100
TZNAME:Europe/Prague CET
END:STANDARD
BEGIN:STANDARD
DTSTART:20271031T020000
RDATE:20280326T030000
TZOFFSETFROM:+0200
TZOFFSETTO:+0100
TZNAME:Europe/Prague CET
END:STANDARD
BEGIN:STANDARD
DTSTART:20281029T020000
RDATE:20290325T030000
TZOFFSETFROM:+0200
TZOFFSETTO:+0100
TZNAME:Europe/Prague CET
END:STANDARD
BEGIN:STANDARD
DTSTART:20291028T020000
RDATE:20300331T030000
TZOFFSETFROM:+0200
TZOFFSETTO:+0100
TZNAME:Europe/Prague CET
END:STANDARD
BEGIN:STANDARD
DTSTART:20301027T020000
RDATE:20310330T030000
TZOFFSETFROM:+0200
TZOFFSETTO:+0100
TZNAME:Europe/Prague CET
END:STANDARD
BEGIN:STANDARD
DTSTART:20311026T020000
RDATE:20320328T030000
TZOFFSETFROM:+0200
TZOFFSETTO:+0100
TZNAME:Europe/Prague CET
END:STANDARD
BEGIN:DAYLIGHT
DTSTART:20240331T030000
RDATE:20241027T020000
TZOFFSETFROM:+0100
TZOFFSETTO:+0200
TZNAME:Europe/Prague CEST
END:DAYLIGHT
BEGIN:DAYLIGHT
DTSTART:20250330T030000
RDATE:20251026T020000
TZOFFSETFROM:+0100
TZOFFSETTO:+0200
TZNAME:Europe/Prague CEST
END:DAYLIGHT
BEGIN:DAYLIGHT
DTSTART:20260329T030000
RDATE:20261025T020000
TZOFFSETFROM:+0100
TZOFFSETTO:+0200
TZNAME:Europe/Prague CEST
END:DAYLIGHT
BEGIN:DAYLIGHT
DTSTART:20270328T030000
RDATE:20271031T020000
TZOFFSETFROM:+0100
TZOFFSETTO:+0200
TZNAME:Europe/Prague CEST
END:DAYLIGHT
BEGIN:DAYLIGHT
DTSTART:20280326T030000
RDATE:20281029T020000
TZOFFSETFROM:+0100
TZOFFSETTO:+0200
TZNAME:Europe/Prague CEST
END:DAYLIGHT
BEGIN:DAYLIGHT
DTSTART:20290325T030000
RDATE:20291028T020000
TZOFFSETFROM:+0100
TZOFFSETTO:+0200
TZNAME:Europe/Prague CEST
END:DAYLIGHT
BEGIN:DAYLIGHT
DTSTART:20300331T030000
RDATE:20301027T020000
TZOFFSETFROM:+0100
TZOFFSETTO:+0200
TZNAME:Europe/Prague CEST
END:DAYLIGHT
BEGIN:DAYLIGHT
DTSTART:20310330T030000
RDATE:20311026T020000
TZOFFSETFROM:+0100
TZOFFSETTO:+0200
TZNAME:Europe/Prague CEST
END:DAYLIGHT
END:VTIMEZONE
BEGIN:VEVENT
UID:3b5d84d59e669f70e2a46f2841c74fc1
CATEGORIES:Sales Exhibitions, Exhibitions
CREATED:20240321T150024
SUMMARY:International meeting of collectors and breeders of beetles, butterflies and other groups of insects Bratislava
LOCATION:Bratislava\, Slovakia
DESCRIPTION:Area of the Slovak Academy of Sciences on Patrónka, Dúbravská cesta, Bratis
 lava from 8 a.m. to 12 p.m.\nInternational meeting of collectors and breede
 rs of beetles, butterflies and other groups of insects. Of course, the purc
 hase and sale of specialist literature and entomological supplies.\nInforma
 tion on mobile: 00421 907 274 379, Ing. Karol Hlavenka, e-mail: This email 
 address is being protected from spambots. You need JavaScript enabled to vi
 ew it.\n
X-ALT-DESC;FMTTYPE=text/html:<p>Area of the Slovak Academy of Sciences on Patrónka, Dúbravská cesta, Bra
 tislava from 8 a.m. to 12 p.m.</p><p>International meeting of collectors an
 d breeders of beetles, butterflies and other groups of insects. Of course, 
 the purchase and sale of specialist literature and entomological supplies.<
 /p><p>Information on mobile: 00421 907 274 379, Ing. Karol Hlavenka, e-mail
 : <joomla-hidden-mail  is-link="" is-email="1" first="cnBzcG1h" last="c3Rvb
 mxpbmUuc2s=" text="cnBzcG1hQHN0b25saW5lLnNr" base="" >This email address is
  being protected from spambots. You need JavaScript enabled to view it.</jo
 omla-hidden-mail></p>
CONTACT:Ing. Karol Hlavenka, mobil: +421 907 274 379, e-mail: This email address is being protected from spambots. You need JavaScript enabled to view it.
DTSTAMP:20260420T021942
DTSTART;TZID=Europe/Prague:20241207T080000
DTEND;TZID=Europe/Prague:20241207T120000
SEQUENCE:0
TRANSP:OPAQUE
END:VEVENT
END:VCALENDAR