BEGIN:VCALENDAR
VERSION:2.0
PRODID:-//jEvents 2.0 for Joomla//EN
CALSCALE:GREGORIAN
METHOD:PUBLISH
BEGIN:VTIMEZONE
TZID:Europe/Prague
BEGIN:STANDARD
DTSTART:20251026T020000
RDATE:20260329T030000
TZOFFSETFROM:+0200
TZOFFSETTO:+0100
TZNAME:Europe/Prague CET
END:STANDARD
BEGIN:STANDARD
DTSTART:20261025T020000
RDATE:20270328T030000
TZOFFSETFROM:+0200
TZOFFSETTO:+0100
TZNAME:Europe/Prague CET
END:STANDARD
BEGIN:STANDARD
DTSTART:20271031T020000
RDATE:20280326T030000
TZOFFSETFROM:+0200
TZOFFSETTO:+0100
TZNAME:Europe/Prague CET
END:STANDARD
BEGIN:STANDARD
DTSTART:20281029T020000
RDATE:20290325T030000
TZOFFSETFROM:+0200
TZOFFSETTO:+0100
TZNAME:Europe/Prague CET
END:STANDARD
BEGIN:STANDARD
DTSTART:20291028T020000
RDATE:20300331T030000
TZOFFSETFROM:+0200
TZOFFSETTO:+0100
TZNAME:Europe/Prague CET
END:STANDARD
BEGIN:STANDARD
DTSTART:20301027T020000
RDATE:20310330T030000
TZOFFSETFROM:+0200
TZOFFSETTO:+0100
TZNAME:Europe/Prague CET
END:STANDARD
BEGIN:STANDARD
DTSTART:20311026T020000
RDATE:20320328T030000
TZOFFSETFROM:+0200
TZOFFSETTO:+0100
TZNAME:Europe/Prague CET
END:STANDARD
BEGIN:DAYLIGHT
DTSTART:20251024T083000
RDATE:20251026T020000
TZOFFSETFROM:+0100
TZOFFSETTO:+0200
TZNAME:Europe/Prague CEST
END:DAYLIGHT
BEGIN:DAYLIGHT
DTSTART:20260329T030000
RDATE:20261025T020000
TZOFFSETFROM:+0100
TZOFFSETTO:+0200
TZNAME:Europe/Prague CEST
END:DAYLIGHT
BEGIN:DAYLIGHT
DTSTART:20270328T030000
RDATE:20271031T020000
TZOFFSETFROM:+0100
TZOFFSETTO:+0200
TZNAME:Europe/Prague CEST
END:DAYLIGHT
BEGIN:DAYLIGHT
DTSTART:20280326T030000
RDATE:20281029T020000
TZOFFSETFROM:+0100
TZOFFSETTO:+0200
TZNAME:Europe/Prague CEST
END:DAYLIGHT
BEGIN:DAYLIGHT
DTSTART:20290325T030000
RDATE:20291028T020000
TZOFFSETFROM:+0100
TZOFFSETTO:+0200
TZNAME:Europe/Prague CEST
END:DAYLIGHT
BEGIN:DAYLIGHT
DTSTART:20300331T030000
RDATE:20301027T020000
TZOFFSETFROM:+0100
TZOFFSETTO:+0200
TZNAME:Europe/Prague CEST
END:DAYLIGHT
BEGIN:DAYLIGHT
DTSTART:20310330T030000
RDATE:20311026T020000
TZOFFSETFROM:+0100
TZOFFSETTO:+0200
TZNAME:Europe/Prague CEST
END:DAYLIGHT
END:VTIMEZONE
BEGIN:VEVENT
UID:3d217f94ef63ee8c02540d0cbe8a3ebc
CATEGORIES:Sales Exhibitions
CREATED:20260128T222147
SUMMARY:Munich Entomological Exchange
LOCATION:Mnichov\, DE
DESCRIPTION:<p>62nd Munich Insect Exchange</p><p>at Kolpinghaus St. Theresia, Hanebergs
 traße 8, 80637 Munich (T +4989126050).</p><p>Admission €5.</p><p>Registrati
 on by email to <joomla-hidden-mail  is-link="" is-email="1" first="c3RlZmFu
 LmxvZWZsYXRo" last="dC1vbmxpbmUuZGU=" text="c3RlZmFuLmxvZWZsYXRoQHQtb25saW5
 lLmRl" base="" >This email address is being protected from spambots. You ne
 ed JavaScript enabled to view it.</joomla-hidden-mail></p><p>Please note:</
 p><ul><li>The laws and any regulations currently issued by the Bavarian sta
 te government regarding the pandemic will be implemented by the organiser a
 nd must be observed!</li><li>For fire safety reasons, structures taller tha
 n 80 cm are only permitted on wall spaces.</li><li>The currently valid vers
 ions of the Federal Nature Conservation Act and the provisions of the Washi
 ngton Convention on International Trade in Endangered Species must be stric
 tly observed!</li><li>Only insects may be exhibited! No crabs, snails, muss
 els, live spiders or scorpions!</li></ul><p>Any violations will be at the e
 xpense of the respective exhibitor.</p><p>Please register by emailing <joom
 la-hidden-mail  is-link="" is-email="1" first="c3RlZmFuLmxvZWZsYXRo" last="
 dC1vbmxpbmUuZGU=" text="c3RlZmFuLmxvZWZsYXRoQHQtb25saW5lLmRl" base="" >This
  email address is being protected from spambots. You need JavaScript enable
 d to view it.</joomla-hidden-mail></p><p>Space reservations for unknown per
 sons will only be made if the stand rental fee has been paid in advance by 
 bank transfer.</p>
CONTACT:E-mail: This email address is being protected from spambots. You need JavaScript enabled to view it.
DTSTAMP:20260419T224627
DTSTART;TZID=Europe/Prague:20261025T073000
DTEND;TZID=Europe/Prague:20261025T130000
SEQUENCE:0
TRANSP:OPAQUE
END:VEVENT
END:VCALENDAR