BEGIN:VCALENDAR
VERSION:2.0
PRODID:-//jEvents 2.0 for Joomla//EN
CALSCALE:GREGORIAN
METHOD:PUBLISH
BEGIN:VTIMEZONE
TZID:Europe/Prague
BEGIN:STANDARD
DTSTART:20251113T090000
RDATE:20260329T030000
TZOFFSETFROM:+0200
TZOFFSETTO:+0100
TZNAME:Europe/Prague CET
END:STANDARD
BEGIN:STANDARD
DTSTART:20261025T020000
RDATE:20270328T030000
TZOFFSETFROM:+0200
TZOFFSETTO:+0100
TZNAME:Europe/Prague CET
END:STANDARD
BEGIN:STANDARD
DTSTART:20271031T020000
RDATE:20280326T030000
TZOFFSETFROM:+0200
TZOFFSETTO:+0100
TZNAME:Europe/Prague CET
END:STANDARD
BEGIN:STANDARD
DTSTART:20281029T020000
RDATE:20290325T030000
TZOFFSETFROM:+0200
TZOFFSETTO:+0100
TZNAME:Europe/Prague CET
END:STANDARD
BEGIN:STANDARD
DTSTART:20291028T020000
RDATE:20300331T030000
TZOFFSETFROM:+0200
TZOFFSETTO:+0100
TZNAME:Europe/Prague CET
END:STANDARD
BEGIN:STANDARD
DTSTART:20301027T020000
RDATE:20310330T030000
TZOFFSETFROM:+0200
TZOFFSETTO:+0100
TZNAME:Europe/Prague CET
END:STANDARD
BEGIN:STANDARD
DTSTART:20311026T020000
RDATE:20320328T030000
TZOFFSETFROM:+0200
TZOFFSETTO:+0100
TZNAME:Europe/Prague CET
END:STANDARD
BEGIN:DAYLIGHT
DTSTART:20260329T030000
RDATE:20261025T020000
TZOFFSETFROM:+0100
TZOFFSETTO:+0200
TZNAME:Europe/Prague CEST
END:DAYLIGHT
BEGIN:DAYLIGHT
DTSTART:20270328T030000
RDATE:20271031T020000
TZOFFSETFROM:+0100
TZOFFSETTO:+0200
TZNAME:Europe/Prague CEST
END:DAYLIGHT
BEGIN:DAYLIGHT
DTSTART:20280326T030000
RDATE:20281029T020000
TZOFFSETFROM:+0100
TZOFFSETTO:+0200
TZNAME:Europe/Prague CEST
END:DAYLIGHT
BEGIN:DAYLIGHT
DTSTART:20290325T030000
RDATE:20291028T020000
TZOFFSETFROM:+0100
TZOFFSETTO:+0200
TZNAME:Europe/Prague CEST
END:DAYLIGHT
BEGIN:DAYLIGHT
DTSTART:20300331T030000
RDATE:20301027T020000
TZOFFSETFROM:+0100
TZOFFSETTO:+0200
TZNAME:Europe/Prague CEST
END:DAYLIGHT
BEGIN:DAYLIGHT
DTSTART:20310330T030000
RDATE:20311026T020000
TZOFFSETFROM:+0100
TZOFFSETTO:+0200
TZNAME:Europe/Prague CEST
END:DAYLIGHT
END:VTIMEZONE
BEGIN:VEVENT
UID:95a9601ec7caa4089edb2f950c20ef94
CATEGORIES:Sales Exhibitions, Exhibitions
CREATED:20260128T223210
SUMMARY:Sales exhibition of tropical and European butterflies and beetles, specialist literature, aids, tools for collecting and preparing insects Břeclav
LOCATION:Břeclav\, Česká republika
DESCRIPTION:Břeclav Cultural Centre. We are organising a sales exhibition of tropical a
 nd European butterflies and beetles, specialist literature, aids, tools for
  collecting and preparing insects. We ask all participants in this event to
  comply with current legal standards and the Washington Convention on the P
 rotection of Animals.\nFor more information, please call +420 732 424 208, 
 Mr Josef Holomek, or email This email address is being protected from spamb
 ots. You need JavaScript enabled to view it.\n
X-ALT-DESC;FMTTYPE=text/html:<p><strong>Břeclav Cultural Centre.</strong> We are organising a sales exhi
 bition of tropical and European butterflies and beetles, specialist literat
 ure, aids, tools for collecting and preparing insects. We ask all participa
 nts in this event to comply with current legal standards and the Washington
  Convention on the Protection of Animals.</p><p>For more information, pleas
 e call <strong>+420 732 424 208</strong>, Mr Josef Holomek, or email <jooml
 a-hidden-mail  is-link="" is-email="0" first="ei1wb2x5eGVuYQ==" last="c2V6b
 mFtLmN6" text="ei1wb2x5eGVuYUBzZXpuYW0uY3ou" base="" >This email address is
  being protected from spambots. You need JavaScript enabled to view it.</jo
 omla-hidden-mail></p>
CONTACT:Josef Holomek, mobil: +420 732 424 208, e-mail: This email address is being protected from spambots. You need JavaScript enabled to view it.
DTSTAMP:20260419T222651
DTSTART;TZID=Europe/Prague:20261114T090000
DTEND;TZID=Europe/Prague:20261114T130000
SEQUENCE:0
TRANSP:OPAQUE
END:VEVENT
END:VCALENDAR