BEGIN:VCALENDAR
VERSION:2.0
PRODID:-//jEvents 2.0 for Joomla//EN
CALSCALE:GREGORIAN
METHOD:PUBLISH
BEGIN:VTIMEZONE
TZID:Europe/Prague
BEGIN:STANDARD
DTSTART:20251212T080000
RDATE:20260329T030000
TZOFFSETFROM:+0200
TZOFFSETTO:+0100
TZNAME:Europe/Prague CET
END:STANDARD
BEGIN:STANDARD
DTSTART:20261025T020000
RDATE:20270328T030000
TZOFFSETFROM:+0200
TZOFFSETTO:+0100
TZNAME:Europe/Prague CET
END:STANDARD
BEGIN:STANDARD
DTSTART:20271031T020000
RDATE:20280326T030000
TZOFFSETFROM:+0200
TZOFFSETTO:+0100
TZNAME:Europe/Prague CET
END:STANDARD
BEGIN:STANDARD
DTSTART:20281029T020000
RDATE:20290325T030000
TZOFFSETFROM:+0200
TZOFFSETTO:+0100
TZNAME:Europe/Prague CET
END:STANDARD
BEGIN:STANDARD
DTSTART:20291028T020000
RDATE:20300331T030000
TZOFFSETFROM:+0200
TZOFFSETTO:+0100
TZNAME:Europe/Prague CET
END:STANDARD
BEGIN:STANDARD
DTSTART:20301027T020000
RDATE:20310330T030000
TZOFFSETFROM:+0200
TZOFFSETTO:+0100
TZNAME:Europe/Prague CET
END:STANDARD
BEGIN:STANDARD
DTSTART:20311026T020000
RDATE:20320328T030000
TZOFFSETFROM:+0200
TZOFFSETTO:+0100
TZNAME:Europe/Prague CET
END:STANDARD
BEGIN:DAYLIGHT
DTSTART:20260329T030000
RDATE:20261025T020000
TZOFFSETFROM:+0100
TZOFFSETTO:+0200
TZNAME:Europe/Prague CEST
END:DAYLIGHT
BEGIN:DAYLIGHT
DTSTART:20270328T030000
RDATE:20271031T020000
TZOFFSETFROM:+0100
TZOFFSETTO:+0200
TZNAME:Europe/Prague CEST
END:DAYLIGHT
BEGIN:DAYLIGHT
DTSTART:20280326T030000
RDATE:20281029T020000
TZOFFSETFROM:+0100
TZOFFSETTO:+0200
TZNAME:Europe/Prague CEST
END:DAYLIGHT
BEGIN:DAYLIGHT
DTSTART:20290325T030000
RDATE:20291028T020000
TZOFFSETFROM:+0100
TZOFFSETTO:+0200
TZNAME:Europe/Prague CEST
END:DAYLIGHT
BEGIN:DAYLIGHT
DTSTART:20300331T030000
RDATE:20301027T020000
TZOFFSETFROM:+0100
TZOFFSETTO:+0200
TZNAME:Europe/Prague CEST
END:DAYLIGHT
BEGIN:DAYLIGHT
DTSTART:20310330T030000
RDATE:20311026T020000
TZOFFSETFROM:+0100
TZOFFSETTO:+0200
TZNAME:Europe/Prague CEST
END:DAYLIGHT
END:VTIMEZONE
BEGIN:VEVENT
UID:934d2b9ba373d9f552d8520608444439
CATEGORIES:Sales Exhibitions
CREATED:20260128T223438
SUMMARY:Entomological exchange Bohumín
LOCATION:Bohumín\, Česká republika
DESCRIPTION:Entomological exchange near the Bohumín border.\nSokolovna Bohumín Záblatí,
  735 52 Bohumín\nThis is a meeting of collectors and breeders of beetles, b
 utterflies and other groups of insects. Purchase, sale, exchange and also s
 ale of specialist literature and entomological equipment.\nInformation on m
 obile: +420 731 134 527, Mr Jan Krnáč, www.insectpins.cz, e-mail: This emai
 l address is being protected from spambots. You need JavaScript enabled to 
 view it.\n
X-ALT-DESC;FMTTYPE=text/html:<p>Entomological exchange near the Bohumín border.</p><p>Sokolovna Bohumín 
 Záblatí, 735 52 Bohumín</p><p>This is a meeting of collectors and breeders 
 of beetles, butterflies and other groups of insects. Purchase, sale, exchan
 ge and also sale of specialist literature and entomological equipment.</p><
 p>Information on mobile: +420 731 134 527, Mr Jan Krnáč, www.insectpins.cz,
  e-mail: <joomla-hidden-mail  is-link="" is-email="1" first="aGFsd2lyZQ==" 
 last="Y2VudHJ1bS5jeg==" text="aGFsd2lyZUBjZW50cnVtLmN6" base="" >This email
  address is being protected from spambots. You need JavaScript enabled to v
 iew it.</joomla-hidden-mail></p>
CONTACT:Jan Krnáč, mobil: +420 731 134 527, e-mail: This email address is being protected from spambots. You need JavaScript enabled to view it.
DTSTAMP:20260419T223825
DTSTART;TZID=Europe/Prague:20261213T080000
DTEND;TZID=Europe/Prague:20261213T120000
SEQUENCE:0
TRANSP:OPAQUE
END:VEVENT
END:VCALENDAR