BEGIN:VCALENDAR
VERSION:2.0
PRODID:-//jEvents 2.0 for Joomla//EN
CALSCALE:GREGORIAN
METHOD:PUBLISH
BEGIN:VTIMEZONE
TZID:Europe/Prague
BEGIN:STANDARD
DTSTART:20231208T090000
RDATE:20240331T030000
TZOFFSETFROM:+0200
TZOFFSETTO:+0100
TZNAME:Europe/Prague CET
END:STANDARD
BEGIN:STANDARD
DTSTART:20241027T020000
RDATE:20250330T030000
TZOFFSETFROM:+0200
TZOFFSETTO:+0100
TZNAME:Europe/Prague CET
END:STANDARD
BEGIN:STANDARD
DTSTART:20251026T020000
RDATE:20260329T030000
TZOFFSETFROM:+0200
TZOFFSETTO:+0100
TZNAME:Europe/Prague CET
END:STANDARD
BEGIN:STANDARD
DTSTART:20261025T020000
RDATE:20270328T030000
TZOFFSETFROM:+0200
TZOFFSETTO:+0100
TZNAME:Europe/Prague CET
END:STANDARD
BEGIN:STANDARD
DTSTART:20271031T020000
RDATE:20280326T030000
TZOFFSETFROM:+0200
TZOFFSETTO:+0100
TZNAME:Europe/Prague CET
END:STANDARD
BEGIN:STANDARD
DTSTART:20281029T020000
RDATE:20290325T030000
TZOFFSETFROM:+0200
TZOFFSETTO:+0100
TZNAME:Europe/Prague CET
END:STANDARD
BEGIN:STANDARD
DTSTART:20291028T020000
RDATE:20300331T030000
TZOFFSETFROM:+0200
TZOFFSETTO:+0100
TZNAME:Europe/Prague CET
END:STANDARD
BEGIN:STANDARD
DTSTART:20301027T020000
RDATE:20310330T030000
TZOFFSETFROM:+0200
TZOFFSETTO:+0100
TZNAME:Europe/Prague CET
END:STANDARD
BEGIN:STANDARD
DTSTART:20311026T020000
RDATE:20320328T030000
TZOFFSETFROM:+0200
TZOFFSETTO:+0100
TZNAME:Europe/Prague CET
END:STANDARD
BEGIN:DAYLIGHT
DTSTART:20240331T030000
RDATE:20241027T020000
TZOFFSETFROM:+0100
TZOFFSETTO:+0200
TZNAME:Europe/Prague CEST
END:DAYLIGHT
BEGIN:DAYLIGHT
DTSTART:20250330T030000
RDATE:20251026T020000
TZOFFSETFROM:+0100
TZOFFSETTO:+0200
TZNAME:Europe/Prague CEST
END:DAYLIGHT
BEGIN:DAYLIGHT
DTSTART:20260329T030000
RDATE:20261025T020000
TZOFFSETFROM:+0100
TZOFFSETTO:+0200
TZNAME:Europe/Prague CEST
END:DAYLIGHT
BEGIN:DAYLIGHT
DTSTART:20270328T030000
RDATE:20271031T020000
TZOFFSETFROM:+0100
TZOFFSETTO:+0200
TZNAME:Europe/Prague CEST
END:DAYLIGHT
BEGIN:DAYLIGHT
DTSTART:20280326T030000
RDATE:20281029T020000
TZOFFSETFROM:+0100
TZOFFSETTO:+0200
TZNAME:Europe/Prague CEST
END:DAYLIGHT
BEGIN:DAYLIGHT
DTSTART:20290325T030000
RDATE:20291028T020000
TZOFFSETFROM:+0100
TZOFFSETTO:+0200
TZNAME:Europe/Prague CEST
END:DAYLIGHT
BEGIN:DAYLIGHT
DTSTART:20300331T030000
RDATE:20301027T020000
TZOFFSETFROM:+0100
TZOFFSETTO:+0200
TZNAME:Europe/Prague CEST
END:DAYLIGHT
BEGIN:DAYLIGHT
DTSTART:20310330T030000
RDATE:20311026T020000
TZOFFSETFROM:+0100
TZOFFSETTO:+0200
TZNAME:Europe/Prague CEST
END:DAYLIGHT
END:VTIMEZONE
BEGIN:VEVENT
UID:5b0d115e6ff6d8e91f69c3c65ffc9a05
CATEGORIES:Sales Exhibitions
CREATED:20240321T150254
SUMMARY:Bohumín Entomological Exchange
LOCATION:Bohumin\, Czech Republic
DESCRIPTION:Entomological exchange at the border - takes place in new premises - Hotel 
 Pod Zeleným dubem, nám. Svobody 37, 735 81 Bohumín.\nThis is a meeting of c
 ollectors and breeders of beetles, butterflies and other groups of insects.
  Buying, selling, exchanging and also selling professional literature and e
 ntomol. needs.\nInformation on mobile: +420 731 134 527, p. Jan Krnáč, www.
 insectpins.cz, e-mail: This email address is being protected from spambots.
  You need JavaScript enabled to view it.\n
X-ALT-DESC;FMTTYPE=text/html:<p>Entomological exchange at the border - takes place in new premises - Hot
 el Pod Zeleným dubem, nám. Svobody 37, 735 81 Bohumín.</p><p>This is a meet
 ing of collectors and breeders of beetles, butterflies and other groups of 
 insects. Buying, selling, exchanging and also selling professional literatu
 re and entomol. needs.</p><p>Information on mobile: +420 731 134 527, p. Ja
 n Krnáč, www.insectpins.cz, e-mail: <joomla-hidden-mail  is-link="" is-emai
 l="1" first="aGFsd2lyZQ==" last="Y2VudHJ1bS5jeg==" text="aGFsd2lyZUBjZW50cn
 VtLmN6" base="" >This email address is being protected from spambots. You n
 eed JavaScript enabled to view it.</joomla-hidden-mail></p>
CONTACT:Jan Krnáč, mobil: +420 731 134 527, e-mail: This email address is being protected from spambots. You need JavaScript enabled to view it.
DTSTAMP:20260420T021942
DTSTART;TZID=Europe/Prague:20241208T090000
DTEND;TZID=Europe/Prague:20241208T120000
SEQUENCE:0
TRANSP:OPAQUE
END:VEVENT
END:VCALENDAR