BEGIN:VCALENDAR
VERSION:2.0
PRODID:-//jEvents 2.0 for Joomla//EN
CALSCALE:GREGORIAN
METHOD:PUBLISH
BEGIN:VTIMEZONE
TZID:Europe/Prague
BEGIN:STANDARD
DTSTART:20231029T020000
RDATE:20240331T030000
TZOFFSETFROM:+0200
TZOFFSETTO:+0100
TZNAME:Europe/Prague CET
END:STANDARD
BEGIN:STANDARD
DTSTART:20241027T020000
RDATE:20250330T030000
TZOFFSETFROM:+0200
TZOFFSETTO:+0100
TZNAME:Europe/Prague CET
END:STANDARD
BEGIN:STANDARD
DTSTART:20251026T020000
RDATE:20260329T030000
TZOFFSETFROM:+0200
TZOFFSETTO:+0100
TZNAME:Europe/Prague CET
END:STANDARD
BEGIN:STANDARD
DTSTART:20261025T020000
RDATE:20270328T030000
TZOFFSETFROM:+0200
TZOFFSETTO:+0100
TZNAME:Europe/Prague CET
END:STANDARD
BEGIN:STANDARD
DTSTART:20271031T020000
RDATE:20280326T030000
TZOFFSETFROM:+0200
TZOFFSETTO:+0100
TZNAME:Europe/Prague CET
END:STANDARD
BEGIN:STANDARD
DTSTART:20281029T020000
RDATE:20290325T030000
TZOFFSETFROM:+0200
TZOFFSETTO:+0100
TZNAME:Europe/Prague CET
END:STANDARD
BEGIN:STANDARD
DTSTART:20291028T020000
RDATE:20300331T030000
TZOFFSETFROM:+0200
TZOFFSETTO:+0100
TZNAME:Europe/Prague CET
END:STANDARD
BEGIN:STANDARD
DTSTART:20301027T020000
RDATE:20310330T030000
TZOFFSETFROM:+0200
TZOFFSETTO:+0100
TZNAME:Europe/Prague CET
END:STANDARD
BEGIN:STANDARD
DTSTART:20311026T020000
RDATE:20320328T030000
TZOFFSETFROM:+0200
TZOFFSETTO:+0100
TZNAME:Europe/Prague CET
END:STANDARD
BEGIN:DAYLIGHT
DTSTART:20230810T083000
RDATE:20231029T020000
TZOFFSETFROM:+0100
TZOFFSETTO:+0200
TZNAME:Europe/Prague CEST
END:DAYLIGHT
BEGIN:DAYLIGHT
DTSTART:20240331T030000
RDATE:20241027T020000
TZOFFSETFROM:+0100
TZOFFSETTO:+0200
TZNAME:Europe/Prague CEST
END:DAYLIGHT
BEGIN:DAYLIGHT
DTSTART:20250330T030000
RDATE:20251026T020000
TZOFFSETFROM:+0100
TZOFFSETTO:+0200
TZNAME:Europe/Prague CEST
END:DAYLIGHT
BEGIN:DAYLIGHT
DTSTART:20260329T030000
RDATE:20261025T020000
TZOFFSETFROM:+0100
TZOFFSETTO:+0200
TZNAME:Europe/Prague CEST
END:DAYLIGHT
BEGIN:DAYLIGHT
DTSTART:20270328T030000
RDATE:20271031T020000
TZOFFSETFROM:+0100
TZOFFSETTO:+0200
TZNAME:Europe/Prague CEST
END:DAYLIGHT
BEGIN:DAYLIGHT
DTSTART:20280326T030000
RDATE:20281029T020000
TZOFFSETFROM:+0100
TZOFFSETTO:+0200
TZNAME:Europe/Prague CEST
END:DAYLIGHT
BEGIN:DAYLIGHT
DTSTART:20290325T030000
RDATE:20291028T020000
TZOFFSETFROM:+0100
TZOFFSETTO:+0200
TZNAME:Europe/Prague CEST
END:DAYLIGHT
BEGIN:DAYLIGHT
DTSTART:20300331T030000
RDATE:20301027T020000
TZOFFSETFROM:+0100
TZOFFSETTO:+0200
TZNAME:Europe/Prague CEST
END:DAYLIGHT
BEGIN:DAYLIGHT
DTSTART:20310330T030000
RDATE:20311026T020000
TZOFFSETFROM:+0100
TZOFFSETTO:+0200
TZNAME:Europe/Prague CEST
END:DAYLIGHT
END:VTIMEZONE
BEGIN:VEVENT
UID:29ea85a7798c9c6cc00e30bc5cabb406
CATEGORIES:Sales Exhibitions
CREATED:20240321T152042
SUMMARY:Terrabazar Prague
LOCATION:Prague\, Czech Republic
DESCRIPTION:TERRABAZAR http://terrabazar.cz (http://terrabazar.cz) is the oldest exhibi
 tion and sales exchange of terrarium animals and exotic birds in Prague, fo
 unded by the Terrarist Society Prague and the Club of Friends of Exotic Bir
 ds, which takes place regularly once a month.\nYou can find us: První jazyk
 ová elementary school, Horáčkova 1100, Prague 4, 140 00 near the Pankrác me
 tro station. Admission to the public is from 8:30 a.m. to 12:00 p.m.\nWhat 
 you will see and can buy at TERRABAZAAR: • Terrarium animals directly from 
 breeders: turtles, snakes, lizards, chameleons, geckos, exotic birds, spide
 rs, bugs, guinea pigs, rabbits, mice, frogs, hedgehogs, etc. • Exotic birds
  directly from breeders •Aquarium and terrarium plants directly from grower
 s •A large selection of different types of feed: dry (grains for exotic bir
 ds), frozen and live feed (crickets, locusts, larvae, mice, rodents), vitam
 in preparations •Literature: Czech and foreign specialized books and magazi
 nes •Equipped and unequipped terrariums and aquariums. Possibility to order
  custom-made gluing of aquariums and terrariums with free delivery in Pragu
 e. • Equipment for terrariums and aviaries: own terrariums (simple and deco
 rative with equipment), specialized lamps and fluorescent lights, heaters, 
 incubators, substrates, decorative branches and bark... • Free expert consu
 ltation directly with terrarists, breeders of exotic birds and growers with
  many years of experience experience •Exclusive opportunity to buy at cheap
 er prices than from end traders on almost 1000 m² of business area •Free ve
 terinary consultation from an expert on terrarium animals and exotic birds 
 MVDr. Sebastian Franco •Legislative and breeding consultancy (experienced t
 errarists from the ranks of the Prague Terraristka Society and the Club of 
 Friends of Exotic Birds) •Rescue station for exotic birds Company Laguna.\n
X-ALT-DESC;FMTTYPE=text/html:<p>TERRABAZAR <a href="http://terrabazar.cz">http://terrabazar.cz</a> is th
 e oldest exhibition and sales exchange of terrarium animals and exotic bird
 s in Prague, founded by the Terrarist Society Prague and the Club of Friend
 s of Exotic Birds, which takes place regularly once a month.</p><p>You can 
 find us: První jazyková elementary school, Horáčkova 1100, Prague 4, 140 00
  near the Pankrác metro station. Admission to the public is from 8:30 a.m. 
 to 12:00 p.m.</p><p>What you will see and can buy at TERRABAZAAR: • Terrari
 um animals directly from breeders: turtles, snakes, lizards, chameleons, ge
 ckos, exotic birds, spiders, bugs, guinea pigs, rabbits, mice, frogs, hedge
 hogs, etc. • Exotic birds directly from breeders •Aquarium and terrarium pl
 ants directly from growers •A large selection of different types of feed: d
 ry (grains for exotic birds), frozen and live feed (crickets, locusts, larv
 ae, mice, rodents), vitamin preparations •Literature: Czech and foreign spe
 cialized books and magazines •Equipped and unequipped terrariums and aquari
 ums. Possibility to order custom-made gluing of aquariums and terrariums wi
 th free delivery in Prague. • Equipment for terrariums and aviaries: own te
 rrariums (simple and decorative with equipment), specialized lamps and fluo
 rescent lights, heaters, incubators, substrates, decorative branches and ba
 rk... • Free expert consultation directly with terrarists, breeders of exot
 ic birds and growers with many years of experience experience •Exclusive op
 portunity to buy at cheaper prices than from end traders on almost 1000 m² 
 of business area •Free veterinary consultation from an expert on terrarium 
 animals and exotic birds MVDr. Sebastian Franco •Legislative and breeding c
 onsultancy (experienced terrarists from the ranks of the Prague Terraristka
  Society and the Club of Friends of Exotic Birds) •Rescue station for exoti
 c birds Company Laguna.</p>
CONTACT:Lenka Kubíčková, mobil: +420 721 444 354, e-mail: This email address is being protected from spambots. You need JavaScript enabled to view it.
DTSTAMP:20260420T021846
DTSTART;TZID=Europe/Prague:20240810T083000
DTEND;TZID=Europe/Prague:20240810T120000
SEQUENCE:0
TRANSP:OPAQUE
END:VEVENT
END:VCALENDAR